Workbook
Name StartDate: 'Unavailability Data'!#REF!

Sheet Summary (MAY-NOV)
A1: Days Unavailable to Hydro (Excluding Portable Maintenance)
B2: 2021 | C2: 2022 | D2: 2023 | E2: 2024 | F2: 2025 | G2: Average
A3: Portable P1 | B3: =COUNTIF('Unavailability Data'!DR6:LW6,"U") -> 170 | C3: =COUNTIF('Unavailability Data'!DR15:LW15,"U") -> 54 | D3: =COUNTIF('Unavailability Data'!DR24:LW24,"U") -> 96 | E3: =COUNTIF('Unavailability Data'!DS33:LX33,"U") -> 108 | F3: =COUNTIF('Unavailability Data'!DR42:LW42,"U") -> 56 | G3: =AVERAGE(B3:F3) -> 96.8 | K3: Average Usage | L3: 2021 | M3: 2022 | N3: 2023 | O3: 2024 | P3: 2025 | Q3: Average | W3: 4 Portable Substations + * 5 Portable 2030 - 2031
A4: Portable P3 | B4: =COUNTIF('Unavailability Data'!DR7:LW7,"U") -> 191 | C4: =COUNTIF('Unavailability Data'!DR16:LW16,"U") -> 80 | D4: =COUNTIF('Unavailability Data'!DR25:LW25,"U") -> 100 | E4: =COUNTIF('Unavailability Data'!DS34:LX34,"U") -> 40 | F4: =COUNTIF('Unavailability Data'!DR43:LW43,"U") -> 42 | G4: =AVERAGE(B4:F4) -> 90.6 | K4: Portable Maint | L4: =AVERAGE(B58:B61) -> 0 | M4: =AVERAGE(C58:C61) -> 0.015186916 | N4: =AVERAGE(D58:D61) -> 0.046728972 | O4: =AVERAGE(E58:E61) -> 0.074766355 | P4: =AVERAGE(F58:F61) -> 0.086448598 | Q4: =AVERAGE(L4:P4) -> 0.044626168 | W4: Year | X4: Typical Usage | Y4: Transformer Replacement | Z4: Emergency Standby Spare | AA4: Max Capacity
A5: Portable P4 | B5: =COUNTIF('Unavailability Data'!DR8:LW8,"U") -> 196 | C5: =COUNTIF('Unavailability Data'!DR17:LW17,"U") -> 95 | D5: =COUNTIF('Unavailability Data'!DR26:LW26,"U") -> 141 | E5: =COUNTIF('Unavailability Data'!DS35:LX35,"U") -> 150 | F5: =COUNTIF('Unavailability Data'!DR44:LW44,"U") -> 49 | G5: =AVERAGE(B5:F5) -> 126.2 | K5: Capital | L5: =AVERAGE(B10:B13)-L7 -> 0.64252336 | M5: =AVERAGE(C10:C13)-M7 -> 0.3364486 | N5: =AVERAGE(D10:D13)-N7 -> 0.4228972 | O5: =AVERAGE(E10:E13)-O7 -> 0.20911215 | P5: =AVERAGE(F10:F13)-P7 -> 0.17990654 | Q5: =AVERAGE(L5:P5) -> 0.35817757 | W5: 2021 | X5: =SUM(L4:L7) -> 0.66121495 | Y5: 0 | Z5: 0.25 | AA5: 1
A6: Portable P5 | B6: =COUNTIF('Unavailability Data'!DR9:LW9,"U") -> 0 | C6: =COUNTIF('Unavailability Data'!DR18:LW18,"U") -> 136 | D6: =COUNTIF('Unavailability Data'!DR27:LW27,"U") -> 214 | E6: =COUNTIF('Unavailability Data'!DS36:LX36,"U") -> 0 | F6: =COUNTIF('Unavailability Data'!DR45:LW45,"U") -> 196 | G6: =AVERAGE(B6:F6) -> 109.2 | K6: Others | L6: =AVERAGE(COUNTIF('Unavailability Data'!DR6:LW6,"H")/214,COUNTIF('Unavailability Data'!DR7:LW7,"H")/214,COUNTIF('Unavailability Data'!DR8:LW8,"H")/214,COUNTIF('Unavailability Data'!DR9:LW9,"H")/214) -> 0.010514019 | M6: =AVERAGE(COUNTIF('Unavailability Data'!DR15:LW15,"H")/214,COUNTIF('Unavailability Data'!DR16:LW16,"H")/214,COUNTIF('Unavailability Data'!DR17:LW17,"H")/214,COUNTIF('Unavailability Data'!DR18:LW18,"H")/214) -> 0.11214953 | N6: =AVERAGE(COUNTIF('Unavailability Data'!DR24:LW24,"H")/214,COUNTIF('Unavailability Data'!DR25:LW25,"H")/214,COUNTIF('Unavailability Data'!DR26:LW26,"H")/214,COUNTIF('Unavailability Data'!DR27:LW27,"H")/214) -> 0.030373832 | O6: =AVERAGE(COUNTIF('Unavailability Data'!DR33:LW33,"H")/214,COUNTIF('Unavailability Data'!DR34:LW34,"H")/214,COUNTIF('Unavailability Data'!DR35:LW35,"H")/214,COUNTIF('Unavailability Data'!DR36:LW36,"H")/214) -> 0 | P6: =AVERAGE((COUNTIF('Unavailability Data'!DR42:LW42,"H")/214),COUNTIF('Unavailability Data'!DR43:LW43,"H")/214,((COUNTIF('Unavailability Data'!DR44:LW44,"H")/214) + (COUNTIF('Unavailability Data'!DR44:LW44,"P")/214)),COUNTIF('Unavailability Data'!DR45:LW45,"H")/214) -> 0.078271028 | Q6: =AVERAGE(L6:P6) -> 0.046261682 | W6: 2022 | X6: =SUM(M4:M7) -> 0.55373832 | Y6: 0 | Z6: 0.25 | AA6: 1
A7: Total | B7: =SUM(B3:B6) -> 557 | C7: =SUM(C3:C6) -> 365 | D7: =SUM(D3:D6) -> 551 | E7: =SUM(E3:E6) -> 298 | F7: =SUM(F3:F6) -> 343 | G7: =AVERAGE(B7:F7) -> 422.8 | K7: Txfmr Maint | L7: ='Usage Type Data (MAY-NOV)'!BJ8/((214/7)*4) -> 0.0081775701 | M7: ='Usage Type Data (MAY-NOV)'!BJ7/((214/7)*4) -> 0.089953271 | N7: ='Usage Type Data (MAY-NOV)'!BJ6/((214/7)*4) -> 0.22079439 | O7: ='Usage Type Data (MAY-NOV)'!BJ5/((214/7)*4) -> 0.13901869 | P7: ='Usage Type Data (MAY-NOV)'!BJ4/((214/7)*4) -> 0.22079439 | Q7: =AVERAGE(L7:P7) -> 0.13574766 | W7: 2023 | X7: =SUM(N4:N7) -> 0.72079439 | Y7: 0 | Z7: 0.25 | AA7: 1
A8: Percentage Unavailable | L8: =SUM(L4:L7) -> 0.66121495 | M8: =SUM(M4:M7) -> 0.55373832 | N8: =SUM(N4:N7) -> 0.72079439 | O8: =SUM(O4:O7) -> 0.4228972 | P8: =SUM(P4:P7) -> 0.56542056 | W8: 2024 | X8: =SUM(O4:O7) -> 0.4228972 | Y8: 0 | Z8: 0.25 | AA8: 1
B9: 2021 | C9: 2022 | D9: 2023 | E9: 2024 | F9: 2025 | G9: Average | K9: 5-Year Average - Typical Substation Utilization | P9: =AVERAGE(B86:F86) -> 0.58481308 | W9: 2025 | X9: =SUM(P4:P7) -> 0.56542056 | Y9: 0 | Z9: 0.25 | AA9: 1
A10: P1 | B10: =B3/214 -> 0.79439252 | C10: =C3/214 -> 0.25233645 | D10: =D3/214 -> 0.44859813 | E10: =E3/214 -> 0.5046729 | F10: =F3/214 -> 0.26168224 | G10: =AVERAGE(B10:F10) -> 0.45233645 | W10: 2026F | X10: =AVERAGE(L4:P4)+(0.1225)+'Forecasted Portable Usage (MAY)'!J28+AVERAGE(L6:P6)+AVERAGE(L7:P7) -> 0.43091121 | Y10: ='Forecasted Portable Usage (MAY)'!J51 -> 0 | Z10: 0.25 | AA10: 1
A11: P3 | B11: =B4/214 -> 0.89252336 | C11: =C4/214 -> 0.37383178 | D11: =D4/214 -> 0.46728972 | E11: =E4/214 -> 0.18691589 | F11: =F4/214 -> 0.19626168 | G11: =AVERAGE(B11:F11) -> 0.42336449 | V11: added 15 weeks (12.25%) to account for P4 maintenance | W11: 2027F | X11: =AVERAGE(L4:P4)+'Forecasted Portable Usage (MAY)'!K28+AVERAGE(L6:P6)+AVERAGE(L7:P7) -> 0.43107477 | Y11: ='Forecasted Portable Usage (MAY)'!K51 -> 0.081775701 | Z11: 0.25 | AA11: 1
A12: P4 | B12: =B5/214 -> 0.91588785 | C12: =C5/214 -> 0.44392523 | D12: =D5/214 -> 0.6588785 | E12: =E5/214 -> 0.70093458 | F12: =F5/214 -> 0.22897196 | G12: =AVERAGE(B12:F12) -> 0.58971963 | W12: 2028F | X12: =AVERAGE(L4:P4)+'Forecasted Portable Usage (MAY)'!L28+AVERAGE(L6:P6)+AVERAGE(L7:P7) -> 0.68457944 | Y12: ='Forecasted Portable Usage (MAY)'!L51 -> 0.081775701 | Z12: 0.25 | AA12: 1
A13: P5 | B13: =B6/214 -> 0 | C13: =C6/214 -> 0.63551402 | D13: =D6/214 -> 1 | E13: =E6/214 -> 0 | F13: =F6/214 -> 0.91588785 | G13: =AVERAGE(B13:F13) -> 0.51028037 | K13: Calculations | W13: 2029F | X13: =AVERAGE(L4:P4)+'Forecasted Portable Usage (MAY)'!M28+AVERAGE(L6:P6)+AVERAGE(L7:P7) -> 0.47196262 | Y13: ='Forecasted Portable Usage (MAY)'!M51 -> 0.1635514 | Z13: 0.25 | AA13: 1
A14: Notes: The values above do not include NP's annual portable substation maintenance (all portables for three to five weeks each). It was assumed that portables were available if there was no record of them being installed. | K14: Assume 10 weeks for each portable installation for the 3 transformer replacement. | W14: 2030F | X14: =AVERAGE(L4:P4)+'Forecasted Portable Usage (MAY)'!N28+AVERAGE(L6:P6)+AVERAGE(L7:P7) -> 0.71728972 | Y14: ='Forecasted Portable Usage (MAY)'!N51 -> 0.2453271 | Z14: 0.25 | AA14: 1
K15: 4 Portable Substations | W15: 2030F* | X15: =X14*4/5 -> 0.57383178 | Y15: ='Forecasted Portable Usage (MAY)'!V51 -> 0.19626168 | Z15: 0.2 | AA15: 1
L16: 3 Txfmr Replacements | O16: 30 weeks | P16: 30 | Q16: = | R16: =P16/P17 -> 0.24590164 | S16: increase | W16: 2031F | X16: =AVERAGE(L4:P4)+'Forecasted Portable Usage (MAY)'!O28+AVERAGE(L6:P6)+AVERAGE(L7:P7) -> 0.71728972 | Y16: ='Forecasted Portable Usage (MAY)'!O51 -> 0.2453271 | Z16: 0.25 | AA16: 1
L17: Total Portable Capacity | O17: (214/7) * 4 | P17: =ROUND((214/7)*4,0) -> 122 | W17: 2031F* | X17: =X16*4/5 -> 0.57383178 | Y17: ='Forecasted Portable Usage (MAY)'!W51 -> 0.19626168 | Z17: 0.2 | AA17: 1
A25: Total Days in Use (Excluding Portable Maintenance) | K25: Notes (Condensed Typical Usage Category - 4 Portables)
B26: 2021 | C26: 2022 | D26: 2023 | E26: 2024 | F26: 2025 | G26: Average | K26: Typical Usage includes Portable Maintenance, Capital, Others and transformer Maintenance
A27: Portable P1 | B27: =B3+COUNTIF('Unavailability Data'!DR6:LW6,"H") -> 179 | C27: =C3+COUNTIF('Unavailability Data'!DR15:LW15,"H") -> 150 | D27: =D3+COUNTIF('Unavailability Data'!DR24:LW24,"H") -> 122 | E27: =E3+COUNTIF('Unavailability Data'!DS33:LX33,"H") -> 108 | F27: =F3+COUNTIF('Unavailability Data'!DR42:LW42,"H")+COUNTIF('Unavailability Data'!DR42:LW42,"P") -> 84 | G27: =AVERAGE(B27:F27) -> 128.6 | K27: Forecasted Capital based on 5 year plan
A28: Portable P3 | B28: =B4+COUNTIF('Unavailability Data'!DR7:LW7,"H") -> 191 | C28: =C4+COUNTIF('Unavailability Data'!DR16:LW16,"H") -> 80 | D28: =D4+COUNTIF('Unavailability Data'!DR25:LW25,"H") -> 100 | E28: =E4+COUNTIF('Unavailability Data'!DS34:LX34,"H") -> 40 | F28: =F4+COUNTIF('Unavailability Data'!DR43:LW43,"H")+COUNTIF('Unavailability Data'!DR43:LW43,"P") -> 42 | G28: =AVERAGE(B28:F28) -> 90.6 | K28: Others (NLH and MECL) based on 5-year historical
A29: Portable P4 | B29: =B5+COUNTIF('Unavailability Data'!DR8:LW8,"H") -> 196 | C29: =C5+COUNTIF('Unavailability Data'!DR17:LW17,"H") -> 95 | D29: =D5+COUNTIF('Unavailability Data'!DR26:LW26,"H") -> 141 | E29: =E5+COUNTIF('Unavailability Data'!DS35:LX35,"H") -> 150 | F29: =F5+COUNTIF('Unavailability Data'!DR44:LW44,"H")+COUNTIF('Unavailability Data'!DR44:LW44,"P") -> 88 | G29: =AVERAGE(B29:F29) -> 134 | K29: Transformer Maintenance based on 5-year historical
A30: Portable P5 | B30: =B6+COUNTIF('Unavailability Data'!DR9:LW9,"H") -> 0 | C30: =C6+COUNTIF('Unavailability Data'!DR18:LW18,"H") -> 136 | D30: =D6+COUNTIF('Unavailability Data'!DR27:LW27,"H") -> 214 | E30: =E6+COUNTIF('Unavailability Data'!DS36:LX36,"H") -> 0 | F30: =F6+COUNTIF('Unavailability Data'!DR45:LW45,"H")+COUNTIF('Unavailability Data'!DR45:LW45,"P") -> 196 | G30: =AVERAGE(B30:F30) -> 109.2 | K30: Transformer Replacements based on proposed projects 2026-2029 & forecasted averages for 2030 & 2031
A31: Total | B31: =SUM(B27:B30) -> 566 | C31: =SUM(C27:C30) -> 461 | D31: =SUM(D27:D30) -> 577 | E31: =SUM(E27:E30) -> 298 | F31: =SUM(F27:F30) -> 410 | G31: =AVERAGE(B31:F31) -> 462.4 | K31: Emergency Standby Spare is based on keeping one of four portables available for
A32: Percentage Unavailable
B33: 2021 | C33: 2022 | D33: 2023 | E33: 2024 | F33: 2025 | G33: Average
A34: P1 | B34: =B27/214 -> 0.8364486 | C34: =C27/214 -> 0.70093458 | D34: =D27/214 -> 0.57009346 | E34: =E27/214 -> 0.5046729 | F34: =F27/214 -> 0.39252336 | G34: =AVERAGE(B34:E34) -> 0.65303738
A35: P3 | B35: =B28/214 -> 0.89252336 | C35: =C28/214 -> 0.37383178 | D35: =D28/214 -> 0.46728972 | E35: =E28/214 -> 0.18691589 | F35: =F28/214 -> 0.19626168 | G35: =AVERAGE(B35:E35) -> 0.48014019
A36: P4 | B36: =B29/214 -> 0.91588785 | C36: =C29/214 -> 0.44392523 | D36: =D29/214 -> 0.6588785 | E36: =E29/214 -> 0.70093458 | F36: =F29/214 -> 0.41121495 | G36: =AVERAGE(B36:E36) -> 0.67990654
A37: P5 | B37: =B30/214 -> 0 | C37: =C30/214 -> 0.63551402 | D37: =D30/214 -> 1 | E37: =E30/214 -> 0 | F37: =F30/214 -> 0.91588785 | G37: =AVERAGE(B37:E37) -> 0.4088785
A38: Notes: The values above do not include NP's annual portable substation maintenance (all portables for three to five weeks each). It was assumed that portables were available if there was no record of them being installed.
A49: DAYS Portables are in MAINTENANCE
B50: 2021 | C50: 2022 | D50: 2023 | E50: 2024 | F50: 2025 | G50: Average
A51: Portable P1 | B51: =COUNTIF('Unavailability Data'!DR6:LW6,"M") -> 0 | C51: =COUNTIF('Unavailability Data'!DR15:LW15,"M") -> 0 | D51: =COUNTIF('Unavailability Data'!DR24:LW24,"M") -> 40 | E51: =COUNTIF('Unavailability Data'!DS33:LX33,"M") -> 40 | F51: =COUNTIF('Unavailability Data'!DR42:LW42,"M") -> 32 | G51: =AVERAGE(B51:F51) -> 22.4
A52: Portable P3 | B52: =COUNTIF('Unavailability Data'!DR7:LW7,"M") -> 0 | C52: =COUNTIF('Unavailability Data'!DR16:LW16,"M") -> 13 | D52: =COUNTIF('Unavailability Data'!DR25:LW25,"M") -> 0 | E52: =COUNTIF('Unavailability Data'!DS34:LX34,"M") -> 24 | F52: =COUNTIF('Unavailability Data'!DR43:LW43,"M") -> 0 | G52: =AVERAGE(B52:F52) -> 7.4
A53: Portable P4 | B53: =COUNTIF('Unavailability Data'!DR8:LW8,"M") -> 0 | C53: =COUNTIF('Unavailability Data'!DR17:LW17,"M") -> 0 | D53: =COUNTIF('Unavailability Data'!DR26:LW26,"M") -> 0 | E53: =COUNTIF('Unavailability Data'!DS35:LX35,"M") -> 0 | F53: =COUNTIF('Unavailability Data'!DR44:LW44,"M") -> 35 | G53: =AVERAGE(B53:F53) -> 7
A54: Portable P5 | B54: =COUNTIF('Unavailability Data'!DR9:LW9,"M") -> 0 | C54: =COUNTIF('Unavailability Data'!DR18:LW18,"M") -> 0 | D54: =COUNTIF('Unavailability Data'!DR27:LW27,"M") -> 0 | E54: =COUNTIF('Unavailability Data'!DS36:LX36,"M") -> 0 | F54: =COUNTIF('Unavailability Data'!DR45:LW45,"M") -> 7 | G54: =AVERAGE(B54:F54) -> 1.4
A55: Total | B55: =SUM(B51:B54) -> 0 | C55: =SUM(C51:C54) -> 13 | D55: =SUM(D51:D54) -> 40 | E55: =SUM(E51:E54) -> 64 | F55: =SUM(F51:F54) -> 74 | G55: =AVERAGE(B55:F55) -> 38.2
A56: Percentage Unavailable
B57: 2021 | C57: 2022 | D57: 2023 | E57: 2024 | F57: 2025 | G57: Average
A58: P1 | B58: =B51/214 -> 0 | C58: =C51/214 -> 0 | D58: =D51/214 -> 0.18691589 | E58: =E51/214 -> 0.18691589 | F58: =F51/214 -> 0.14953271 | G58: =AVERAGE(B58:F58) -> 0.1046729
A59: P3 | B59: =B52/214 -> 0 | C59: =C52/214 -> 0.060747664 | D59: =D52/214 -> 0 | E59: =E52/214 -> 0.11214953 | F59: =F52/214 -> 0 | G59: =AVERAGE(B59:F59) -> 0.034579439
A60: P4 | B60: =B53/214 -> 0 | C60: =C53/214 -> 0 | D60: =D53/214 -> 0 | E60: =E53/214 -> 0 | F60: =F53/214 -> 0.1635514 | G60: =AVERAGE(B60:F60) -> 0.03271028
A61: P5 | B61: =B54/214 -> 0 | C61: =C54/214 -> 0 | D61: =D54/214 -> 0 | E61: =E54/214 -> 0 | F61: =F54/214 -> 0.03271028 | G61: =AVERAGE(B61:F61) -> 0.0065420561
A62: Notes: The values above do not include NP's annual portable substation maintenance (all portables for three to five weeks each). It was assumed that portables were available if there was no record of them being installed.
A73: Total Days in Use Including Maintenance
B74: 2021 | C74: 2022 | D74: 2023 | E74: 2024 | F74: 2025 | G74: Average
A75: Portable P1 | B75: =B27+B51 -> 179 | C75: =C27+C51 -> 150 | D75: =D27+D51 -> 162 | E75: =E27+E51 -> 148 | F75: =F27+F51 -> 116 | G75: =AVERAGE(B75:F75) -> 151
A76: Portable P3 | B76: =B28+B52 -> 191 | C76: =C28+C52 -> 93 | D76: =D28+D52 -> 100 | E76: =E28+E52 -> 64 | F76: =F28+F52 -> 42 | G76: =AVERAGE(B76:F76) -> 98
A77: Portable P4 | B77: =B29+B53 -> 196 | C77: =C29+C53 -> 95 | D77: =D29+D53 -> 141 | E77: =E29+E53 -> 150 | F77: =F29+F53 -> 123 | G77: =AVERAGE(B77:F77) -> 141
A78: Portable P5 | B78: =B30+B54 -> 0 | C78: =C30+C54 -> 136 | D78: =D30+D54 -> 214 | E78: =E30+E54 -> 0 | F78: =F30+F54 -> 203 | G78: =AVERAGE(B78:F78) -> 110.6
A79: Total | B79: =SUM(B75:B78) -> 566 | C79: =SUM(C75:C78) -> 474 | D79: =SUM(D75:D78) -> 617 | E79: =SUM(E75:E78) -> 362 | F79: =SUM(F75:F78) -> 484 | G79: =AVERAGE(B79:F79) -> 500.6
A80: Percentage Unavailable
B81: 2021 | C81: 2022 | D81: 2023 | E81: 2024 | F81: 2025 | G81: Average
A82: P1 | B82: =B75/214 -> 0.8364486 | C82: =C75/214 -> 0.70093458 | D82: =D75/214 -> 0.75700935 | E82: =E75/214 -> 0.69158879 | F82: =F75/214 -> 0.54205607 | G82: =AVERAGE(B82:E82) -> 0.74649533
A83: P3 | B83: =B76/214 -> 0.89252336 | C83: =C76/214 -> 0.43457944 | D83: =D76/214 -> 0.46728972 | E83: =E76/214 -> 0.29906542 | F83: =F76/214 -> 0.19626168 | G83: =AVERAGE(B83:E83) -> 0.52336449
A84: P4 | B84: =B77/214 -> 0.91588785 | C84: =C77/214 -> 0.44392523 | D84: =D77/214 -> 0.6588785 | E84: =E77/214 -> 0.70093458 | F84: =F77/214 -> 0.57476636 | G84: =AVERAGE(B84:E84) -> 0.67990654
A85: P5 | B85: =B78/214 -> 0 | C85: =C78/214 -> 0.63551402 | D85: =D78/214 -> 1 | E85: =E78/214 -> 0 | F85: =F78/214 -> 0.94859813 | G85: =AVERAGE(B85:E85) -> 0.4088785
A86: Average | B86: =AVERAGE(B82:B85) -> 0.66121495 | C86: =AVERAGE(C82:C85) -> 0.55373832 | D86: =AVERAGE(D82:D85) -> 0.72079439 | E86: =AVERAGE(E82:E85) -> 0.4228972 | F86: =AVERAGE(F82:F85) -> 0.56542056 | G86: =AVERAGE(G82:G85) -> 0.58966121
A87: Notes: The values above do not include NP's annual portable substation maintenance (all portables for three to five weeks each). It was assumed that portables were available if there was no record of them being installed.

Sheet Forecasted Portable Usage (MAY)
B2: Weeks | I2: Percentage of fleet (4 Portables) | Q2: Percentage of fleet (5 Portables)
A3: Site | B3: 2026 | C3: 2027 | D3: 2028 | E3: 2029 | F3: 2030 | G3: 2031 | I3: Site | J3: 2026 | K3: 2027 | L3: 2028 | M3: 2029 | N3: 2030 | O3: 2031 | Q3: =A3 -> Site | R3: =B3 -> 2026 | S3: =C3 -> 2027 | T3: =D3 -> 2028 | U3: =E3 -> 2029 | V3: =F3 -> 2030 | W3: =G3 -> 2031
A4: R&M 1 | B4: 0 | I4: R&M 1 | J4: =B4/((214/7)*4) -> 0 | K4: =C4/((214/7)*4) -> 0 | L4: =D4/((214/7)*4) -> 0 | M4: =E4/((214/7)*4) -> 0 | N4: =F4/((214/7)*4) -> 0 | O4: =G4/((214/7)*4) -> 0 | Q4: =I4 -> R&M 1 | R4: =J4 -> 0 | S4: =K4 -> 0 | T4: =L4 -> 0 | U4: =M4 -> 0 | V4: =F4/((214/7)*5) -> 0 | W4: =G4/((214/7)*5) -> 0
A5: R&M 2 | B5: 10 | I5: R&M 2 | J5: =B5/((214/7)*4) -> 0.081775701 | K5: =C5/((214/7)*4) -> 0 | L5: =D5/((214/7)*4) -> 0 | M5: =E5/((214/7)*4) -> 0 | N5: =F5/((214/7)*4) -> 0 | O5: =G5/((214/7)*4) -> 0 | Q5: =I5 -> R&M 2 | R5: =J5 -> 0.081775701 | S5: =K5 -> 0 | T5: =L5 -> 0 | U5: =M5 -> 0 | V5: =F5/((214/7)*5) -> 0 | W5: =G5/((214/7)*5) -> 0
A6: R&M 3 | C6: 0 | I6: R&M 3 | J6: =B6/((214/7)*4) -> 0 | K6: =C6/((214/7)*4) -> 0 | L6: =D6/((214/7)*4) -> 0 | M6: =E6/((214/7)*4) -> 0 | N6: =F6/((214/7)*4) -> 0 | O6: =G6/((214/7)*4) -> 0 | Q6: =I6 -> R&M 3 | R6: =J6 -> 0 | S6: =K6 -> 0 | T6: =L6 -> 0 | U6: =M6 -> 0 | V6: =F6/((214/7)*5) -> 0 | W6: =G6/((214/7)*5) -> 0
A7: R&M 4 | C7: 10 | I7: R&M 4 | J7: =B7/((214/7)*4) -> 0 | K7: =C7/((214/7)*4) -> 0.081775701 | L7: =D7/((214/7)*4) -> 0 | M7: =E7/((214/7)*4) -> 0 | N7: =F7/((214/7)*4) -> 0 | O7: =G7/((214/7)*4) -> 0 | Q7: =I7 -> R&M 4 | R7: =J7 -> 0 | S7: =K7 -> 0.081775701 | T7: =L7 -> 0 | U7: =M7 -> 0 | V7: =F7/((214/7)*5) -> 0 | W7: =G7/((214/7)*5) -> 0
A8: R&M 5 | C8: 15 | I8: R&M 5 | J8: =B8/((214/7)*4) -> 0 | K8: =C8/((214/7)*4) -> 0.12266355 | L8: =D8/((214/7)*4) -> 0 | M8: =E8/((214/7)*4) -> 0 | N8: =F8/((214/7)*4) -> 0 | O8: =G8/((214/7)*4) -> 0 | Q8: =I8 -> R&M 5 | R8: =J8 -> 0 | S8: =K8 -> 0.12266355 | T8: =L8 -> 0 | U8: =M8 -> 0 | V8: =F8/((214/7)*5) -> 0 | W8: =G8/((214/7)*5) -> 0
A9: R&M 6 | C9: 0 | I9: R&M 6 | J9: =B9/((214/7)*4) -> 0 | K9: =C9/((214/7)*4) -> 0 | L9: =D9/((214/7)*4) -> 0 | M9: =E9/((214/7)*4) -> 0 | N9: =F9/((214/7)*4) -> 0 | O9: =G9/((214/7)*4) -> 0 | Q9: =I9 -> R&M 6 | R9: =J9 -> 0 | S9: =K9 -> 0 | T9: =L9 -> 0 | U9: =M9 -> 0 | V9: =F9/((214/7)*5) -> 0 | W9: =G9/((214/7)*5) -> 0
A10: R&M 7 | D10: 0 | I10: R&M 7 | J10: =B10/((214/7)*4) -> 0 | K10: =C10/((214/7)*4) -> 0 | L10: =D10/((214/7)*4) -> 0 | M10: =E10/((214/7)*4) -> 0 | N10: =F10/((214/7)*4) -> 0 | O10: =G10/((214/7)*4) -> 0 | Q10: =I10 -> R&M 7 | R10: =J10 -> 0 | S10: =K10 -> 0 | T10: =L10 -> 0 | U10: =M10 -> 0 | V10: =F10/((214/7)*5) -> 0 | W10: =G10/((214/7)*5) -> 0
A11: R&M 8 | D11: 28 | I11: R&M 8 | J11: =B11/((214/7)*4) -> 0 | K11: =C11/((214/7)*4) -> 0 | L11: =D11/((214/7)*4) -> 0.22897196 | M11: =E11/((214/7)*4) -> 0 | N11: =F11/((214/7)*4) -> 0 | O11: =G11/((214/7)*4) -> 0 | Q11: =I11 -> R&M 8 | R11: =J11 -> 0 | S11: =K11 -> 0 | T11: =L11 -> 0.22897196 | U11: =M11 -> 0 | V11: =F11/((214/7)*5) -> 0 | W11: =G11/((214/7)*5) -> 0
A12: R&M 9 | D12: 20 | I12: R&M 9 | J12: =B12/((214/7)*4) -> 0 | K12: =C12/((214/7)*4) -> 0 | L12: =D12/((214/7)*4) -> 0.1635514 | M12: =E12/((214/7)*4) -> 0 | N12: =F12/((214/7)*4) -> 0 | O12: =G12/((214/7)*4) -> 0 | Q12: =I12 -> R&M 9 | R12: =J12 -> 0 | S12: =K12 -> 0 | T12: =L12 -> 0.1635514 | U12: =M12 -> 0 | V12: =F12/((214/7)*5) -> 0 | W12: =G12/((214/7)*5) -> 0
A13: R&M 10 | D13: 8 | I13: R&M 10 | J13: =B13/((214/7)*4) -> 0 | K13: =C13/((214/7)*4) -> 0 | L13: =D13/((214/7)*4) -> 0.065420561 | M13: =E13/((214/7)*4) -> 0 | N13: =F13/((214/7)*4) -> 0 | O13: =G13/((214/7)*4) -> 0 | Q13: =I13 -> R&M 10 | R13: =J13 -> 0 | S13: =K13 -> 0 | T13: =L13 -> 0.065420561 | U13: =M13 -> 0 | V13: =F13/((214/7)*5) -> 0 | W13: =G13/((214/7)*5) -> 0
A14: R&M 11 | E14: 10 | I14: R&M 11 | J14: =B14/((214/7)*4) -> 0 | K14: =C14/((214/7)*4) -> 0 | L14: =D14/((214/7)*4) -> 0 | M14: =E14/((214/7)*4) -> 0.081775701 | N14: =F14/((214/7)*4) -> 0 | O14: =G14/((214/7)*4) -> 0 | Q14: =I14 -> R&M 11 | R14: =J14 -> 0 | S14: =K14 -> 0 | T14: =L14 -> 0 | U14: =M14 -> 0.081775701 | V14: =F14/((214/7)*5) -> 0 | W14: =G14/((214/7)*5) -> 0
A15: R&M 12 | E15: 0 | I15: R&M 12 | J15: =B15/((214/7)*4) -> 0 | K15: =C15/((214/7)*4) -> 0 | L15: =D15/((214/7)*4) -> 0 | M15: =E15/((214/7)*4) -> 0 | N15: =F15/((214/7)*4) -> 0 | O15: =G15/((214/7)*4) -> 0 | Q15: =I15 -> R&M 12 | R15: =J15 -> 0 | S15: =K15 -> 0 | T15: =L15 -> 0 | U15: =M15 -> 0 | V15: =F15/((214/7)*5) -> 0 | W15: =G15/((214/7)*5) -> 0
A16: R&M 13 | E16: 20 | I16: R&M 13 | J16: =B16/((214/7)*4) -> 0 | K16: =C16/((214/7)*4) -> 0 | L16: =D16/((214/7)*4) -> 0 | M16: =E16/((214/7)*4) -> 0.1635514 | N16: =F16/((214/7)*4) -> 0 | O16: =G16/((214/7)*4) -> 0 | Q16: =I16 -> R&M 13 | R16: =J16 -> 0 | S16: =K16 -> 0 | T16: =L16 -> 0 | U16: =M16 -> 0.1635514 | V16: =F16/((214/7)*5) -> 0 | W16: =G16/((214/7)*5) -> 0
A17: R&M 14 | E17: 0 | I17: R&M 14 | J17: =B17/((214/7)*4) -> 0 | K17: =C17/((214/7)*4) -> 0 | L17: =D17/((214/7)*4) -> 0 | M17: =E17/((214/7)*4) -> 0 | N17: =F17/((214/7)*4) -> 0 | O17: =G17/((214/7)*4) -> 0 | Q17: =I17 -> R&M 14 | R17: =J17 -> 0 | S17: =K17 -> 0 | T17: =L17 -> 0 | U17: =M17 -> 0 | V17: =F17/((214/7)*5) -> 0 | W17: =G17/((214/7)*5) -> 0
A18: R&M 15 | F18: 30 | I18: R&M 15 | J18: =B18/((214/7)*4) -> 0 | K18: =C18/((214/7)*4) -> 0 | L18: =D18/((214/7)*4) -> 0 | M18: =E18/((214/7)*4) -> 0 | N18: =F18/((214/7)*4) -> 0.2453271 | O18: =G18/((214/7)*4) -> 0 | Q18: =I18 -> R&M 15 | R18: =J18 -> 0 | S18: =K18 -> 0 | T18: =L18 -> 0 | U18: =M18 -> 0 | V18: =F18/((214/7)*5) -> 0.19626168 | W18: =G18/((214/7)*5) -> 0
A19: R&M 16 | F19: 0 | I19: R&M 16 | J19: =B19/((214/7)*4) -> 0 | K19: =C19/((214/7)*4) -> 0 | L19: =D19/((214/7)*4) -> 0 | M19: =E19/((214/7)*4) -> 0 | N19: =F19/((214/7)*4) -> 0 | O19: =G19/((214/7)*4) -> 0 | Q19: =I19 -> R&M 16 | R19: =J19 -> 0 | S19: =K19 -> 0 | T19: =L19 -> 0 | U19: =M19 -> 0 | V19: =F19/((214/7)*5) -> 0 | W19: =G19/((214/7)*5) -> 0
A20: R&M 17 | F20: 30 | I20: R&M 17 | J20: =B20/((214/7)*4) -> 0 | K20: =C20/((214/7)*4) -> 0 | L20: =D20/((214/7)*4) -> 0 | M20: =E20/((214/7)*4) -> 0 | N20: =F20/((214/7)*4) -> 0.2453271 | O20: =G20/((214/7)*4) -> 0 | Q20: =I20 -> R&M 17 | R20: =J20 -> 0 | S20: =K20 -> 0 | T20: =L20 -> 0 | U20: =M20 -> 0 | V20: =F20/((214/7)*5) -> 0.19626168 | W20: =G20/((214/7)*5) -> 0
A21: R&M 18 | F21: 0 | I21: R&M 18 | J21: =B21/((214/7)*4) -> 0 | K21: =C21/((214/7)*4) -> 0 | L21: =D21/((214/7)*4) -> 0 | M21: =E21/((214/7)*4) -> 0 | N21: =F21/((214/7)*4) -> 0 | O21: =G21/((214/7)*4) -> 0 | Q21: =I21 -> R&M 18 | R21: =J21 -> 0 | S21: =K21 -> 0 | T21: =L21 -> 0 | U21: =M21 -> 0 | V21: =F21/((214/7)*5) -> 0 | W21: =G21/((214/7)*5) -> 0
A22: R&M 19 | F22: 0 | I22: R&M 19 | J22: =B22/((214/7)*4) -> 0 | K22: =C22/((214/7)*4) -> 0 | L22: =D22/((214/7)*4) -> 0 | M22: =E22/((214/7)*4) -> 0 | N22: =F22/((214/7)*4) -> 0 | O22: =G22/((214/7)*4) -> 0 | Q22: =I22 -> R&M 19 | R22: =J22 -> 0 | S22: =K22 -> 0 | T22: =L22 -> 0 | U22: =M22 -> 0 | V22: =F22/((214/7)*5) -> 0 | W22: =G22/((214/7)*5) -> 0
A23: R&M 20 | G23: 30 | I23: R&M 20 | J23: =B23/((214/7)*4) -> 0 | K23: =C23/((214/7)*4) -> 0 | L23: =D23/((214/7)*4) -> 0 | M23: =E23/((214/7)*4) -> 0 | N23: =F23/((214/7)*4) -> 0 | O23: =G23/((214/7)*4) -> 0.2453271 | Q23: =I23 -> R&M 20 | R23: =J23 -> 0 | S23: =K23 -> 0 | T23: =L23 -> 0 | U23: =M23 -> 0 | V23: =F23/((214/7)*5) -> 0 | W23: =G23/((214/7)*5) -> 0.19626168
A24: R&M 21 | G24: 0 | I24: R&M 21 | J24: =B24/((214/7)*4) -> 0 | K24: =C24/((214/7)*4) -> 0 | L24: =D24/((214/7)*4) -> 0 | M24: =E24/((214/7)*4) -> 0 | N24: =F24/((214/7)*4) -> 0 | O24: =G24/((214/7)*4) -> 0 | Q24: =I24 -> R&M 21 | R24: =J24 -> 0 | S24: =K24 -> 0 | T24: =L24 -> 0 | U24: =M24 -> 0 | V24: =F24/((214/7)*5) -> 0 | W24: =G24/((214/7)*5) -> 0
A25: R&M 22 | G25: 0 | I25: R&M 22 | J25: =B25/((214/7)*4) -> 0 | K25: =C25/((214/7)*4) -> 0 | L25: =D25/((214/7)*4) -> 0 | M25: =E25/((214/7)*4) -> 0 | N25: =F25/((214/7)*4) -> 0 | O25: =G25/((214/7)*4) -> 0 | Q25: =I25 -> R&M 22 | R25: =J25 -> 0 | S25: =K25 -> 0 | T25: =L25 -> 0 | U25: =M25 -> 0 | V25: =F25/((214/7)*5) -> 0 | W25: =G25/((214/7)*5) -> 0
A26: R&M 23 | G26: 0 | I26: R&M 23 | J26: =B26/((214/7)*4) -> 0 | K26: =C26/((214/7)*4) -> 0 | L26: =D26/((214/7)*4) -> 0 | M26: =E26/((214/7)*4) -> 0 | N26: =F26/((214/7)*4) -> 0 | O26: =G26/((214/7)*4) -> 0 | Q26: =I26 -> R&M 23 | R26: =J26 -> 0 | S26: =K26 -> 0 | T26: =L26 -> 0 | U26: =M26 -> 0 | V26: =F26/((214/7)*5) -> 0 | W26: =G26/((214/7)*5) -> 0
A27: R&M 24 | G27: 30 | I27: R&M 24 | J27: =B27/((214/7)*4) -> 0 | K27: =C27/((214/7)*4) -> 0 | L27: =D27/((214/7)*4) -> 0 | M27: =E27/((214/7)*4) -> 0 | N27: =F27/((214/7)*4) -> 0 | O27: =G27/((214/7)*4) -> 0.2453271 | Q27: =I27 -> R&M 24 | R27: =J27 -> 0 | S27: =K27 -> 0 | T27: =L27 -> 0 | U27: =M27 -> 0 | V27: =F27/((214/7)*5) -> 0 | W27: =G27/((214/7)*5) -> 0.19626168
I28: Total | J28: =SUM(J4:J27) -> 0.081775701 | K28: =SUM(K4:K27) -> 0.20443925 | L28: =SUM(L4:L27) -> 0.45794393 | M28: =SUM(M4:M27) -> 0.2453271 | N28: =SUM(N4:N27) -> 0.49065421 | O28: =SUM(O4:O27) -> 0.49065421 | Q28: Total | R28: =SUM(R4:R27) -> 0.081775701 | S28: =SUM(S4:S27) -> 0.20443925 | T28: =SUM(T4:T27) -> 0.45794393 | U28: =SUM(U4:U27) -> 0.2453271 | V28: =SUM(V4:V27) -> 0.39252336 | W28: =SUM(W4:W27) -> 0.39252336
B32: Weeks | I32: Percentage of fleet | Q32: Percentage of fleet
A33: Site | B33: 2026 | C33: 2027 | D33: 2028 | E33: 2029 | F33: 2030 | G33: 2031 | I33: Site | J33: 2026 | K33: 2027 | L33: 2028 | M33: 2029 | N33: 2030 | O33: 2031 | Q33: Site | R33: 2026 | S33: 2027 | T33: 2028 | U33: 2029 | V33: 2030 | W33: 2031
A34: Transformer Replacement 1 | C34: 0 | I34: =A34 -> Transformer Replacement 1 | J34: =B34/((214/7)*4) -> 0 | K34: =C34/((214/7)*4) -> 0 | L34: =D34/((214/7)*4) -> 0 | M34: =E34/((214/7)*4) -> 0 | N34: =F34/((214/7)*4) -> 0 | O34: =G34/((214/7)*4) -> 0 | Q34: =I34 -> Transformer Replacement 1 | R34: =J34 -> 0 | S34: =K34 -> 0 | T34: =L34 -> 0 | U34: =M34 -> 0 | V34: =F34/((214/7)*5) -> 0 | W34: =G34/((214/7)*5) -> 0
A35: Transformer Replacement 2 | C35: 10 | I35: =A35 -> Transformer Replacement 2 | J35: =B35/((214/7)*4) -> 0 | K35: =C35/((214/7)*4) -> 0.081775701 | L35: =D35/((214/7)*4) -> 0 | M35: =E35/((214/7)*4) -> 0 | N35: =F35/((214/7)*4) -> 0 | O35: =G35/((214/7)*4) -> 0 | Q35: =I35 -> Transformer Replacement 2 | R35: =J35 -> 0 | S35: =K35 -> 0.081775701 | T35: =L35 -> 0 | U35: =M35 -> 0 | V35: =F35/((214/7)*5) -> 0 | W35: =G35/((214/7)*5) -> 0
A36: Transformer Replacement 3 | D36: 0 | I36: =A36 -> Transformer Replacement 3 | J36: =B36/((214/7)*4) -> 0 | K36: =C36/((214/7)*4) -> 0 | L36: =D36/((214/7)*4) -> 0 | M36: =E36/((214/7)*4) -> 0 | N36: =F36/((214/7)*4) -> 0 | O36: =G36/((214/7)*4) -> 0 | Q36: =I36 -> Transformer Replacement 3 | R36: =J36 -> 0 | S36: =K36 -> 0 | T36: =L36 -> 0 | U36: =M36 -> 0 | V36: =F36/((214/7)*5) -> 0 | W36: =G36/((214/7)*5) -> 0
A37: Transformer Replacement 4 | D37: 0 | I37: =A37 -> Transformer Replacement 4 | J37: =B37/((214/7)*4) -> 0 | K37: =C37/((214/7)*4) -> 0 | L37: =D37/((214/7)*4) -> 0 | M37: =E37/((214/7)*4) -> 0 | N37: =F37/((214/7)*4) -> 0 | O37: =G37/((214/7)*4) -> 0 | Q37: =I37 -> Transformer Replacement 4 | R37: =J37 -> 0 | S37: =K37 -> 0 | T37: =L37 -> 0 | U37: =M37 -> 0 | V37: =F37/((214/7)*5) -> 0 | W37: =G37/((214/7)*5) -> 0
A38: Transformer Replacement 5 | D38: 10 | I38: =A38 -> Transformer Replacement 5 | J38: =B38/((214/7)*4) -> 0 | K38: =C38/((214/7)*4) -> 0 | L38: =D38/((214/7)*4) -> 0.081775701 | M38: =E38/((214/7)*4) -> 0 | N38: =F38/((214/7)*4) -> 0 | O38: =G38/((214/7)*4) -> 0 | Q38: =I38 -> Transformer Replacement 5 | R38: =J38 -> 0 | S38: =K38 -> 0 | T38: =L38 -> 0.081775701 | U38: =M38 -> 0 | V38: =F38/((214/7)*5) -> 0 | W38: =G38/((214/7)*5) -> 0
A39: Transformer Replacement 6 | E39: 0 | I39: =A39 -> Transformer Replacement 6 | J39: =B39/((214/7)*4) -> 0 | K39: =C39/((214/7)*4) -> 0 | L39: =D39/((214/7)*4) -> 0 | M39: =E39/((214/7)*4) -> 0 | N39: =F39/((214/7)*4) -> 0 | O39: =G39/((214/7)*4) -> 0 | Q39: =I39 -> Transformer Replacement 6 | R39: =J39 -> 0 | S39: =K39 -> 0 | T39: =L39 -> 0 | U39: =M39 -> 0 | V39: =F39/((214/7)*5) -> 0 | W39: =G39/((214/7)*5) -> 0
A40: Transformer Replacement 7 | E40: 10 | I40: =A40 -> Transformer Replacement 7 | J40: =B40/((214/7)*4) -> 0 | K40: =C40/((214/7)*4) -> 0 | L40: =D40/((214/7)*4) -> 0 | M40: =E40/((214/7)*4) -> 0.081775701 | N40: =F40/((214/7)*4) -> 0 | O40: =G40/((214/7)*4) -> 0 | Q40: =I40 -> Transformer Replacement 7 | R40: =J40 -> 0 | S40: =K40 -> 0 | T40: =L40 -> 0 | U40: =M40 -> 0.081775701 | V40: =F40/((214/7)*5) -> 0 | W40: =G40/((214/7)*5) -> 0
A41: Transformer Replacement 8 | E41: 10 | I41: =A41 -> Transformer Replacement 8 | J41: =B41/(52*4) -> 0 | K41: =C41/(52*4) -> 0 | L41: =D41/(52*4) -> 0 | M41: =E41/((214/7)*4) -> 0.081775701 | N41: =F41/((214/7)*4) -> 0 | O41: =G41/((214/7)*4) -> 0 | Q41: =I41 -> Transformer Replacement 8 | R41: =J41 -> 0 | S41: =K41 -> 0 | T41: =L41 -> 0 | U41: =M41 -> 0.081775701 | V41: =F41/((214/7)*5) -> 0 | W41: =G41/((214/7)*5) -> 0
A42: Transformer Replacement 9 | F42: 10 | I42: =A42 -> Transformer Replacement 9 | J42: =B42/(52*4) -> 0 | K42: =C42/(52*4) -> 0 | L42: =D42/(52*4) -> 0 | M42: =E42/((214/7)*4) -> 0 | N42: =F42/((214/7)*4) -> 0.081775701 | O42: =G42/((214/7)*4) -> 0 | Q42: =I42 -> Transformer Replacement 9 | R42: =J42 -> 0 | S42: =K42 -> 0 | T42: =L42 -> 0 | U42: =M42 -> 0 | V42: =F42/((214/7)*5) -> 0.065420561 | W42: =G42/((214/7)*5) -> 0
A43: Transformer Replacement 10 | F43: 10 | I43: =A43 -> Transformer Replacement 10 | J43: =B43/(52*4) -> 0 | K43: =C43/(52*4) -> 0 | L43: =D43/(52*4) -> 0 | M43: =E43/((214/7)*4) -> 0 | N43: =F43/((214/7)*4) -> 0.081775701 | O43: =G43/((214/7)*4) -> 0 | Q43: =I43 -> Transformer Replacement 10 | R43: =J43 -> 0 | S43: =K43 -> 0 | T43: =L43 -> 0 | U43: =M43 -> 0 | V43: =F43/((214/7)*5) -> 0.065420561 | W43: =G43/((214/7)*5) -> 0
A44: Transformer Replacement 11 | F44: 10 | I44: =A44 -> Transformer Replacement 11 | J44: =B44/(52*4) -> 0 | K44: =C44/(52*4) -> 0 | L44: =D44/(52*4) -> 0 | M44: =E44/((214/7)*4) -> 0 | N44: =F44/((214/7)*4) -> 0.081775701 | O44: =G44/((214/7)*4) -> 0 | Q44: =I44 -> Transformer Replacement 11 | R44: =J44 -> 0 | S44: =K44 -> 0 | T44: =L44 -> 0 | U44: =M44 -> 0 | V44: =F44/((214/7)*5) -> 0.065420561 | W44: =G44/((214/7)*5) -> 0
A45: Transformer Replacement 12 | G45: 10 | I45: =A45 -> Transformer Replacement 12 | J45: =B45/(52*4) -> 0 | K45: =C45/(52*4) -> 0 | L45: =D45/(52*4) -> 0 | M45: =E45/((214/7)*4) -> 0 | N45: =F45/((214/7)*4) -> 0 | O45: =G45/((214/7)*4) -> 0.081775701 | Q45: =I45 -> Transformer Replacement 12 | R45: =J45 -> 0 | S45: =K45 -> 0 | T45: =L45 -> 0 | U45: =M45 -> 0 | V45: =F45/((214/7)*5) -> 0 | W45: =G45/((214/7)*5) -> 0.065420561
A46: Transformer Replacement 13 | G46: 10 | I46: =A46 -> Transformer Replacement 13 | J46: =B46/(52*4) -> 0 | K46: =C46/(52*4) -> 0 | L46: =D46/(52*4) -> 0 | M46: =E46/((214/7)*4) -> 0 | N46: =F46/((214/7)*4) -> 0 | O46: =G46/((214/7)*4) -> 0.081775701 | Q46: =I46 -> Transformer Replacement 13 | R46: =J46 -> 0 | S46: =K46 -> 0 | T46: =L46 -> 0 | U46: =M46 -> 0 | V46: =F46/((214/7)*5) -> 0 | W46: =G46/((214/7)*5) -> 0.065420561
A47: Transformer Replacement 14 | G47: 10 | I47: =A47 -> Transformer Replacement 14 | J47: =B47/(52*4) -> 0 | K47: =C47/(52*4) -> 0 | L47: =D47/(52*4) -> 0 | M47: =E47/((214/7)*4) -> 0 | N47: =F47/((214/7)*4) -> 0 | O47: =G47/((214/7)*4) -> 0.081775701 | Q47: =I47 -> Transformer Replacement 14 | R47: =J47 -> 0 | S47: =K47 -> 0 | T47: =L47 -> 0 | U47: =M47 -> 0 | V47: =F47/((214/7)*5) -> 0 | W47: =G47/((214/7)*5) -> 0.065420561
I50: 4 Portable Substations - Forecasted Fleet Usage | Q50: 5 Portable Substations (2030 & 2031) - Forecasted Fleet Usage
I51: Total | J51: =SUM(J34:J50) -> 0 | K51: =SUM(K34:K50) -> 0.081775701 | L51: =SUM(L34:L50) -> 0.081775701 | M51: =SUM(M34:M50) -> 0.1635514 | N51: =SUM(N34:N50) -> 0.2453271 | O51: =SUM(O34:O50) -> 0.2453271 | Q51: Total | R51: =SUM(R34:R50) -> 0 | S51: =SUM(S34:S50) -> 0.081775701 | T51: =SUM(T34:T50) -> 0.081775701 | U51: =SUM(U34:U50) -> 0.1635514 | V51: =SUM(V34:V50) -> 0.19626168 | W51: =SUM(W34:W50) -> 0.19626168

Sheet Usage Type Data (MAY-NOV)
C1: January | G1: February | K1: March | P1: April | T1: May | X1: June | AC1: July | AG1: August | AK1: September | AP1: October | AT1: November | AX1: December
C2: 6 | D2: 13 | E2: 20 | F2: 27 | G2: 3 | H2: 10 | I2: 17 | J2: 24 | K2: 3 | L2: 10 | M2: 17 | N2: 24 | O2: 31 | P2: 7 | Q2: 14 | R2: 21 | S2: 28 | T2: 5 | U2: 12 | V2: 19 | W2: 26 | X2: 2 | Y2: 9 | Z2: 17 | AA2: 24 | AB2: 1 | AC2: 8 | AD2: 15 | AE2: 22 | AF2: 29 | AG2: 5 | AH2: 12 | AI2: 19 | AJ2: 26 | AK2: 2 | AL2: 9 | AM2: 16 | AN2: 23 | AO2: 30 | AP2: 7 | AQ2: 14 | AR2: 21 | AS2: 28 | AT2: 4 | AU2: 11 | AV2: 18 | AW2: 25 | AX2: 2 | AY2: 9 | AZ2: 16 | BA2: 23 | BB2: 30 | BG2: WEEKS
A3: 2025 Project Schedule | BF3: Year | BG3: Spare (S) | BH3: Portable Maintenance (M) | BI3: Portable Substation Repairs (R) | BJ3: Transformer Maintenance (T) | BK3: Capital (C) | BL3: Others (O) | BM3: Emergency (E) | BN3: Multipurpose (T/C) | BO3: Sum Excluding maintenance and spare
BF4: 2025 | BG4: =COUNTIF($S$5:$AW$8,"S") -> 51 | BH4: =COUNTIF($S$5:$AW$8,"M") -> 12 | BI4: =COUNTIF($S$5:$AW$8,"R") -> 0 | BJ4: =COUNTIF($S$5:$AW$8,"T") -> 27 | BK4: =COUNTIF($S$5:$AW$8,"C") -> 24 | BL4: =COUNTIF($S$5:$AW$8,"O") -> 10 | BM4: =COUNTIF($S$5:$AW$8,"E") -> 0 | BN4: =COUNTIF($S$5:$AW$8,"T/C") -> 0 | BO4: =SUM(BJ4:BN4) -> 61 | BP4: =BO4/(214/7*4) -> 0.49883178
A5: Portable Schedule | B5: P1 | C5: S | D5: S | E5: S | F5: S | G5: S | H5: S | I5: S | J5: S | K5: S | L5: S | M5: M | N5: M | O5: M | P5: M | Q5: M | R5: M | S5: M | T5: M | U5: M | V5: M | W5: M | X5: S | Y5: S | Z5: S | AA5: S | AB5: S | AC5: S | AD5: T | AE5: T | AF5: T | AG5: T | AH5: T | AI5: T | AJ5: O | AK5: O | AL5: O | AM5: O | AN5: S | AO5: S | AP5: S | AQ5: S | AR5: S | AS5: S | AT5: S | AU5: S | AV5: T | AW5: T | AX5: T | AY5: T | AZ5: S | BA5: S | BB5: S | BF5: 2024 | BG5: =COUNTIF($S$13:$AW$16,"S") -> 71 | BH5: =COUNTIF($S$13:$AW$16,"M") -> 11 | BI5: =COUNTIF($S$13:$AW$16,"R") -> 0 | BJ5: =COUNTIF($S$13:$AW$16,"T") -> 17 | BK5: =COUNTIF($S$13:$AW$16,"C") -> 19 | BL5: =COUNTIF($S$13:$AW$16,"O") -> 0 | BM5: =COUNTIF($S$13:$AW$16,"E") -> 6 | BN5: =COUNTIF($S$13:$AW$16,"T/C") -> 0 | BO5: =SUM(BJ5:BN5) -> 42 | BP5: =BO5/(214/7*4) -> 0.34345794
B6: P3 | C6: S | D6: M | E6: M | F6: M | G6: M | H6: M | I6: M | J6: M | K6: M | L6: M | M6: S | N6: S | O6: S | P6: S | Q6: S | R6: S | S6: T | T6: T | U6: T | V6: T | W6: T | X6: T | Y6: S | Z6: S | AA6: S | AB6: S | AC6: S | AD6: S | AE6: S | AF6: S | AG6: S | AH6: S | AI6: S | AJ6: S | AK6: S | AL6: S | AM6: S | AN6: S | AO6: S | AP6: S | AQ6: T | AR6: T | AS6: T | AT6: T | AU6: T | AV6: T | AW6: S | AX6: S | AY6: S | AZ6: S | BA6: S | BB6: S | BF6: 2023 | BG6: =COUNTIF($S$23:$AW$26,"S") -> 35 | BH6: =COUNTIF($S$23:$AW$26,"M") -> 6 | BI6: =COUNTIF($S$23:$AW$26,"R") -> 0 | BJ6: =COUNTIF($S$23:$AW$26,"T") -> 27 | BK6: =COUNTIF($S$23:$AW$26,"C") -> 53 | BL6: =COUNTIF($S$23:$AW$26,"O") -> 3 | BM6: =COUNTIF($S$23:$AW$26,"E") -> 0 | BN6: =COUNTIF($S$23:$AW$26,"T/C") -> 0 | BO6: =SUM(BJ6:BN6) -> 83 | BP6: =BO6/(214/7*4) -> 0.67873832
B7: P4 | C7: S | D7: S | E7: S | F7: S | G7: S | H7: S | I7: O | J7: O | K7: O | L7: O | M7: O | N7: O | O7: O | P7: O | Q7: O | R7: O | S7: O | T7: O | U7: O | V7: O | W7: O | X7: O | Y7: S | Z7: S | AA7: S | AB7: S | AC7: S | AD7: S | AE7: S | AF7: S | AG7: S | AH7: S | AI7: S | AJ7: T | AK7: T | AL7: T | AM7: T | AN7: T | AO7: T | AP7: T | AQ7: M | AR7: M | AS7: M | AT7: M | AU7: M | AV7: M | AW7: S | AX7: S | AY7: S | AZ7: S | BA7: S | BB7: S | BF7: 2022 | BG7: =COUNTIF($S$33:$AW$36,"S") -> 53 | BH7: =COUNTIF($S$33:$AW$36,"M") -> 3 | BI7: =COUNTIF($S$33:$AW$36,"R") -> 0 | BJ7: =COUNTIF($S$33:$AW$36,"T") -> 11 | BK7: =COUNTIF($S$33:$AW$36,"C") -> 31 | BL7: =COUNTIF($S$33:$AW$36,"O") -> 14 | BM7: =COUNTIF($S$33:$AW$36,"E") -> 0 | BN7: =COUNTIF($S$33:$AW$36,"T/C") -> 12 | BO7: =SUM(BJ7:BN7) -> 68 | BP7: =BO7/(214/7*4) -> 0.55607477
B8: P5 | C8: S | D8: S | E8: S | F8: S | G8: S | H8: S | I8: S | J8: S | K8: S | L8: S | M8: S | N8: S | O8: S | P8: S | Q8: S | R8: S | S8: S | T8: S | U8: C | V8: C | W8: C | X8: C | Y8: C | Z8: C | AA8: C | AB8: C | AC8: C | AD8: C | AE8: C | AF8: C | AG8: C | AH8: C | AI8: C | AJ8: C | AK8: C | AL8: C | AM8: C | AN8: C | AO8: C | AP8: C | AQ8: C | AR8: C | AS8: S | AT8: S | AU8: S | AV8: S | AW8: M | AX8: M | AY8: M | AZ8: M | BA8: M | BB8: M | BF8: 2021 | BG8: =COUNTIF($S$43:$AW$46,"S") -> 42 | BH8: =COUNTIF($S$43:$AW$46,"M") -> 29 | BI8: =COUNTIF($S$43:$AW$46,"R") -> 13 | BJ8: =COUNTIF($S$43:$AW$46,"T") -> 1 | BK8: =COUNTIF($S$43:$AW$46,"C") -> 25 | BL8: =COUNTIF($S$43:$AW$46,"O") -> 1 | BM8: =COUNTIF($S$43:$AW$46,"E") -> 0 | BN8: =COUNTIF($S$43:$AW$46,"T/C") -> 13 | BO8: =SUM(BJ8:BN8) -> 40 | BP8: =BO8/(214/7*4) -> 0.3271028
BF9: Total | BG9: =SUM(BG4:BG8) -> 252 | BH9: =SUM(BH4:BH8) -> 61 | BI9: =SUM(BI4:BI8) -> 13 | BJ9: =SUM(BJ4:BJ8) -> 83 | BK9: =SUM(BK4:BK8) -> 152 | BL9: =SUM(BL4:BL8) -> 28 | BM9: =SUM(BM4:BM8) -> 6 | BN9: =SUM(BN4:BN8) -> 25 | BO9: =SUM(BJ4:BN8) -> 294
BF10: Percentage | BJ10: =BJ9/$BO$9 -> 0.28231293 | BK10: =BK9/$BO$9 -> 0.5170068 | BL10: =BL9/$BO$9 -> 0.095238095 | BM10: =BM9/$BO$9 -> 0.020408163 | BN10: =BN9/$BO$9 -> 0.085034014
A11: 2024 Project Schedule
A13: Portable Schedule | B13: P1 | C13: S | D13: S | E13: S | F13: S | G13: S | H13: S | I13: S | J13: S | K13: S | L13: S | M13: S | N13: S | O13: S | P13: S | Q13: S | R13: S | S13: S | T13: S | U13: S | V13: S | W13: S | X13: M | Y13: M | Z13: M | AA13: M | AB13: M | AC13: M | AD13: T | AE13: T | AF13: T | AG13: T | AH13: E | AI13: E | AJ13: E | AK13: E | AL13: E | AM13: E | AN13: S | AO13: S | AP13: S | AQ13: S | AR13: S | AS13: C | AT13: C | AU13: C | AV13: C | AW13: C | AX13: C | AY13: S | AZ13: S | BA13: S | BB13: S
B14: P3 | C14: S | D14: S | E14: O | F14: O | G14: O | H14: O | I14: O | J14: O | K14: O | L14: O | M14: O | N14: O | O14: O | P14: O | Q14: O | R14: M | S14: M | T14: M | U14: M | V14: M | W14: M | X14: S | Y14: S | Z14: S | AA14: S | AB14: S | AC14: S | AD14: S | AE14: S | AF14: S | AG14: T | AH14: T | AI14: T | AJ14: T | AK14: T | AL14: T | AM14: S | AN14: S | AO14: S | AP14: S | AQ14: S | AR14: S | AS14: S | AT14: S | AU14: S | AV14: S | AW14: S | AX14: S | AY14: S | AZ14: S | BA14: S | BB14: S | BF14: =BF3 -> Year | BG14: =BG3 -> Spare (S) | BH14: =BH3 -> Portable Maintenance (M) | BI14: =BI3 -> Portable Substation Repairs (R) | BJ14: =BJ3 -> Transformer Maintenance (T) | BK14: =BK3 -> Capital (C) | BL14: =BL3 -> Others (O) | BM14: =BM3 -> Emergency (E) | ... BO14: =BO3 -> Sum Excluding maintenance and spare
B15: P4 | C15: S | D15: S | E15: M | F15: M | G15: M | H15: M | I15: M | J15: M | K15: M | L15: S | M15: S | N15: S | O15: S | P15: S | Q15: S | R15: S | S15: S | T15: S | U15: S | V15: T | W15: T | X15: T | Y15: T | Z15: T | AA15: T | AB15: T | AC15: C | AD15: C | AE15: C | AF15: C | AG15: S | AH15: S | AI15: S | AJ15: S | AK15: S | AL15: S | AM15: S | AN15: C | AO15: C | AP15: C | AQ15: C | AR15: C | AS15: C | AT15: C | AU15: C | AV15: C | AW15: C | AX15: C | AY15: S | AZ15: S | BA15: S | BB15: S | BF15: =BF4 -> 2025 | BG15: =BG4/(214/7*4) -> 0.41705607 | BH15: =BH4/(214/7*4) -> 0.098130841 | BI15: =BI4/(214/7*4) -> 0 | BJ15: =BJ4/(214/7*4) -> 0.22079439 | BK15: =BK4/(214/7*4) -> 0.19626168 | BL15: =BL4/(214/7*4) -> 0.081775701 | BM15: =BM4/(214/7*4) -> 0 | BN15: =BN4/(214/7*4) -> 0 | BO15: =BO4/(214/7*4) -> 0.49883178
B16: P5 | C16: C | D16: C | E16: C | F16: C | G16: C | H16: C | I16: C | J16: C | K16: C | L16: C | M16: C | N16: C | O16: C | P16: C | Q16: C | R16: S | S16: S | T16: S | U16: S | V16: S | W16: S | X16: S | Y16: S | Z16: S | AA16: S | AB16: S | AC16: S | AD16: S | AE16: S | AF16: S | AG16: S | AH16: S | AI16: S | AJ16: S | AK16: S | AL16: S | AM16: S | AN16: S | AO16: S | AP16: S | AQ16: S | AR16: S | AS16: S | AT16: S | AU16: S | AV16: S | AW16: S | AX16: S | AY16: S | AZ16: S | BA16: S | BB16: S | BF16: =BF5 -> 2024 | BG16: =BG5/(214/7*4) -> 0.58060748 | BH16: =BH5/(214/7*4) -> 0.089953271 | BI16: =BI5/(214/7*4) -> 0 | BJ16: =BJ5/(214/7*4) -> 0.13901869 | BK16: =BK5/(214/7*4) -> 0.15537383 | BL16: =BL5/(214/7*4) -> 0 | BM16: =BM5/(214/7*4) -> 0.049065421 | BN16: =BN5/(214/7*4) -> 0 | BO16: =BO5/(214/7*4) -> 0.34345794
BF17: =BF6 -> 2023 | BG17: =BG6/(214/7*4) -> 0.28621495 | BH17: =BH6/(214/7*4) -> 0.049065421 | BI17: =BI6/(214/7*4) -> 0 | BJ17: =BJ6/(214/7*4) -> 0.22079439 | BK17: =BK6/(214/7*4) -> 0.43341121 | BL17: =BL6/(214/7*4) -> 0.02453271 | BM17: =BM6/(214/7*4) -> 0 | BN17: =BN6/(214/7*4) -> 0 | BO17: =BO6/(214/7*4) -> 0.67873832
BF18: =BF7 -> 2022 | BG18: =BG7/(214/7*4) -> 0.43341121 | BH18: =BH7/(214/7*4) -> 0.02453271 | BI18: =BI7/(214/7*4) -> 0 | BJ18: =BJ7/(214/7*4) -> 0.089953271 | BK18: =BK7/(214/7*4) -> 0.25350467 | BL18: =BL7/(214/7*4) -> 0.11448598 | BM18: =BM7/(214/7*4) -> 0 | BN18: =BN7/(214/7*4) -> 0.098130841 | BO18: =BO7/(214/7*4) -> 0.55607477
BF19: =BF8 -> 2021 | BG19: =BG8/(214/7*4) -> 0.34345794 | BH19: =BH8/(214/7*4) -> 0.23714953 | BI19: =BI8/(214/7*4) -> 0.10630841 | BJ19: =BJ8/(214/7*4) -> 0.0081775701 | BK19: =BK8/(214/7*4) -> 0.20443925 | BL19: =BL8/(214/7*4) -> 0.0081775701 | BM19: =BM8/(214/7*4) -> 0 | BN19: =BN8/(214/7*4) -> 0.10630841 | BO19: =BO8/(214/7*4) -> 0.3271028
BF20: =BF9 -> Total | BG20: =BG9 -> 252 | BH20: =BH9 -> 61 | BI20: =BI9 -> 13 | BJ20: =BJ9 -> 83 | BK20: =BK9 -> 152 | BL20: =BL9 -> 28 | BM20: =BM9 -> 6 | ... BO20: =BO9 -> 294
A21: 2023 Project Schedule
A23: Portable Schedule | B23: P1 | C23: S | D23: S | E23: S | F23: S | G23: S | H23: S | I23: S | J23: S | K23: C | L23: C | M23: C | N23: C | O23: C | P23: C | Q23: C | R23: C | S23: S | T23: S | U23: S | V23: T | W23: T | X23: T | Y23: T | Z23: T | AA23: T | AB23: T | AC23: T | AD23: T | AE23: T | AF23: T | AG23: T | AH23: T | AI23: T | AJ23: S | AK23: S | AL23: S | AM23: S | AN23: M | AO23: M | AP23: M | AQ23: M | AR23: M | AS23: M | AT23: O | AU23: O | AV23: O | AW23: S | AX23: S | AY23: S | AZ23: S | BA23: S | BB23: S
B24: P3 | C24: S | D24: S | E24: S | F24: S | G24: S | H24: S | I24: S | J24: E | K24: E | L24: E | M24: E | N24: E | O24: E | P24: E | Q24: E | R24: E | S24: S | T24: S | U24: S | V24: S | W24: S | X24: S | Y24: T | Z24: T | AA24: T | AB24: T | AC24: T | AD24: T | AE24: T | AF24: C | AG24: C | AH24: C | AI24: C | AJ24: C | AK24: S | AL24: S | AM24: S | AN24: S | AO24: S | AP24: S | AQ24: S | AR24: S | AS24: S | AT24: S | AU24: S | AV24: S | AW24: C | AX24: C | AY24: C | AZ24: C | BA24: C | BB24: S
B25: P4 | C25: M | D25: M | E25: M | F25: M | G25: M | H25: M | I25: M | J25: M | K25: M | L25: S | M25: S | N25: S | O25: S | P25: S | Q25: S | R25: T | S25: T | T25: T | U25: T | V25: T | W25: T | X25: T | Y25: S | Z25: S | AA25: S | AB25: S | AC25: S | AD25: S | AE25: S | AF25: C | AG25: C | AH25: C | AI25: C | AJ25: C | AK25: C | AL25: C | AM25: C | AN25: C | AO25: C | AP25: C | AQ25: C | AR25: C | AS25: S | AT25: S | AU25: C | AV25: C | AW25: C | AX25: S | AY25: S | AZ25: S | BA25: S | BB25: S
B26: P5 | C26: S | D26: S | E26: S | F26: S | G26: S | H26: S | I26: S | J26: S | K26: M | L26: M | M26: M | N26: M | O26: M | P26: M | Q26: S | R26: S | S26: C | T26: C | U26: C | V26: C | W26: C | X26: C | Y26: C | Z26: C | AA26: C | AB26: C | AC26: C | AD26: C | AE26: C | AF26: C | AG26: C | AH26: C | AI26: C | AJ26: C | AK26: C | AL26: C | AM26: C | AN26: C | AO26: C | AP26: C | AQ26: C | AR26: C | AS26: C | AT26: C | AU26: C | AV26: C | AW26: C | AX26: C | AY26: C | AZ26: C | BA26: C | BB26: C
A31: 2022 Project Schedule
A33: Portable Schedule | B33: P1 | C33: S | D33: S | E33: S | F33: S | G33: S | H33: M | I33: M | J33: M | K33: M | L33: M | M33: M | N33: S | O33: S | P33: S | Q33: S | R33: S | S33: S | T33: T | U33: T | V33: T | W33: T | X33: T | Y33: O | Z33: O | AA33: O | AB33: O | AC33: O | AD33: O | AE33: O | AF33: O | AG33: O | AH33: S | AI33: S | AJ33: S | AK33: S | AL33: C | AM33: C | AN33: C | AO33: S | AP33: S | AQ33: S | AR33: O | AS33: O | AT33: O | AU33: O | AV33: O | AW33: S | AX33: S | AY33: S | AZ33: S | BA33: S | BB33: S
B34: P3 | C34: O | D34: O | E34: O | F34: O | G34: O | H34: O | I34: O | J34: O | K34: O | L34: O | M34: O | N34: O | O34: O | P34: M | Q34: M | R34: M | S34: M | T34: M | U34: M | V34: S | W34: S | X34: S | Y34: S | Z34: S | AA34: T/C | AB34: T/C | AC34: T/C | AD34: T/C | AE34: T/C | AF34: T/C | AG34: S | AH34: S | AI34: T | AJ34: T | AK34: T | AL34: T | AM34: T | AN34: T | AO34: S | AP34: S | AQ34: S | AR34: S | AS34: S | AT34: S | AU34: S | AV34: S | AW34: S | AX34: S | AY34: S | AZ34: S | BA34: S | BB34: S
B35: P4 | C35: M | D35: M | E35: M | F35: M | G35: M | H35: S | I35: S | J35: S | K35: S | L35: S | M35: S | N35: S | O35: S | P35: S | Q35: S | R35: S | S35: C | T35: C | U35: C | V35: C | W35: C | X35: C | Y35: C | Z35: C | AA35: C | AB35: S | AC35: S | AD35: S | AE35: S | AF35: S | AG35: S | AH35: S | AI35: S | AJ35: S | AK35: S | AL35: S | AM35: S | AN35: S | AO35: S | AP35: T/C | AQ35: T/C | AR35: T/C | AS35: T/C | AT35: T/C | AU35: T/C | AV35: S | AW35: S | AX35: S | AY35: S | AZ35: S | BA35: S | BB35: S
B36: P5 | C36: S | D36: S | E36: S | F36: S | G36: S | H36: S | I36: S | J36: M | K36: M | L36: M | M36: M | N36: M | O36: M | P36: S | Q36: S | R36: S | S36: S | T36: S | U36: S | V36: S | W36: S | X36: S | Y36: S | Z36: S | AA36: S | AB36: S | AC36: S | AD36: S | AE36: C | AF36: C | AG36: C | AH36: C | AI36: C | AJ36: C | AK36: C | AL36: C | AM36: C | AN36: C | AO36: C | AP36: C | AQ36: C | AR36: C | AS36: C | AT36: C | AU36: C | AV36: C | AW36: C | AX36: C | AY36: C | AZ36: C | BA36: C | BB36: C
A41: 2021 Project Schedule
A43: Portable Schedule | B43: P1 | C43: S | D43: S | E43: S | F43: S | G43: S | H43: S | I43: S | J43: S | K43: S | L43: S | M43: M | N43: M | O43: M | P43: M | Q43: M | R43: M | S43: S | T43: C | U43: C | V43: C | W43: C | X43: C | Y43: C | Z43: C | AA43: C | AB43: C | AC43: C | AD43: S | AE43: S | AF43: S | AG43: S | AH43: C | AI43: C | AJ43: C | AK43: C | AL43: C | AM43: C | AN43: C | AO43: C | AP43: C | AQ43: C | AR43: C | AS43: C | AT43: C | AU43: C | AV43: C | AW43: O | AX43: O | AY43: O | AZ43: O | BA43: S | BB43: S
B44: P3 | C44: O | D44: O | E44: S | F44: S | G44: S | H44: S | I44: S | J44: S | K44: S | L44: S | M44: S | N44: S | O44: S | P44: S | Q44: S | R44: S | S44: S | T44: S | U44: S | V44: S | W44: T/C | X44: T/C | Y44: T/C | Z44: T/C | AA44: T/C | AB44: T/C | AC44: T/C | AD44: T/C | AE44: T/C | AF44: T/C | AG44: T/C | AH44: T/C | AI44: T/C | AJ44: R | AK44: R | AL44: R | AM44: R | AN44: R | AO44: R | AP44: R | AQ44: R | AR44: R | AS44: R | AT44: R | AU44: R | AV44: R | AW44: T | AX44: T | AY44: T | AZ44: T | BA44: S | BB44: S
B45: P4 | C45: S | D45: S | E45: M | F45: M | G45: M | H45: M | I45: M | J45: S | K45: S | L45: S | M45: S | N45: M | O45: M | P45: M | Q45: M | R45: M | S45: M | T45: M | U45: M | V45: M | W45: M | X45: M | Y45: M | Z45: M | AA45: M | AB45: M | AC45: M | AD45: M | AE45: M | AF45: M | AG45: M | AH45: M | AI45: M | AJ45: M | AK45: M | AL45: M | AM45: M | AN45: M | AO45: M | AP45: M | AQ45: M | AR45: M | AS45: M | AT45: M | AU45: M | AV45: S | AW45: S | AX45: S | AY45: S | AZ45: S | BA45: S | BB45: S
B46: P5 | C46: S | D46: S | E46: S | F46: S | G46: S | H46: S | I46: S | J46: M | K46: M | L46: M | M46: M | N46: M | O46: S | P46: S | Q46: S | R46: S | S46: S | T46: S | U46: S | V46: S | W46: S | X46: S | Y46: S | Z46: S | AA46: S | AB46: S | AC46: S | AD46: S | AE46: S | AF46: S | AG46: S | AH46: S | AI46: S | AJ46: S | AK46: S | AL46: S | AM46: S | AN46: S | AO46: S | AP46: S | AQ46: S | AR46: S | AS46: S | AT46: S | AU46: S | AV46: S | AW46: S | AX46: S | AY46: S | AZ46: S | BA46: S | BB46: S

Sheet Unavailability Data
A1: *DATA PULLED FROM USAGE TYPE DATA (MAY-NOV) SHEET
A2: 44197
B3: =TEXT(A2,"mmm") -> Jan | C3: =IF(TEXT(C5,"mmm")=TEXT(B5,"mmm"),"",TEXT(C5,"mmm")) | D3: =IF(TEXT(D5,"mmm")=TEXT(C5,"mmm"),"",TEXT(D5,"mmm")) | E3: =IF(TEXT(E5,"mmm")=TEXT(D5,"mmm"),"",TEXT(E5,"mmm")) | F3: =IF(TEXT(F5,"mmm")=TEXT(E5,"mmm"),"",TEXT(F5,"mmm")) | G3: =IF(TEXT(G5,"mmm")=TEXT(F5,"mmm"),"",TEXT(G5,"mmm")) | H3: =IF(TEXT(H5,"mmm")=TEXT(G5,"mmm"),"",TEXT(H5,"mmm")) | J3: =IF(TEXT(J5,"mmm")=TEXT(I5,"mmm"),"",TEXT(J5,"mmm")) | K3: =IF(TEXT(K5,"mmm")=TEXT(J5,"mmm"),"",TEXT(K5,"mmm")) | L3: =IF(TEXT(L5,"mmm")=TEXT(K5,"mmm"),"",TEXT(L5,"mmm")) | M3: =IF(TEXT(M5,"mmm")=TEXT(L5,"mmm"),"",TEXT(M5,"mmm")) | N3: =IF(TEXT(N5,"mmm")=TEXT(M5,"mmm"),"",TEXT(N5,"mmm")) | O3: =IF(TEXT(O5,"mmm")=TEXT(N5,"mmm"),"",TEXT(O5,"mmm")) | Q3: =IF(TEXT(Q5,"mmm")=TEXT(P5,"mmm"),"",TEXT(Q5,"mmm")) | R3: =IF(TEXT(R5,"mmm")=TEXT(Q5,"mmm"),"",TEXT(R5,"mmm")) | S3: =IF(TEXT(S5,"mmm")=TEXT(R5,"mmm"),"",TEXT(S5,"mmm")) | T3: =IF(TEXT(T5,"mmm")=TEXT(S5,"mmm"),"",TEXT(T5,"mmm")) | U3: =IF(TEXT(U5,"mmm")=TEXT(T5,"mmm"),"",TEXT(U5,"mmm")) | V3: =IF(TEXT(V5,"mmm")=TEXT(U5,"mmm"),"",TEXT(V5,"mmm")) | X3: =IF(TEXT(X5,"mmm")=TEXT(W5,"mmm"),"",TEXT(X5,"mmm")) | Y3: =IF(TEXT(Y5,"mmm")=TEXT(X5,"mmm"),"",TEXT(Y5,"mmm")) | Z3: =IF(TEXT(Z5,"mmm")=TEXT(Y5,"mmm"),"",TEXT(Z5,"mmm")) | AA3: =IF(TEXT(AA5,"mmm")=TEXT(Z5,"mmm"),"",TEXT(AA5,"mmm")) | AB3: =IF(TEXT(AB5,"mmm")=TEXT(AA5,"mmm"),"",TEXT(AB5,"mmm")) | AC3: =IF(TEXT(AC5,"mmm")=TEXT(AB5,"mmm"),"",TEXT(AC5,"mmm")) | AE3: =IF(TEXT(AE5,"mmm")=TEXT(AD5,"mmm"),"",TEXT(AE5,"mmm")) | AF3: =IF(TEXT(AF5,"mmm")=TEXT(AE5,"mmm"),"",TEXT(AF5,"mmm")) | AG3: =IF(TEXT(AG5,"mmm")=TEXT(AF5,"mmm"),"",TEXT(AG5,"mmm")) -> Feb | AH3: =IF(TEXT(AH5,"mmm")=TEXT(AG5,"mmm"),"",TEXT(AH5,"mmm")) | AI3: =IF(TEXT(AI5,"mmm")=TEXT(AH5,"mmm"),"",TEXT(AI5,"mmm")) | AJ3: =IF(TEXT(AJ5,"mmm")=TEXT(AI5,"mmm"),"",TEXT(AJ5,"mmm")) | AL3: =IF(TEXT(AL5,"mmm")=TEXT(AK5,"mmm"),"",TEXT(AL5,"mmm")) | AM3: =IF(TEXT(AM5,"mmm")=TEXT(AL5,"mmm"),"",TEXT(AM5,"mmm")) | AN3: =IF(TEXT(AN5,"mmm")=TEXT(AM5,"mmm"),"",TEXT(AN5,"mmm")) | AO3: =IF(TEXT(AO5,"mmm")=TEXT(AN5,"mmm"),"",TEXT(AO5,"mmm")) | AP3: =IF(TEXT(AP5,"mmm")=TEXT(AO5,"mmm"),"",TEXT(AP5,"mmm")) | AQ3: =IF(TEXT(AQ5,"mmm")=TEXT(AP5,"mmm"),"",TEXT(AQ5,"mmm")) | AS3: =IF(TEXT(AS5,"mmm")=TEXT(AR5,"mmm"),"",TEXT(AS5,"mmm")) | AT3: =IF(TEXT(AT5,"mmm")=TEXT(AS5,"mmm"),"",TEXT(AT5,"mmm")) | AU3: =IF(TEXT(AU5,"mmm")=TEXT(AT5,"mmm"),"",TEXT(AU5,"mmm")) | AV3: =IF(TEXT(AV5,"mmm")=TEXT(AU5,"mmm"),"",TEXT(AV5,"mmm")) | AW3: =IF(TEXT(AW5,"mmm")=TEXT(AV5,"mmm"),"",TEXT(AW5,"mmm")) | AX3: =IF(TEXT(AX5,"mmm")=TEXT(AW5,"mmm"),"",TEXT(AX5,"mmm")) | AZ3: =IF(TEXT(AZ5,"mmm")=TEXT(AY5,"mmm"),"",TEXT(AZ5,"mmm")) | BA3: =IF(TEXT(BA5,"mmm")=TEXT(AZ5,"mmm"),"",TEXT(BA5,"mmm")) | BB3: =IF(TEXT(BB5,"mmm")=TEXT(BA5,"mmm"),"",TEXT(BB5,"mmm")) | BC3: =IF(TEXT(BC5,"mmm")=TEXT(BB5,"mmm"),"",TEXT(BC5,"mmm")) | BD3: =IF(TEXT(BD5,"mmm")=TEXT(BC5,"mmm"),"",TEXT(BD5,"mmm")) | BE3: =IF(TEXT(BE5,"mmm")=TEXT(BD5,"mmm"),"",TEXT(BE5,"mmm")) | BG3: =IF(TEXT(BG5,"mmm")=TEXT(BF5,"mmm"),"",TEXT(BG5,"mmm")) | BH3: =IF(TEXT(BH5,"mmm")=TEXT(BG5,"mmm"),"",TEXT(BH5,"mmm")) | BI3: =IF(TEXT(BI5,"mmm")=TEXT(BH5,"mmm"),"",TEXT(BI5,"mmm")) -> Mar | BJ3: =IF(TEXT(BJ5,"mmm")=TEXT(BI5,"mmm"),"",TEXT(BJ5,"mmm")) | BK3: =IF(TEXT(BK5,"mmm")=TEXT(BJ5,"mmm"),"",TEXT(BK5,"mmm")) | CN3: =IF(TEXT(CN5,"mmm")=TEXT(CM5,"mmm"),"",TEXT(CN5,"mmm")) -> Apr | DR3: =IF(TEXT(DR5,"mmm")=TEXT(DQ5,"mmm"),"",TEXT(DR5,"mmm")) -> May | EW3: =IF(TEXT(EW5,"mmm")=TEXT(EV5,"mmm"),"",TEXT(EW5,"mmm")) -> Jun | EX3: =IF(TEXT(EX5,"mmm")=TEXT(EW5,"mmm"),"",TEXT(EX5,"mmm")) | FX3: =IF(TEXT(FX5,"mmm")=TEXT(FW5,"mmm"),"",TEXT(FX5,"mmm")) | FY3: =IF(TEXT(FY5,"mmm")=TEXT(FX5,"mmm"),"",TEXT(FY5,"mmm")) | FZ3: =IF(TEXT(FZ5,"mmm")=TEXT(FY5,"mmm"),"",TEXT(FZ5,"mmm")) | GA3: =IF(TEXT(GA5,"mmm")=TEXT(FZ5,"mmm"),"",TEXT(GA5,"mmm")) -> Jul | HF3: =IF(TEXT(HF5,"mmm")=TEXT(HE5,"mmm"),"",TEXT(HF5,"mmm")) -> Aug | HG3: =IF(TEXT(HG5,"mmm")=TEXT(HF5,"mmm"),"",TEXT(HG5,"mmm")) | HH3: =IF(TEXT(HH5,"mmm")=TEXT(HG5,"mmm"),"",TEXT(HH5,"mmm")) | HI3: =IF(TEXT(HI5,"mmm")=TEXT(HH5,"mmm"),"",TEXT(HI5,"mmm")) | IK3: =IF(TEXT(IK5,"mmm")=TEXT(IJ5,"mmm"),"",TEXT(IK5,"mmm")) -> Sep | JN3: =IF(TEXT(JN5,"mmm")=TEXT(JM5,"mmm"),"",TEXT(JN5,"mmm")) | JO3: =TEXT(JO5,"mmm") -> Oct | JP3: =IF(TEXT(JP5,"mmm")=TEXT(JO5,"mmm"),"",TEXT(JP5,"mmm")) | JQ3: =IF(TEXT(JQ5,"mmm")=TEXT(JP5,"mmm"),"",TEXT(JQ5,"mmm")) | JR3: =IF(TEXT(JR5,"mmm")=TEXT(JQ5,"mmm"),"",TEXT(JR5,"mmm")) | JS3: =IF(TEXT(JS5,"mmm")=TEXT(JR5,"mmm"),"",TEXT(JS5,"mmm")) | JT3: =IF(TEXT(JT5,"mmm")=TEXT(JS5,"mmm"),"",TEXT(JT5,"mmm")) | KR3: =IF(TEXT(KR5,"mmm")=TEXT(KQ5,"mmm"),"",TEXT(KR5,"mmm")) | KS3: =IF(TEXT(KS5,"mmm")=TEXT(KR5,"mmm"),"",TEXT(KS5,"mmm")) | KT3: =IF(TEXT(KT5,"mmm")=TEXT(KS5,"mmm"),"",TEXT(KT5,"mmm")) -> Nov | KU3: =IF(TEXT(KU5,"mmm")=TEXT(KT5,"mmm"),"",TEXT(KU5,"mmm")) | KV3: =IF(TEXT(KV5,"mmm")=TEXT(KU5,"mmm"),"",TEXT(KV5,"mmm")) | KZ3: =IF(TEXT(KZ5,"mmm")=TEXT(KY5,"mmm"),"",TEXT(KZ5,"mmm")) | LW3: =IF(TEXT(LW5,"mmm")=TEXT(LV5,"mmm"),"",TEXT(LW5,"mmm")) | LX3: =IF(TEXT(LX5,"mmm")=TEXT(LW5,"mmm"),"",TEXT(LX5,"mmm")) -> Dec
A4: U = Unavailable | B4: =TEXT(A2,"aaa") -> Fri | C4: =TEXT(C5,"aaa") -> Sat | D4: =TEXT(D5,"aaa") -> Sun | E4: =TEXT(E5,"aaa") -> Mon | F4: =TEXT(F5,"aaa") -> Tue | G4: =TEXT(G5,"aaa") -> Wed | H4: =TEXT(H5,"aaa") -> Thu | I4: =TEXT(I5,"aaa") -> Fri | J4: =TEXT(J5,"aaa") -> Sat | ... NB4: =TEXT(NB5,"aaa") -> Fri
A5: Assigned to: | B5: =A2 -> 44197 | C5: =B5+1 -> 44198 | D5: =C5+1 -> 44199 | E5: =D5+1 -> 44200 | F5: =E5+1 -> 44201 | G5: =F5+1 -> 44202 | H5: =G5+1 -> 44203 | I5: =H5+1 -> 44204 | J5: =I5+1 -> 44205 | ... NB5: =NA5+1 -> 44561
A6: P1 | BW6: M | BX6: M | BY6: M | BZ6: M | CA6: M | CB6: M | CC6: M | CD6: M | CE6: M | CF6: M | CG6: M | CH6: M | CI6: M | CJ6: M | CK6: M | CL6: M | CM6: M | CN6: M | CO6: M | CP6: M | CQ6: M | CR6: M | CS6: M | CT6: M | CU6: M | CV6: M | CW6: M | CX6: M | CY6: M | CZ6: M | DA6: M | DB6: M | DC6: M | DD6: M | DE6: M | DF6: M | DG6: M | DH6: M | DI6: M | DJ6: M | DT6: U | DU6: U | DV6: U | DW6: U | DX6: U | DY6: U | DZ6: U | EA6: U | EB6: U | EC6: U | ED6: U | EE6: U | EF6: U | EG6: U | EH6: U | EI6: U | EJ6: U | EK6: U | EL6: U | EM6: U | EN6: U | EO6: U | EP6: U | EQ6: U | ER6: U | ES6: U | ET6: U | EU6: U | EV6: U | EW6: U | EX6: U | EY6: U | EZ6: U | FA6: U | FB6: U | FC6: U | FD6: U | FE6: U | FF6: U | FG6: U | FH6: U | FI6: U | FJ6: U | FK6: U | FL6: U | FM6: U | FN6: U | FO6: U | FP6: U | FQ6: U | FR6: U | FS6: U | FT6: U | FU6: U | FV6: U | FW6: U | FX6: U | FY6: U | FZ6: U | GA6: U | GB6: U | GC6: U | GD6: U | GE6: U | GF6: U | GG6: U | GH6: U | HN6: U | HO6: U | HP6: U | HQ6: U | HR6: U | HS6: U | HT6: U | HU6: U | HV6: U | HW6: U | HX6: U | HY6: U | HZ6: U | IA6: U | IB6: U | IC6: U | ID6: U | IE6: U | IF6: U | IG6: U | IH6: U | II6: U | IJ6: U | IK6: U | IL6: U | IM6: U | IN6: U | IO6: U | IP6: U | IQ6: U | IR6: U | IS6: U | IT6: U | IU6: U | IV6: U | IW6: U | IX6: U | IY6: U | IZ6: U | JA6: U | JB6: U | JC6: U | JD6: U | JE6: U | JF6: U | JG6: U | JH6: U | JI6: U | JJ6: U | JK6: U | JL6: U | JM6: U | JN6: U | JO6: U | JP6: U | JQ6: U | JR6: U | JS6: U | JT6: U | JU6: U | JV6: U | JW6: U | JX6: U | JY6: U | JZ6: U | KA6: U | KB6: U | KC6: U | KD6: U | KE6: U | KF6: U | KG6: U | KH6: U | KI6: U | KJ6: U | KK6: U | KL6: U | KM6: U | KN6: U | KO6: U | KP6: U | KQ6: U | KR6: U | KS6: U | KT6: U | KU6: U | KV6: U | KW6: U | KX6: U | KY6: U | KZ6: U | LA6: U | LB6: U | LC6: U | LD6: U | LE6: U | LF6: U | LG6: U | LH6: U | LI6: U | LJ6: U | LK6: U | LL6: U | LO6: H | LP6: H | LQ6: H | LR6: H | LS6: H | LT6: H | LU6: H | LV6: H | LW6: H | LX6: H | LY6: H | LZ6: H | MA6: H | MB6: H | MC6: H | MD6: H | ME6: H | MF6: H | MG6: H | MH6: H | MI6: H | MJ6: H | MK6: H | ML6: H | MM6: H | MN6: H | NC6: YEAR END
A7: P3 | E7: H | F7: H | G7: H | H7: H | I7: H | J7: H | K7: H | L7: H | M7: H | N7: H | O7: H | P7: H | Q7: H | R7: H | S7: H | T7: H | U7: H | V7: H | W7: H | X7: H | Y7: H | Z7: H | AA7: H | AB7: H | AC7: H | AD7: H | AE7: H | AF7: H | AG7: H | AH7: H | AI7: H | AJ7: H | AK7: H | AL7: H | AM7: H | AN7: H | AO7: H | AP7: H | AQ7: H | AR7: H | AS7: H | AT7: H | AU7: H | AV7: H | AW7: H | AX7: H | AY7: H | AZ7: H | BA7: H | BB7: H | BC7: H | BD7: H | BE7: H | BF7: H | BG7: H | BH7: H | BI7: H | BJ7: H | BK7: H | BL7: H | BM7: H | BN7: H | BO7: H | BP7: H | BQ7: H | BR7: H | BS7: H | BT7: H | BU7: H | BV7: H | BW7: H | BX7: H | BY7: H | BZ7: H | CA7: H | CB7: H | CC7: H | CD7: H | CE7: H | CF7: H | CG7: H | CH7: H | CI7: H | CJ7: H | CK7: H | CL7: H | CM7: H | EO7: U | EP7: U | EQ7: U | ER7: U | ES7: U | ET7: U | EU7: U | EV7: U | EW7: U | EX7: U | EY7: U | EZ7: U | FA7: U | FB7: U | FC7: U | FD7: U | FE7: U | FF7: U | FG7: U | FH7: U | FI7: U | FJ7: U | FK7: U | FL7: U | FM7: U | FN7: U | FO7: U | FP7: U | FQ7: U | FR7: U | FS7: U | FT7: U | FU7: U | FV7: U | FW7: U | FX7: U | FY7: U | FZ7: U | GA7: U | GB7: U | GC7: U | GD7: U | GE7: U | GF7: U | GG7: U | GH7: U | GI7: U | GJ7: U | GK7: U | GL7: U | GM7: U | GN7: U | GO7: U | GP7: U | GQ7: U | GR7: U | GS7: U | GT7: U | GU7: U | GV7: U | GW7: U | GX7: U | GY7: U | GZ7: U | HA7: U | HB7: U | HC7: U | HD7: U | HE7: U | HF7: U | HG7: U | HH7: U | HI7: U | HJ7: U | HK7: U | HL7: U | HM7: U | HN7: U | HO7: U | HP7: U | HQ7: U | HR7: U | HS7: U | HT7: U | HU7: U | HV7: U | HW7: U | HX7: U | HY7: U | HZ7: U | IA7: U | IB7: U | IC7: U | ID7: U | IE7: U | IF7: U | IG7: U | IH7: U | II7: U | IJ7: U | IK7: U | IL7: U | IM7: U | IN7: U | IO7: U | IP7: U | IQ7: U | IR7: U | IS7: U | IT7: U | IU7: U | IV7: U | IW7: U | IX7: U | IY7: U | IZ7: U | JA7: U | JB7: U | JC7: U | JD7: U | JE7: U | JF7: U | JG7: U | JH7: U | JI7: U | JJ7: U | JK7: U | JL7: U | JM7: U | JN7: U | JO7: U | JP7: U | JQ7: U | JR7: U | JS7: U | JT7: U | JU7: U | JV7: U | JW7: U | JX7: U | JY7: U | JZ7: U | KA7: U | KB7: U | KC7: U | KD7: U | KE7: U | KF7: U | KG7: U | KH7: U | KI7: U | KJ7: U | KK7: U | KL7: U | KM7: U | KN7: U | KO7: U | KP7: U | KQ7: U | KR7: U | KS7: U | KT7: U | KU7: U | KV7: U | KW7: U | KX7: U | KY7: U | KZ7: U | LA7: U | LB7: U | LC7: U | LD7: U | LE7: U | LF7: U | LG7: U | LH7: U | LI7: U | LJ7: U | LK7: U | LL7: U | LM7: U | LN7: U | LO7: U | LP7: U | LQ7: U | LR7: U | LS7: U | LT7: U | LU7: U | LV7: U | LW7: U | LX7: U | LY7: U | LZ7: U | MA7: U | MB7: U | MC7: U | MD7: U | ME7: U | MF7: U | MG7: U | MH7: U | MI7: U | MJ7: U | MK7: U | ML7: U | MM7: U | MN7: U | NC7: YEAR END
A8: P4 | S8: M | T8: M | U8: M | V8: M | W8: M | X8: M | Y8: M | Z8: M | AA8: M | AB8: M | AC8: M | AD8: M | AE8: M | AF8: M | AG8: M | AH8: M | AI8: M | AJ8: M | AK8: M | AL8: M | AM8: M | AN8: M | AO8: M | AP8: M | AQ8: M | AR8: M | AS8: M | AT8: M | AU8: M | AV8: M | AW8: M | AX8: M | AY8: M | CD8: U | CE8: U | CF8: U | CG8: U | CH8: U | CI8: U | CJ8: U | CK8: U | CL8: U | CM8: U | CN8: U | CO8: U | CP8: U | CQ8: U | CR8: U | CS8: U | CT8: U | CU8: U | CV8: U | CW8: U | CX8: U | CY8: U | CZ8: U | DA8: U | DB8: U | DC8: U | DD8: U | DE8: U | DF8: U | DG8: U | DH8: U | DI8: U | DJ8: U | DK8: U | DL8: U | DM8: U | DN8: U | DO8: U | DP8: U | DQ8: U | DR8: U | DS8: U | DT8: U | DU8: U | DV8: U | DW8: U | DX8: U | DY8: U | DZ8: U | EA8: U | EB8: U | EC8: U | ED8: U | EE8: U | EF8: U | EG8: U | EH8: U | EI8: U | EJ8: U | EK8: U | EL8: U | EM8: U | EN8: U | EO8: U | EP8: U | EQ8: U | ER8: U | ES8: U | ET8: U | EU8: U | EV8: U | EW8: U | EX8: U | EY8: U | EZ8: U | FA8: U | FB8: U | FC8: U | FD8: U | FE8: U | FF8: U | FG8: U | FH8: U | FI8: U | FJ8: U | FK8: U | FL8: U | FM8: U | FN8: U | FO8: U | FP8: U | FQ8: U | FR8: U | FS8: U | FT8: U | FU8: U | FV8: U | FW8: U | FX8: U | FY8: U | FZ8: U | GA8: U | GB8: U | GC8: U | GD8: U | GE8: U | GF8: U | GG8: U | GH8: U | GI8: U | GJ8: U | GK8: U | GL8: U | GM8: U | GN8: U | GO8: U | GP8: U | GQ8: U | GR8: U | GS8: U | GT8: U | GU8: U | GV8: U | GW8: U | GX8: U | GY8: U | GZ8: U | HA8: U | HB8: U | HC8: U | HD8: U | HE8: U | HF8: U | HG8: U | HH8: U | HI8: U | HJ8: U | HK8: U | HL8: U | HM8: U | HN8: U | HO8: U | HP8: U | HQ8: U | HR8: U | HS8: U | HT8: U | HU8: U | HV8: U | HW8: U | HX8: U | HY8: U | HZ8: U | IA8: U | IB8: U | IC8: U | ID8: U | IE8: U | IF8: U | IG8: U | IH8: U | II8: U | IJ8: U | IK8: U | IL8: U | IM8: U | IN8: U | IO8: U | IP8: U | IQ8: U | IR8: U | IS8: U | IT8: U | IU8: U | IV8: U | IW8: U | IX8: U | IY8: U | IZ8: U | JA8: U | JB8: U | JC8: U | JD8: U | JE8: U | JF8: U | JG8: U | JH8: U | JI8: U | JJ8: U | JK8: U | JL8: U | JM8: U | JN8: U | JO8: U | JP8: U | JQ8: U | JR8: U | JS8: U | JT8: U | JU8: U | JV8: U | JW8: U | JX8: U | JY8: U | JZ8: U | KA8: U | KB8: U | KC8: U | KD8: U | KE8: U | KF8: U | KG8: U | KH8: U | KI8: U | KJ8: U | KK8: U | KL8: U | KM8: U | KN8: U | KO8: U | KP8: U | KQ8: U | KR8: U | KS8: U | KT8: U | KU8: U | KV8: U | KW8: U | KX8: U | KY8: U | KZ8: U | LA8: U | LB8: U | LC8: U | LD8: U | LE8: U | NC8: YEAR END
A9: P5 | BB9: M | BC9: M | BD9: M | BE9: M | BF9: M | BG9: M | BH9: M | BI9: M | BJ9: M | BK9: M | BL9: M | BM9: M | BN9: M | BO9: M | BP9: M | BQ9: M | BR9: M | BS9: M | BT9: M | BU9: M | BV9: M | BW9: M | BX9: M | BY9: M | BZ9: M | CA9: M | CB9: M | CC9: M | CD9: M | CE9: M | CF9: M | CG9: M | CH9: M | NC9: YEAR END
A11: 44562
B12: =TEXT(A11,"mmm") -> Jan | C12: =IF(TEXT(C14,"mmm")=TEXT(B14,"mmm"),"",TEXT(C14,"mmm")) | D12: =IF(TEXT(D14,"mmm")=TEXT(C14,"mmm"),"",TEXT(D14,"mmm")) | E12: =IF(TEXT(E14,"mmm")=TEXT(D14,"mmm"),"",TEXT(E14,"mmm")) | F12: =IF(TEXT(F14,"mmm")=TEXT(E14,"mmm"),"",TEXT(F14,"mmm")) | G12: =IF(TEXT(G14,"mmm")=TEXT(F14,"mmm"),"",TEXT(G14,"mmm")) | H12: =IF(TEXT(H14,"mmm")=TEXT(G14,"mmm"),"",TEXT(H14,"mmm")) | J12: =IF(TEXT(J14,"mmm")=TEXT(I14,"mmm"),"",TEXT(J14,"mmm")) | K12: =IF(TEXT(K14,"mmm")=TEXT(J14,"mmm"),"",TEXT(K14,"mmm")) | L12: =IF(TEXT(L14,"mmm")=TEXT(K14,"mmm"),"",TEXT(L14,"mmm")) | M12: =IF(TEXT(M14,"mmm")=TEXT(L14,"mmm"),"",TEXT(M14,"mmm")) | N12: =IF(TEXT(N14,"mmm")=TEXT(M14,"mmm"),"",TEXT(N14,"mmm")) | O12: =IF(TEXT(O14,"mmm")=TEXT(N14,"mmm"),"",TEXT(O14,"mmm")) | Q12: =IF(TEXT(Q14,"mmm")=TEXT(P14,"mmm"),"",TEXT(Q14,"mmm")) | R12: =IF(TEXT(R14,"mmm")=TEXT(Q14,"mmm"),"",TEXT(R14,"mmm")) | S12: =IF(TEXT(S14,"mmm")=TEXT(R14,"mmm"),"",TEXT(S14,"mmm")) | T12: =IF(TEXT(T14,"mmm")=TEXT(S14,"mmm"),"",TEXT(T14,"mmm")) | U12: =IF(TEXT(U14,"mmm")=TEXT(T14,"mmm"),"",TEXT(U14,"mmm")) | V12: =IF(TEXT(V14,"mmm")=TEXT(U14,"mmm"),"",TEXT(V14,"mmm")) | X12: =IF(TEXT(X14,"mmm")=TEXT(W14,"mmm"),"",TEXT(X14,"mmm")) | Y12: =IF(TEXT(Y14,"mmm")=TEXT(X14,"mmm"),"",TEXT(Y14,"mmm")) | Z12: =IF(TEXT(Z14,"mmm")=TEXT(Y14,"mmm"),"",TEXT(Z14,"mmm")) | AA12: =IF(TEXT(AA14,"mmm")=TEXT(Z14,"mmm"),"",TEXT(AA14,"mmm")) | AB12: =IF(TEXT(AB14,"mmm")=TEXT(AA14,"mmm"),"",TEXT(AB14,"mmm")) | AC12: =IF(TEXT(AC14,"mmm")=TEXT(AB14,"mmm"),"",TEXT(AC14,"mmm")) | AE12: =IF(TEXT(AE14,"mmm")=TEXT(AD14,"mmm"),"",TEXT(AE14,"mmm")) | AF12: =IF(TEXT(AF14,"mmm")=TEXT(AE14,"mmm"),"",TEXT(AF14,"mmm")) | AG12: =IF(TEXT(AG14,"mmm")=TEXT(AF14,"mmm"),"",TEXT(AG14,"mmm")) -> Feb | AH12: =IF(TEXT(AH14,"mmm")=TEXT(AG14,"mmm"),"",TEXT(AH14,"mmm")) | AI12: =IF(TEXT(AI14,"mmm")=TEXT(AH14,"mmm"),"",TEXT(AI14,"mmm")) | AJ12: =IF(TEXT(AJ14,"mmm")=TEXT(AI14,"mmm"),"",TEXT(AJ14,"mmm")) | AL12: =IF(TEXT(AL14,"mmm")=TEXT(AK14,"mmm"),"",TEXT(AL14,"mmm")) | AM12: =IF(TEXT(AM14,"mmm")=TEXT(AL14,"mmm"),"",TEXT(AM14,"mmm")) | AN12: =IF(TEXT(AN14,"mmm")=TEXT(AM14,"mmm"),"",TEXT(AN14,"mmm")) | AO12: =IF(TEXT(AO14,"mmm")=TEXT(AN14,"mmm"),"",TEXT(AO14,"mmm")) | AP12: =IF(TEXT(AP14,"mmm")=TEXT(AO14,"mmm"),"",TEXT(AP14,"mmm")) | AQ12: =IF(TEXT(AQ14,"mmm")=TEXT(AP14,"mmm"),"",TEXT(AQ14,"mmm")) | AS12: =IF(TEXT(AS14,"mmm")=TEXT(AR14,"mmm"),"",TEXT(AS14,"mmm")) | AT12: =IF(TEXT(AT14,"mmm")=TEXT(AS14,"mmm"),"",TEXT(AT14,"mmm")) | AU12: =IF(TEXT(AU14,"mmm")=TEXT(AT14,"mmm"),"",TEXT(AU14,"mmm")) | AV12: =IF(TEXT(AV14,"mmm")=TEXT(AU14,"mmm"),"",TEXT(AV14,"mmm")) | AW12: =IF(TEXT(AW14,"mmm")=TEXT(AV14,"mmm"),"",TEXT(AW14,"mmm")) | AX12: =IF(TEXT(AX14,"mmm")=TEXT(AW14,"mmm"),"",TEXT(AX14,"mmm")) | AZ12: =IF(TEXT(AZ14,"mmm")=TEXT(AY14,"mmm"),"",TEXT(AZ14,"mmm")) | BA12: =IF(TEXT(BA14,"mmm")=TEXT(AZ14,"mmm"),"",TEXT(BA14,"mmm")) | BB12: =IF(TEXT(BB14,"mmm")=TEXT(BA14,"mmm"),"",TEXT(BB14,"mmm")) | BC12: =IF(TEXT(BC14,"mmm")=TEXT(BB14,"mmm"),"",TEXT(BC14,"mmm")) | BD12: =IF(TEXT(BD14,"mmm")=TEXT(BC14,"mmm"),"",TEXT(BD14,"mmm")) | BE12: =IF(TEXT(BE14,"mmm")=TEXT(BD14,"mmm"),"",TEXT(BE14,"mmm")) | BG12: =IF(TEXT(BG14,"mmm")=TEXT(BF14,"mmm"),"",TEXT(BG14,"mmm")) | BH12: =IF(TEXT(BH14,"mmm")=TEXT(BG14,"mmm"),"",TEXT(BH14,"mmm")) | BI12: =IF(TEXT(BI14,"mmm")=TEXT(BH14,"mmm"),"",TEXT(BI14,"mmm")) -> Mar | BJ12: =IF(TEXT(BJ14,"mmm")=TEXT(BI14,"mmm"),"",TEXT(BJ14,"mmm")) | BK12: =IF(TEXT(BK14,"mmm")=TEXT(BJ14,"mmm"),"",TEXT(BK14,"mmm")) | CN12: =IF(TEXT(CN14,"mmm")=TEXT(CM14,"mmm"),"",TEXT(CN14,"mmm")) -> Apr | DR12: =IF(TEXT(DR14,"mmm")=TEXT(DQ14,"mmm"),"",TEXT(DR14,"mmm")) -> May | EW12: =IF(TEXT(EW14,"mmm")=TEXT(EV14,"mmm"),"",TEXT(EW14,"mmm")) -> Jun | EX12: =IF(TEXT(EX14,"mmm")=TEXT(EW14,"mmm"),"",TEXT(EX14,"mmm")) | FX12: =IF(TEXT(FX14,"mmm")=TEXT(FW14,"mmm"),"",TEXT(FX14,"mmm")) | FY12: =IF(TEXT(FY14,"mmm")=TEXT(FX14,"mmm"),"",TEXT(FY14,"mmm")) | FZ12: =IF(TEXT(FZ14,"mmm")=TEXT(FY14,"mmm"),"",TEXT(FZ14,"mmm")) | GA12: =IF(TEXT(GA14,"mmm")=TEXT(FZ14,"mmm"),"",TEXT(GA14,"mmm")) -> Jul | HF12: =IF(TEXT(HF14,"mmm")=TEXT(HE14,"mmm"),"",TEXT(HF14,"mmm")) -> Aug | HG12: =IF(TEXT(HG14,"mmm")=TEXT(HF14,"mmm"),"",TEXT(HG14,"mmm")) | HH12: =IF(TEXT(HH14,"mmm")=TEXT(HG14,"mmm"),"",TEXT(HH14,"mmm")) | HI12: =IF(TEXT(HI14,"mmm")=TEXT(HH14,"mmm"),"",TEXT(HI14,"mmm")) | IK12: =IF(TEXT(IK14,"mmm")=TEXT(IJ14,"mmm"),"",TEXT(IK14,"mmm")) -> Sep | JN12: =IF(TEXT(JN14,"mmm")=TEXT(JM14,"mmm"),"",TEXT(JN14,"mmm")) | JO12: =TEXT(JO14,"mmm") -> Oct | JP12: =IF(TEXT(JP14,"mmm")=TEXT(JO14,"mmm"),"",TEXT(JP14,"mmm")) | JQ12: =IF(TEXT(JQ14,"mmm")=TEXT(JP14,"mmm"),"",TEXT(JQ14,"mmm")) | JR12: =IF(TEXT(JR14,"mmm")=TEXT(JQ14,"mmm"),"",TEXT(JR14,"mmm")) | JS12: =IF(TEXT(JS14,"mmm")=TEXT(JR14,"mmm"),"",TEXT(JS14,"mmm")) | JT12: =IF(TEXT(JT14,"mmm")=TEXT(JS14,"mmm"),"",TEXT(JT14,"mmm")) | KR12: =IF(TEXT(KR14,"mmm")=TEXT(KQ14,"mmm"),"",TEXT(KR14,"mmm")) | KS12: =IF(TEXT(KS14,"mmm")=TEXT(KR14,"mmm"),"",TEXT(KS14,"mmm")) | KT12: =IF(TEXT(KT14,"mmm")=TEXT(KS14,"mmm"),"",TEXT(KT14,"mmm")) -> Nov | KU12: =IF(TEXT(KU14,"mmm")=TEXT(KT14,"mmm"),"",TEXT(KU14,"mmm")) | KV12: =IF(TEXT(KV14,"mmm")=TEXT(KU14,"mmm"),"",TEXT(KV14,"mmm")) | KZ12: =IF(TEXT(KZ14,"mmm")=TEXT(KY14,"mmm"),"",TEXT(KZ14,"mmm")) | LW12: =IF(TEXT(LW14,"mmm")=TEXT(LV14,"mmm"),"",TEXT(LW14,"mmm")) | LX12: =IF(TEXT(LX14,"mmm")=TEXT(LW14,"mmm"),"",TEXT(LX14,"mmm")) -> Dec
A13: U = Unavailable | B13: =TEXT(A11,"aaa") -> Sat | C13: =TEXT(C14,"aaa") -> Sun | D13: =TEXT(D14,"aaa") -> Mon | E13: =TEXT(E14,"aaa") -> Tue | F13: =TEXT(F14,"aaa") -> Wed | G13: =TEXT(G14,"aaa") -> Thu | H13: =TEXT(H14,"aaa") -> Fri | I13: =TEXT(I14,"aaa") -> Sat | J13: =TEXT(J14,"aaa") -> Sun | ... NB13: =TEXT(NB14,"aaa") -> Sat
A14: Assigned to: | B14: =A11 -> 44562 | C14: =B14+1 -> 44563 | D14: =C14+1 -> 44564 | E14: =D14+1 -> 44565 | F14: =E14+1 -> 44566 | G14: =F14+1 -> 44567 | H14: =G14+1 -> 44568 | I14: =H14+1 -> 44569 | J14: =I14+1 -> 44570 | ... NB14: =NA14+1 -> 44926
A15: P1 | AM15: M | AN15: M | AO15: M | AP15: M | AQ15: M | AR15: M | AS15: M | AT15: M | AU15: M | AV15: M | AW15: M | AX15: M | AY15: M | AZ15: M | BA15: M | BB15: M | BC15: M | BD15: M | BE15: M | BF15: M | BG15: M | BH15: M | BI15: M | BJ15: M | BK15: M | BL15: M | BM15: M | BN15: M | BO15: M | BP15: M | BQ15: M | BR15: M | BS15: M | BT15: M | BU15: M | BV15: M | BW15: M | BX15: M | BY15: M | BZ15: M | DS15: U | DT15: U | DU15: U | DV15: U | DW15: U | DX15: U | DY15: U | DZ15: U | EA15: U | EB15: U | EC15: U | ED15: U | EE15: U | EF15: U | EG15: U | EH15: U | EI15: U | EJ15: U | EK15: U | EL15: U | EM15: U | EN15: U | EO15: U | EP15: U | EQ15: U | ER15: U | ES15: U | ET15: U | EU15: U | EV15: U | EW15: U | EX15: U | EY15: U | EZ15: U | FA15: U | FB15: H | FC15: H | FD15: H | FE15: H | FF15: H | FG15: H | FH15: H | FI15: H | FJ15: H | FK15: H | FL15: H | FM15: H | FN15: H | FO15: H | FP15: H | FQ15: H | FR15: H | FS15: H | FT15: H | FU15: H | FV15: H | FW15: H | FX15: H | FY15: H | FZ15: H | GA15: H | GB15: H | GC15: H | GD15: H | GE15: H | GF15: H | GG15: H | GH15: H | GI15: H | GJ15: H | GK15: H | GL15: H | GM15: H | GN15: H | GO15: H | GP15: H | GQ15: H | GR15: H | GS15: H | GT15: H | GU15: H | GV15: H | GW15: H | GX15: H | GY15: H | GZ15: H | HA15: H | HB15: H | HC15: H | HD15: H | HE15: H | HF15: H | HG15: H | HH15: H | HI15: H | HJ15: H | HK15: H | HL15: H | IO15: U | IP15: U | IQ15: U | IR15: U | IS15: U | IT15: U | IU15: U | IV15: U | IW15: U | IX15: U | IY15: U | IZ15: U | JA15: U | JB15: U | JC15: U | JD15: U | JE15: U | JF15: U | JG15: U | KE15: H | KF15: H | KG15: H | KH15: H | KI15: H | KJ15: H | KK15: H | KL15: H | KM15: H | KN15: H | KO15: H | KP15: H | KQ15: H | KR15: H | KS15: H | KT15: H | KU15: H | KV15: H | KW15: H | KX15: H | KY15: H | KZ15: H | LA15: H | LB15: H | LC15: H | LD15: H | LE15: H | LF15: H | LG15: H | LH15: H | LI15: H | LJ15: H | LK15: H | NC15: YEAR END
A16: P3 | D16: H | E16: H | F16: H | G16: H | H16: H | I16: H | J16: H | K16: H | L16: H | M16: H | N16: H | O16: H | P16: H | Q16: H | R16: H | S16: H | T16: H | U16: H | V16: H | W16: H | X16: H | Y16: H | Z16: H | AA16: H | AB16: H | AC16: H | AD16: H | AE16: H | AF16: H | AG16: H | AH16: H | AI16: H | AJ16: H | AK16: H | AL16: H | AM16: H | AN16: H | AO16: H | AP16: H | AQ16: H | AR16: H | AS16: H | AT16: H | AU16: H | AV16: H | AW16: H | AX16: H | AY16: H | AZ16: H | BA16: H | BB16: H | BC16: H | BD16: H | BE16: H | BF16: H | BG16: H | BH16: H | BI16: H | BJ16: H | BK16: H | BL16: H | BM16: H | BN16: H | BO16: H | BP16: H | BQ16: H | BR16: H | BS16: H | BT16: H | BU16: H | BV16: H | BW16: H | BX16: H | BY16: H | BZ16: H | CA16: H | CB16: H | CC16: H | CD16: H | CE16: H | CF16: H | CG16: H | CH16: H | CI16: H | CJ16: H | CK16: H | CL16: H | CM16: H | CN16: H | CO16: M | CP16: M | CQ16: M | CR16: M | CS16: M | CT16: M | CU16: M | CV16: M | CW16: M | CX16: M | CY16: M | CZ16: M | DA16: M | DB16: M | DC16: M | DD16: M | DE16: M | DF16: M | DG16: M | DH16: M | DI16: M | DJ16: M | DK16: M | DL16: M | DM16: M | DN16: M | DO16: M | DP16: M | DQ16: M | DR16: M | DS16: M | DT16: M | DU16: M | DV16: M | DW16: M | DX16: M | DY16: M | DZ16: M | EA16: M | EB16: M | EC16: M | ED16: M | FP16: U | FQ16: U | FR16: U | FS16: U | FT16: U | FU16: U | FV16: U | FW16: U | FX16: U | FY16: U | FZ16: U | GA16: U | GB16: U | GC16: U | GD16: U | GE16: U | GF16: U | GG16: U | GH16: U | GI16: U | GJ16: U | GK16: U | GL16: U | GM16: U | GN16: U | GO16: U | GP16: U | GQ16: U | GR16: U | GS16: U | GT16: U | GU16: U | GV16: U | GW16: U | GX16: U | GY16: U | GZ16: U | HA16: U | HB16: U | HC16: U | HT16: U | HU16: U | HV16: U | HW16: U | HX16: U | HY16: U | HZ16: U | IA16: U | IB16: U | IC16: U | ID16: U | IE16: U | IF16: U | IG16: U | IH16: U | II16: U | IJ16: U | IK16: U | IL16: U | IM16: U | IN16: U | IO16: U | IP16: U | IQ16: U | IR16: U | IS16: U | IT16: U | IU16: U | IV16: U | IW16: U | IX16: U | IY16: U | IZ16: U | JA16: U | JB16: U | JC16: U | JD16: U | JE16: U | JF16: U | JG16: U | NC16: YEAR END
A17: P4 | D17: M | E17: M | F17: M | G17: M | H17: M | I17: M | J17: M | K17: M | L17: M | M17: M | N17: M | O17: M | P17: M | Q17: M | R17: M | S17: M | T17: M | U17: M | V17: M | W17: M | X17: M | Y17: M | Z17: M | AA17: M | AB17: M | AC17: M | AD17: M | AE17: M | AF17: M | AG17: M | AH17: M | AI17: M | AJ17: M | DL17: U | DM17: U | DN17: U | DO17: U | DP17: U | DQ17: U | DR17: U | DS17: U | DT17: U | DU17: U | DV17: U | DW17: U | DX17: U | DY17: U | DZ17: U | EA17: U | EB17: U | EC17: U | ED17: U | EE17: U | EF17: U | EG17: U | EH17: U | EI17: U | EJ17: U | EK17: U | EL17: U | EM17: U | EN17: U | EO17: U | EP17: U | EQ17: U | ER17: U | ES17: U | ET17: U | EU17: U | EV17: U | EW17: U | EX17: U | EY17: U | EZ17: U | FA17: U | FB17: U | FC17: U | FD17: U | FE17: U | FF17: U | FG17: U | FH17: U | FI17: U | FJ17: U | FK17: U | FL17: U | FM17: U | FN17: U | FO17: U | FP17: U | FQ17: U | FR17: U | FS17: U | FT17: U | JQ17: U | JR17: U | JS17: U | JT17: U | JU17: U | JV17: U | JW17: U | JX17: U | JY17: U | JZ17: U | KA17: U | KB17: U | KC17: U | KD17: U | KE17: U | KF17: U | KG17: U | KH17: U | KI17: U | KJ17: U | KK17: U | KL17: U | KM17: U | KN17: U | KO17: U | KP17: U | KQ17: U | KR17: U | KS17: U | KT17: U | KU17: U | KV17: U | KW17: U | KX17: U | KY17: U | KZ17: U | LA17: U | LB17: U | LC17: U | LD17: U | NC17: YEAR END
A18: P5 | BA18: M | BB18: M | BC18: M | BD18: M | BE18: M | BF18: M | BG18: M | BH18: M | BI18: M | BJ18: M | BK18: M | BL18: M | BM18: M | BN18: M | BO18: M | BP18: M | BQ18: M | BR18: M | BS18: M | BT18: M | BU18: M | BV18: M | BW18: M | BX18: M | BY18: M | BZ18: M | CA18: M | CB18: M | CC18: M | CD18: M | CE18: M | CF18: M | CG18: M | CH18: M | CI18: M | CJ18: M | CK18: M | CL18: M | CM18: M | CN18: M | GR18: U | GS18: U | GT18: U | GU18: U | GV18: U | GW18: U | GX18: U | GY18: U | GZ18: U | HA18: U | HB18: U | HC18: U | HD18: U | HE18: U | HF18: U | HG18: U | HH18: U | HI18: U | HJ18: U | HK18: U | HL18: U | HM18: U | HN18: U | HO18: U | HP18: U | HQ18: U | HR18: U | HS18: U | HT18: U | HU18: U | HV18: U | HW18: U | HX18: U | HY18: U | HZ18: U | IA18: U | IB18: U | IC18: U | ID18: U | IE18: U | IF18: U | IG18: U | IH18: U | II18: U | IJ18: U | IK18: U | IL18: U | IM18: U | IN18: U | IO18: U | IP18: U | IQ18: U | IR18: U | IS18: U | IT18: U | IU18: U | IV18: U | IW18: U | IX18: U | IY18: U | IZ18: U | JA18: U | JB18: U | JC18: U | JD18: U | JE18: U | JF18: U | JG18: U | JH18: U | JI18: U | JJ18: U | JK18: U | JL18: U | JM18: U | JN18: U | JO18: U | JP18: U | JQ18: U | JR18: U | JS18: U | JT18: U | JU18: U | JV18: U | JW18: U | JX18: U | JY18: U | JZ18: U | KA18: U | KB18: U | KC18: U | KD18: U | KE18: U | KF18: U | KG18: U | KH18: U | KI18: U | KJ18: U | KK18: U | KL18: U | KM18: U | KN18: U | KO18: U | KP18: U | KQ18: U | KR18: U | KS18: U | KT18: U | KU18: U | KV18: U | KW18: U | KX18: U | KY18: U | KZ18: U | LA18: U | LB18: U | LC18: U | LD18: U | LE18: U | LF18: U | LG18: U | LH18: U | LI18: U | LJ18: U | LK18: U | LL18: U | LM18: U | LN18: U | LO18: U | LP18: U | LQ18: U | LR18: U | LS18: U | LT18: U | LU18: U | LV18: U | LW18: U | LX18: U | LY18: U | LZ18: U | MA18: U | MB18: U | MC18: U | MD18: U | ME18: U | MF18: U | MG18: U | MH18: U | MI18: U | MJ18: U | MK18: U | ML18: U | MM18: U | MN18: U | MO18: U | MP18: U | MQ18: U | MR18: U | MS18: U | MT18: U | MU18: U | MV18: U | MW18: U | MX18: U | MY18: U | MZ18: U | NA18: U | NB18: U | NC18: YEAR END
A20: 44927
B21: =TEXT(A20,"mmm") -> Jan | C21: =IF(TEXT(C23,"mmm")=TEXT(B23,"mmm"),"",TEXT(C23,"mmm")) | D21: =IF(TEXT(D23,"mmm")=TEXT(C23,"mmm"),"",TEXT(D23,"mmm")) | E21: =IF(TEXT(E23,"mmm")=TEXT(D23,"mmm"),"",TEXT(E23,"mmm")) | F21: =IF(TEXT(F23,"mmm")=TEXT(E23,"mmm"),"",TEXT(F23,"mmm")) | G21: =IF(TEXT(G23,"mmm")=TEXT(F23,"mmm"),"",TEXT(G23,"mmm")) | H21: =IF(TEXT(H23,"mmm")=TEXT(G23,"mmm"),"",TEXT(H23,"mmm")) | J21: =IF(TEXT(J23,"mmm")=TEXT(I23,"mmm"),"",TEXT(J23,"mmm")) | K21: =IF(TEXT(K23,"mmm")=TEXT(J23,"mmm"),"",TEXT(K23,"mmm")) | L21: =IF(TEXT(L23,"mmm")=TEXT(K23,"mmm"),"",TEXT(L23,"mmm")) | M21: =IF(TEXT(M23,"mmm")=TEXT(L23,"mmm"),"",TEXT(M23,"mmm")) | N21: =IF(TEXT(N23,"mmm")=TEXT(M23,"mmm"),"",TEXT(N23,"mmm")) | O21: =IF(TEXT(O23,"mmm")=TEXT(N23,"mmm"),"",TEXT(O23,"mmm")) | Q21: =IF(TEXT(Q23,"mmm")=TEXT(P23,"mmm"),"",TEXT(Q23,"mmm")) | R21: =IF(TEXT(R23,"mmm")=TEXT(Q23,"mmm"),"",TEXT(R23,"mmm")) | S21: =IF(TEXT(S23,"mmm")=TEXT(R23,"mmm"),"",TEXT(S23,"mmm")) | T21: =IF(TEXT(T23,"mmm")=TEXT(S23,"mmm"),"",TEXT(T23,"mmm")) | U21: =IF(TEXT(U23,"mmm")=TEXT(T23,"mmm"),"",TEXT(U23,"mmm")) | V21: =IF(TEXT(V23,"mmm")=TEXT(U23,"mmm"),"",TEXT(V23,"mmm")) | X21: =IF(TEXT(X23,"mmm")=TEXT(W23,"mmm"),"",TEXT(X23,"mmm")) | Y21: =IF(TEXT(Y23,"mmm")=TEXT(X23,"mmm"),"",TEXT(Y23,"mmm")) | Z21: =IF(TEXT(Z23,"mmm")=TEXT(Y23,"mmm"),"",TEXT(Z23,"mmm")) | AA21: =IF(TEXT(AA23,"mmm")=TEXT(Z23,"mmm"),"",TEXT(AA23,"mmm")) | AB21: =IF(TEXT(AB23,"mmm")=TEXT(AA23,"mmm"),"",TEXT(AB23,"mmm")) | AC21: =IF(TEXT(AC23,"mmm")=TEXT(AB23,"mmm"),"",TEXT(AC23,"mmm")) | AE21: =IF(TEXT(AE23,"mmm")=TEXT(AD23,"mmm"),"",TEXT(AE23,"mmm")) | AF21: =IF(TEXT(AF23,"mmm")=TEXT(AE23,"mmm"),"",TEXT(AF23,"mmm")) | AG21: =IF(TEXT(AG23,"mmm")=TEXT(AF23,"mmm"),"",TEXT(AG23,"mmm")) -> Feb | AH21: =IF(TEXT(AH23,"mmm")=TEXT(AG23,"mmm"),"",TEXT(AH23,"mmm")) | AI21: =IF(TEXT(AI23,"mmm")=TEXT(AH23,"mmm"),"",TEXT(AI23,"mmm")) | AJ21: =IF(TEXT(AJ23,"mmm")=TEXT(AI23,"mmm"),"",TEXT(AJ23,"mmm")) | AL21: =IF(TEXT(AL23,"mmm")=TEXT(AK23,"mmm"),"",TEXT(AL23,"mmm")) | AM21: =IF(TEXT(AM23,"mmm")=TEXT(AL23,"mmm"),"",TEXT(AM23,"mmm")) | AN21: =IF(TEXT(AN23,"mmm")=TEXT(AM23,"mmm"),"",TEXT(AN23,"mmm")) | AO21: =IF(TEXT(AO23,"mmm")=TEXT(AN23,"mmm"),"",TEXT(AO23,"mmm")) | AP21: =IF(TEXT(AP23,"mmm")=TEXT(AO23,"mmm"),"",TEXT(AP23,"mmm")) | AQ21: =IF(TEXT(AQ23,"mmm")=TEXT(AP23,"mmm"),"",TEXT(AQ23,"mmm")) | AS21: =IF(TEXT(AS23,"mmm")=TEXT(AR23,"mmm"),"",TEXT(AS23,"mmm")) | AT21: =IF(TEXT(AT23,"mmm")=TEXT(AS23,"mmm"),"",TEXT(AT23,"mmm")) | AU21: =IF(TEXT(AU23,"mmm")=TEXT(AT23,"mmm"),"",TEXT(AU23,"mmm")) | AV21: =IF(TEXT(AV23,"mmm")=TEXT(AU23,"mmm"),"",TEXT(AV23,"mmm")) | AW21: =IF(TEXT(AW23,"mmm")=TEXT(AV23,"mmm"),"",TEXT(AW23,"mmm")) | AX21: =IF(TEXT(AX23,"mmm")=TEXT(AW23,"mmm"),"",TEXT(AX23,"mmm")) | AZ21: =IF(TEXT(AZ23,"mmm")=TEXT(AY23,"mmm"),"",TEXT(AZ23,"mmm")) | BA21: =IF(TEXT(BA23,"mmm")=TEXT(AZ23,"mmm"),"",TEXT(BA23,"mmm")) | BB21: =IF(TEXT(BB23,"mmm")=TEXT(BA23,"mmm"),"",TEXT(BB23,"mmm")) | BC21: =IF(TEXT(BC23,"mmm")=TEXT(BB23,"mmm"),"",TEXT(BC23,"mmm")) | BD21: =IF(TEXT(BD23,"mmm")=TEXT(BC23,"mmm"),"",TEXT(BD23,"mmm")) | BE21: =IF(TEXT(BE23,"mmm")=TEXT(BD23,"mmm"),"",TEXT(BE23,"mmm")) | BG21: =IF(TEXT(BG23,"mmm")=TEXT(BF23,"mmm"),"",TEXT(BG23,"mmm")) | BH21: =IF(TEXT(BH23,"mmm")=TEXT(BG23,"mmm"),"",TEXT(BH23,"mmm")) | BI21: =IF(TEXT(BI23,"mmm")=TEXT(BH23,"mmm"),"",TEXT(BI23,"mmm")) -> Mar | BJ21: =IF(TEXT(BJ23,"mmm")=TEXT(BI23,"mmm"),"",TEXT(BJ23,"mmm")) | BK21: =IF(TEXT(BK23,"mmm")=TEXT(BJ23,"mmm"),"",TEXT(BK23,"mmm")) | CN21: =IF(TEXT(CN23,"mmm")=TEXT(CM23,"mmm"),"",TEXT(CN23,"mmm")) -> Apr | DR21: =IF(TEXT(DR23,"mmm")=TEXT(DQ23,"mmm"),"",TEXT(DR23,"mmm")) -> May | EW21: =IF(TEXT(EW23,"mmm")=TEXT(EV23,"mmm"),"",TEXT(EW23,"mmm")) -> Jun | EX21: =IF(TEXT(EX23,"mmm")=TEXT(EW23,"mmm"),"",TEXT(EX23,"mmm")) | FX21: =IF(TEXT(FX23,"mmm")=TEXT(FW23,"mmm"),"",TEXT(FX23,"mmm")) | FY21: =IF(TEXT(FY23,"mmm")=TEXT(FX23,"mmm"),"",TEXT(FY23,"mmm")) | FZ21: =IF(TEXT(FZ23,"mmm")=TEXT(FY23,"mmm"),"",TEXT(FZ23,"mmm")) | GA21: =IF(TEXT(GA23,"mmm")=TEXT(FZ23,"mmm"),"",TEXT(GA23,"mmm")) -> Jul | HF21: =IF(TEXT(HF23,"mmm")=TEXT(HE23,"mmm"),"",TEXT(HF23,"mmm")) -> Aug | HG21: =IF(TEXT(HG23,"mmm")=TEXT(HF23,"mmm"),"",TEXT(HG23,"mmm")) | HH21: =IF(TEXT(HH23,"mmm")=TEXT(HG23,"mmm"),"",TEXT(HH23,"mmm")) | HI21: =IF(TEXT(HI23,"mmm")=TEXT(HH23,"mmm"),"",TEXT(HI23,"mmm")) | IK21: =IF(TEXT(IK23,"mmm")=TEXT(IJ23,"mmm"),"",TEXT(IK23,"mmm")) -> Sep | JN21: =IF(TEXT(JN23,"mmm")=TEXT(JM23,"mmm"),"",TEXT(JN23,"mmm")) | JO21: =TEXT(JO23,"mmm") -> Oct | JP21: =IF(TEXT(JP23,"mmm")=TEXT(JO23,"mmm"),"",TEXT(JP23,"mmm")) | JQ21: =IF(TEXT(JQ23,"mmm")=TEXT(JP23,"mmm"),"",TEXT(JQ23,"mmm")) | JR21: =IF(TEXT(JR23,"mmm")=TEXT(JQ23,"mmm"),"",TEXT(JR23,"mmm")) | JS21: =IF(TEXT(JS23,"mmm")=TEXT(JR23,"mmm"),"",TEXT(JS23,"mmm")) | JT21: =IF(TEXT(JT23,"mmm")=TEXT(JS23,"mmm"),"",TEXT(JT23,"mmm")) | KR21: =IF(TEXT(KR23,"mmm")=TEXT(KQ23,"mmm"),"",TEXT(KR23,"mmm")) | KS21: =IF(TEXT(KS23,"mmm")=TEXT(KR23,"mmm"),"",TEXT(KS23,"mmm")) | KT21: =IF(TEXT(KT23,"mmm")=TEXT(KS23,"mmm"),"",TEXT(KT23,"mmm")) -> Nov | KU21: =IF(TEXT(KU23,"mmm")=TEXT(KT23,"mmm"),"",TEXT(KU23,"mmm")) | KV21: =IF(TEXT(KV23,"mmm")=TEXT(KU23,"mmm"),"",TEXT(KV23,"mmm")) | KZ21: =IF(TEXT(KZ23,"mmm")=TEXT(KY23,"mmm"),"",TEXT(KZ23,"mmm")) | LW21: =IF(TEXT(LW23,"mmm")=TEXT(LV23,"mmm"),"",TEXT(LW23,"mmm")) | LX21: =IF(TEXT(LX23,"mmm")=TEXT(LW23,"mmm"),"",TEXT(LX23,"mmm")) -> Dec
A22: U = Unavailable | B22: =TEXT(A20,"aaa") -> Sun | C22: =TEXT(C23,"aaa") -> Mon | D22: =TEXT(D23,"aaa") -> Tue | E22: =TEXT(E23,"aaa") -> Wed | F22: =TEXT(F23,"aaa") -> Thu | G22: =TEXT(G23,"aaa") -> Fri | H22: =TEXT(H23,"aaa") -> Sat | I22: =TEXT(I23,"aaa") -> Sun | J22: =TEXT(J23,"aaa") -> Mon | ... NB22: =TEXT(NB23,"aaa") -> Sun
A23: Assigned to: | B23: =A20 -> 44927 | C23: =B23+1 -> 44928 | D23: =C23+1 -> 44929 | E23: =D23+1 -> 44930 | F23: =E23+1 -> 44931 | G23: =F23+1 -> 44932 | H23: =G23+1 -> 44933 | I23: =H23+1 -> 44934 | J23: =I23+1 -> 44935 | ... NB23: =NA23+1 -> 45291
A24: P1 | BG24: U | BH24: U | BI24: U | BJ24: U | BK24: U | BL24: U | BM24: U | BN24: U | BO24: U | BP24: U | BQ24: U | BR24: U | BS24: U | BT24: U | BU24: U | BV24: U | BW24: U | BX24: U | BY24: U | BZ24: U | CA24: U | CB24: U | CC24: U | CD24: U | CE24: U | CF24: U | CG24: U | CH24: U | CI24: U | CJ24: U | CK24: U | CL24: U | CM24: U | CN24: U | CO24: U | CP24: U | CQ24: U | CR24: U | CS24: U | CT24: U | CU24: U | CV24: U | CW24: U | CX24: U | CY24: U | CZ24: U | DA24: U | DB24: U | DC24: U | DD24: U | DE24: U | DF24: U | DG24: U | DH24: U | EF24: U | EG24: U | EH24: U | EI24: U | EJ24: U | EK24: U | EL24: U | EM24: U | EN24: U | EO24: U | EP24: U | EQ24: U | ER24: U | ES24: U | ET24: U | EU24: U | EV24: U | EW24: U | EX24: U | EY24: U | EZ24: U | FA24: U | FB24: U | FC24: U | FD24: U | FE24: U | FF24: U | FG24: U | FH24: U | FI24: U | FJ24: U | FK24: U | FL24: U | FM24: U | FN24: U | FO24: U | FP24: U | FQ24: U | FR24: U | FS24: U | FT24: U | FU24: U | FV24: U | FW24: U | FX24: U | FY24: U | FZ24: U | GA24: U | GB24: U | GC24: U | GD24: U | GE24: U | GF24: U | GG24: U | GH24: U | GI24: U | GJ24: U | GK24: U | GL24: U | GM24: U | GN24: U | GO24: U | GP24: U | GQ24: U | GR24: U | GS24: U | GT24: U | GU24: U | GV24: U | GW24: U | GX24: U | GY24: U | GZ24: U | HA24: U | HB24: U | HC24: U | HD24: U | HE24: U | HF24: U | HG24: U | HH24: U | HI24: U | HJ24: U | HK24: U | HL24: U | HM24: U | HN24: U | HO24: U | HP24: U | HQ24: U | HR24: U | HS24: U | HT24: U | HU24: U | HV24: U | HW24: U | JB24: M | JC24: M | JD24: M | JE24: M | JF24: M | JG24: M | JH24: M | JI24: M | JJ24: M | JK24: M | JL24: M | JM24: M | JN24: M | JO24: M | JP24: M | JQ24: M | JR24: M | JS24: M | JT24: M | JU24: M | JV24: M | JW24: M | JX24: M | JY24: M | JZ24: M | KA24: M | KB24: M | KC24: M | KD24: M | KE24: M | KF24: M | KG24: M | KH24: M | KI24: M | KJ24: M | KK24: M | KL24: M | KM24: M | KN24: M | KO24: M | KR24: H | KS24: H | KT24: H | KU24: H | KV24: H | KW24: H | KX24: H | KY24: H | KZ24: H | LA24: H | LB24: H | LC24: H | LD24: H | LE24: H | LF24: H | LG24: H | LH24: H | LI24: H | LJ24: H | LK24: H | LL24: H | LM24: H | LN24: H | LO24: H | LP24: H | LQ24: H | NC24: YEAR END
A25: P3 | AZ25: U | BA25: U | BB25: U | BC25: U | BD25: U | BE25: U | BF25: U | BG25: U | BH25: U | BI25: U | BJ25: U | BK25: U | BL25: U | BM25: U | BN25: U | BO25: U | BP25: U | BQ25: U | BR25: U | BS25: U | BT25: U | BU25: U | BV25: U | BW25: U | BX25: U | BY25: U | BZ25: U | CA25: U | CB25: U | CC25: U | CD25: U | CE25: U | CF25: U | CG25: U | CH25: U | CI25: U | CJ25: U | CK25: U | CL25: U | CM25: U | CN25: U | CO25: U | CP25: U | CQ25: U | CR25: U | CS25: U | CT25: U | CU25: U | CV25: U | CW25: U | CX25: U | CY25: U | CZ25: U | DA25: U | DB25: U | DC25: U | DD25: U | DE25: U | DF25: U | DG25: U | DH25: U | FA25: U | FB25: U | FC25: U | FD25: U | FE25: U | FF25: U | FG25: U | FH25: U | FI25: U | FJ25: U | FK25: U | FL25: U | FM25: U | FN25: U | FO25: U | FP25: U | FQ25: U | FR25: U | FS25: U | FT25: U | FU25: U | FV25: U | FW25: U | FX25: U | FY25: U | FZ25: U | GA25: U | GB25: U | GC25: U | GD25: U | GE25: U | GF25: U | GG25: U | GH25: U | GI25: U | GJ25: U | GK25: U | GL25: U | GM25: U | GN25: U | GO25: U | GP25: U | GQ25: U | GR25: U | GS25: U | GT25: U | GU25: U | GV25: U | GW25: U | GX25: U | GY25: U | GZ25: U | HA25: U | HB25: U | HC25: U | HD25: U | HE25: U | HF25: U | HG25: U | HH25: U | HI25: U | HJ25: U | HK25: U | HL25: U | HM25: U | HN25: U | HO25: U | HP25: U | HQ25: U | HR25: U | HS25: U | HT25: U | HU25: U | HV25: U | HW25: U | HX25: U | HY25: U | HZ25: U | IA25: U | IB25: U | IC25: U | ID25: U | IE25: U | IF25: U | IG25: U | IH25: U | II25: U | IJ25: U | IK25: U | LM25: U | LN25: U | LO25: U | LP25: U | LQ25: U | LR25: U | LS25: U | LT25: U | LU25: U | LV25: U | LW25: U | LX25: U | LY25: U | LZ25: U | MA25: U | MB25: U | MC25: U | MD25: U | ME25: U | MF25: U | MG25: U | MH25: U | MI25: U | MJ25: U | MK25: U | ML25: U | MM25: U | MN25: U | MO25: U | MP25: U | MQ25: U | MR25: U | MS25: U | NC25: YEAR END
A26: P4 | C26: M | D26: M | E26: M | F26: M | G26: M | H26: M | I26: M | J26: M | K26: M | L26: M | M26: M | N26: M | O26: M | P26: M | Q26: M | R26: M | S26: M | T26: M | U26: M | V26: M | W26: M | X26: M | Y26: M | Z26: M | AA26: M | AB26: M | AC26: M | AD26: M | AE26: M | AF26: M | AG26: M | AH26: M | AI26: M | AJ26: M | AK26: M | AL26: M | AM26: M | AN26: M | AO26: M | AP26: M | AQ26: M | AR26: M | AS26: M | AT26: M | AU26: M | AV26: M | AW26: M | AX26: M | AY26: M | AZ26: M | BA26: M | BB26: M | BC26: M | BD26: M | BE26: M | BF26: M | BG26: M | BH26: M | BI26: M | BJ26: M | BK26: M | DD26: U | DE26: U | DF26: U | DG26: U | DH26: U | DI26: U | DJ26: U | DK26: U | DL26: U | DM26: U | DN26: U | DO26: U | DP26: U | DQ26: U | DR26: U | DS26: U | DT26: U | DU26: U | DV26: U | DW26: U | DX26: U | DY26: U | DZ26: U | EA26: U | EB26: U | EC26: U | ED26: U | EE26: U | EF26: U | EG26: U | EH26: U | EI26: U | EJ26: U | EK26: U | EL26: U | EM26: U | EN26: U | EO26: U | EP26: U | EQ26: U | ER26: U | ES26: U | ET26: U | EU26: U | EV26: U | EW26: U | EX26: U | GX26: U | GY26: U | GZ26: U | HA26: U | HB26: U | HC26: U | HD26: U | HE26: U | HF26: U | HG26: U | HH26: U | HI26: U | HJ26: U | HK26: U | HL26: U | HM26: U | HN26: U | HO26: U | HP26: U | HQ26: U | HR26: U | HS26: U | HT26: U | HU26: U | HV26: U | HW26: U | HX26: U | HY26: U | HZ26: U | IA26: U | IB26: U | IC26: U | ID26: U | IE26: U | IF26: U | IG26: U | IH26: U | II26: U | IJ26: U | IK26: U | IL26: U | IM26: U | IN26: U | IO26: U | IP26: U | IQ26: U | IR26: U | IS26: U | IT26: U | IU26: U | IV26: U | IW26: U | IX26: U | IY26: U | IZ26: U | JA26: U | JB26: U | JC26: U | JD26: U | JE26: U | JF26: U | JG26: U | JH26: U | JI26: U | JJ26: U | JK26: U | JL26: U | JM26: U | JN26: U | JO26: U | JP26: U | JQ26: U | JR26: U | JS26: U | JT26: U | JU26: U | JV26: U | JW26: U | JX26: U | JY26: U | JZ26: U | KA26: U | KB26: U | KC26: U | KD26: U | KE26: U | KF26: U | KG26: U | KH26: U | KY26: U | KZ26: U | LA26: U | LB26: U | LC26: U | LD26: U | LE26: U | LF26: U | LG26: U | LH26: U | LI26: U | LJ26: U | LK26: U | LL26: U | LM26: U | LN26: U | LO26: U | LP26: U | LQ26: U | NC26: YEAR END
A27: P5 | BG27: M | BH27: M | BI27: M | BJ27: M | BK27: M | BL27: M | BM27: M | BN27: M | BO27: M | BP27: M | BQ27: M | BR27: M | BS27: M | BT27: M | BU27: M | BV27: M | BW27: M | BX27: M | BY27: M | BZ27: M | CA27: M | CB27: M | CC27: M | CD27: M | CE27: M | CF27: M | CG27: M | CH27: M | CI27: M | CJ27: M | CK27: M | CL27: M | CM27: M | CN27: M | CO27: M | CP27: M | CQ27: M | CR27: M | CS27: M | CT27: M | DK27: U | DL27: U | DM27: U | DN27: U | DO27: U | DP27: U | DQ27: U | DR27: U | DS27: U | DT27: U | DU27: U | DV27: U | DW27: U | DX27: U | DY27: U | DZ27: U | EA27: U | EB27: U | EC27: U | ED27: U | EE27: U | EF27: U | EG27: U | EH27: U | EI27: U | EJ27: U | EK27: U | EL27: U | EM27: U | EN27: U | EO27: U | EP27: U | EQ27: U | ER27: U | ES27: U | ET27: U | EU27: U | EV27: U | EW27: U | EX27: U | EY27: U | EZ27: U | FA27: U | FB27: U | FC27: U | FD27: U | FE27: U | FF27: U | FG27: U | FH27: U | FI27: U | FJ27: U | FK27: U | FL27: U | FM27: U | FN27: U | FO27: U | FP27: U | FQ27: U | FR27: U | FS27: U | FT27: U | FU27: U | FV27: U | FW27: U | FX27: U | FY27: U | FZ27: U | GA27: U | GB27: U | GC27: U | GD27: U | GE27: U | GF27: U | GG27: U | GH27: U | GI27: U | GJ27: U | GK27: U | GL27: U | GM27: U | GN27: U | GO27: U | GP27: U | GQ27: U | GR27: U | GS27: U | GT27: U | GU27: U | GV27: U | GW27: U | GX27: U | GY27: U | GZ27: U | HA27: U | HB27: U | HC27: U | HD27: U | HE27: U | HF27: U | HG27: U | HH27: U | HI27: U | HJ27: U | HK27: U | HL27: U | HM27: U | HN27: U | HO27: U | HP27: U | HQ27: U | HR27: U | HS27: U | HT27: U | HU27: U | HV27: U | HW27: U | HX27: U | HY27: U | HZ27: U | IA27: U | IB27: U | IC27: U | ID27: U | IE27: U | IF27: U | IG27: U | IH27: U | II27: U | IJ27: U | IK27: U | IL27: U | IM27: U | IN27: U | IO27: U | IP27: U | IQ27: U | IR27: U | IS27: U | IT27: U | IU27: U | IV27: U | IW27: U | IX27: U | IY27: U | IZ27: U | JA27: U | JB27: U | JC27: U | JD27: U | JE27: U | JF27: U | JG27: U | JH27: U | JI27: U | JJ27: U | JK27: U | JL27: U | JM27: U | JN27: U | JO27: U | JP27: U | JQ27: U | JR27: U | JS27: U | JT27: U | JU27: U | JV27: U | JW27: U | JX27: U | JY27: U | JZ27: U | KA27: U | KB27: U | KC27: U | KD27: U | KE27: U | KF27: U | KG27: U | KH27: U | KI27: U | KJ27: U | KK27: U | KL27: U | KM27: U | KN27: U | KO27: U | KP27: U | KQ27: U | KR27: U | KS27: U | KT27: U | KU27: U | KV27: U | KW27: U | KX27: U | KY27: U | KZ27: U | LA27: U | LB27: U | LC27: U | LD27: U | LE27: U | LF27: U | LG27: U | LH27: U | LI27: U | LJ27: U | LK27: U | LL27: U | LM27: U | LN27: U | LO27: U | LP27: U | LQ27: U | LR27: U | LS27: U | LT27: U | LU27: U | LV27: U | LW27: U | LX27: U | LY27: U | LZ27: U | MA27: U | MB27: U | MC27: U | MD27: U | ME27: U | MF27: U | MG27: U | MH27: U | MI27: U | MJ27: U | MK27: U | ML27: U | MM27: U | MN27: U | MO27: U | MP27: U | MQ27: U | MR27: U | MS27: U | MT27: U | MU27: U | MV27: U | MW27: U | MX27: U | MY27: U | MZ27: U | NA27: U | NB27: U | NC27: YEAR END
A29: 45292
B30: =TEXT(A29,"mmm") -> Jan | C30: =IF(TEXT(C32,"mmm")=TEXT(B32,"mmm"),"",TEXT(C32,"mmm")) | D30: =IF(TEXT(D32,"mmm")=TEXT(C32,"mmm"),"",TEXT(D32,"mmm")) | E30: =IF(TEXT(E32,"mmm")=TEXT(D32,"mmm"),"",TEXT(E32,"mmm")) | F30: =IF(TEXT(F32,"mmm")=TEXT(E32,"mmm"),"",TEXT(F32,"mmm")) | G30: =IF(TEXT(G32,"mmm")=TEXT(F32,"mmm"),"",TEXT(G32,"mmm")) | H30: =IF(TEXT(H32,"mmm")=TEXT(G32,"mmm"),"",TEXT(H32,"mmm")) | J30: =IF(TEXT(J32,"mmm")=TEXT(I32,"mmm"),"",TEXT(J32,"mmm")) | K30: =IF(TEXT(K32,"mmm")=TEXT(J32,"mmm"),"",TEXT(K32,"mmm")) | L30: =IF(TEXT(L32,"mmm")=TEXT(K32,"mmm"),"",TEXT(L32,"mmm")) | M30: =IF(TEXT(M32,"mmm")=TEXT(L32,"mmm"),"",TEXT(M32,"mmm")) | N30: =IF(TEXT(N32,"mmm")=TEXT(M32,"mmm"),"",TEXT(N32,"mmm")) | O30: =IF(TEXT(O32,"mmm")=TEXT(N32,"mmm"),"",TEXT(O32,"mmm")) | Q30: =IF(TEXT(Q32,"mmm")=TEXT(P32,"mmm"),"",TEXT(Q32,"mmm")) | R30: =IF(TEXT(R32,"mmm")=TEXT(Q32,"mmm"),"",TEXT(R32,"mmm")) | S30: =IF(TEXT(S32,"mmm")=TEXT(R32,"mmm"),"",TEXT(S32,"mmm")) | T30: =IF(TEXT(T32,"mmm")=TEXT(S32,"mmm"),"",TEXT(T32,"mmm")) | U30: =IF(TEXT(U32,"mmm")=TEXT(T32,"mmm"),"",TEXT(U32,"mmm")) | V30: =IF(TEXT(V32,"mmm")=TEXT(U32,"mmm"),"",TEXT(V32,"mmm")) | X30: =IF(TEXT(X32,"mmm")=TEXT(W32,"mmm"),"",TEXT(X32,"mmm")) | Y30: =IF(TEXT(Y32,"mmm")=TEXT(X32,"mmm"),"",TEXT(Y32,"mmm")) | Z30: =IF(TEXT(Z32,"mmm")=TEXT(Y32,"mmm"),"",TEXT(Z32,"mmm")) | AA30: =IF(TEXT(AA32,"mmm")=TEXT(Z32,"mmm"),"",TEXT(AA32,"mmm")) | AB30: =IF(TEXT(AB32,"mmm")=TEXT(AA32,"mmm"),"",TEXT(AB32,"mmm")) | AC30: =IF(TEXT(AC32,"mmm")=TEXT(AB32,"mmm"),"",TEXT(AC32,"mmm")) | AE30: =IF(TEXT(AE32,"mmm")=TEXT(AD32,"mmm"),"",TEXT(AE32,"mmm")) | AF30: =IF(TEXT(AF32,"mmm")=TEXT(AE32,"mmm"),"",TEXT(AF32,"mmm")) | AG30: =IF(TEXT(AG32,"mmm")=TEXT(AF32,"mmm"),"",TEXT(AG32,"mmm")) -> Feb | AH30: =IF(TEXT(AH32,"mmm")=TEXT(AG32,"mmm"),"",TEXT(AH32,"mmm")) | AI30: =IF(TEXT(AI32,"mmm")=TEXT(AH32,"mmm"),"",TEXT(AI32,"mmm")) | AJ30: =IF(TEXT(AJ32,"mmm")=TEXT(AI32,"mmm"),"",TEXT(AJ32,"mmm")) | AL30: =IF(TEXT(AL32,"mmm")=TEXT(AK32,"mmm"),"",TEXT(AL32,"mmm")) | AM30: =IF(TEXT(AM32,"mmm")=TEXT(AL32,"mmm"),"",TEXT(AM32,"mmm")) | AN30: =IF(TEXT(AN32,"mmm")=TEXT(AM32,"mmm"),"",TEXT(AN32,"mmm")) | AO30: =IF(TEXT(AO32,"mmm")=TEXT(AN32,"mmm"),"",TEXT(AO32,"mmm")) | AP30: =IF(TEXT(AP32,"mmm")=TEXT(AO32,"mmm"),"",TEXT(AP32,"mmm")) | AQ30: =IF(TEXT(AQ32,"mmm")=TEXT(AP32,"mmm"),"",TEXT(AQ32,"mmm")) | AS30: =IF(TEXT(AS32,"mmm")=TEXT(AR32,"mmm"),"",TEXT(AS32,"mmm")) | AT30: =IF(TEXT(AT32,"mmm")=TEXT(AS32,"mmm"),"",TEXT(AT32,"mmm")) | AU30: =IF(TEXT(AU32,"mmm")=TEXT(AT32,"mmm"),"",TEXT(AU32,"mmm")) | AV30: =IF(TEXT(AV32,"mmm")=TEXT(AU32,"mmm"),"",TEXT(AV32,"mmm")) | AW30: =IF(TEXT(AW32,"mmm")=TEXT(AV32,"mmm"),"",TEXT(AW32,"mmm")) | AX30: =IF(TEXT(AX32,"mmm")=TEXT(AW32,"mmm"),"",TEXT(AX32,"mmm")) | AZ30: =IF(TEXT(AZ32,"mmm")=TEXT(AY32,"mmm"),"",TEXT(AZ32,"mmm")) | BA30: =IF(TEXT(BA32,"mmm")=TEXT(AZ32,"mmm"),"",TEXT(BA32,"mmm")) | BB30: =IF(TEXT(BB32,"mmm")=TEXT(BA32,"mmm"),"",TEXT(BB32,"mmm")) | BC30: =IF(TEXT(BC32,"mmm")=TEXT(BB32,"mmm"),"",TEXT(BC32,"mmm")) | BD30: =IF(TEXT(BD32,"mmm")=TEXT(BC32,"mmm"),"",TEXT(BD32,"mmm")) | BE30: =IF(TEXT(BE32,"mmm")=TEXT(BD32,"mmm"),"",TEXT(BE32,"mmm")) | BG30: =IF(TEXT(BG32,"mmm")=TEXT(BF32,"mmm"),"",TEXT(BG32,"mmm")) | BH30: =IF(TEXT(BH32,"mmm")=TEXT(BG32,"mmm"),"",TEXT(BH32,"mmm")) | BI30: =IF(TEXT(BI32,"mmm")=TEXT(BH32,"mmm"),"",TEXT(BI32,"mmm")) | BJ30: =IF(TEXT(BJ32,"mmm")=TEXT(BI32,"mmm"),"",TEXT(BJ32,"mmm")) -> Mar | BK30: =IF(TEXT(BK32,"mmm")=TEXT(BJ32,"mmm"),"",TEXT(BK32,"mmm")) | CN30: =IF(TEXT(CN32,"mmm")=TEXT(CM32,"mmm"),"",TEXT(CN32,"mmm")) | DR30: =IF(TEXT(DR32,"mmm")=TEXT(DQ32,"mmm"),"",TEXT(DR32,"mmm")) | EW30: =IF(TEXT(EW32,"mmm")=TEXT(EV32,"mmm"),"",TEXT(EW32,"mmm")) | EX30: =IF(TEXT(EX32,"mmm")=TEXT(EW32,"mmm"),"",TEXT(EX32,"mmm")) -> Jun | FX30: =IF(TEXT(FX32,"mmm")=TEXT(FW32,"mmm"),"",TEXT(FX32,"mmm")) | FY30: =IF(TEXT(FY32,"mmm")=TEXT(FX32,"mmm"),"",TEXT(FY32,"mmm")) | FZ30: =IF(TEXT(FZ32,"mmm")=TEXT(FY32,"mmm"),"",TEXT(FZ32,"mmm")) | GA30: =IF(TEXT(GA32,"mmm")=TEXT(FZ32,"mmm"),"",TEXT(GA32,"mmm")) | HF30: =IF(TEXT(HF32,"mmm")=TEXT(HE32,"mmm"),"",TEXT(HF32,"mmm")) | HG30: =IF(TEXT(HG32,"mmm")=TEXT(HF32,"mmm"),"",TEXT(HG32,"mmm")) -> Aug | HH30: =IF(TEXT(HH32,"mmm")=TEXT(HG32,"mmm"),"",TEXT(HH32,"mmm")) | HI30: =IF(TEXT(HI32,"mmm")=TEXT(HH32,"mmm"),"",TEXT(HI32,"mmm")) | IK30: =IF(TEXT(IK32,"mmm")=TEXT(IJ32,"mmm"),"",TEXT(IK32,"mmm")) | JN30: =IF(TEXT(JN32,"mmm")=TEXT(JM32,"mmm"),"",TEXT(JN32,"mmm")) | JO30: =TEXT(JO32,"mmm") -> Sep | JP30: =IF(TEXT(JP32,"mmm")=TEXT(JO32,"mmm"),"",TEXT(JP32,"mmm")) -> Oct | JQ30: =IF(TEXT(JQ32,"mmm")=TEXT(JP32,"mmm"),"",TEXT(JQ32,"mmm")) | JR30: =IF(TEXT(JR32,"mmm")=TEXT(JQ32,"mmm"),"",TEXT(JR32,"mmm")) | JS30: =IF(TEXT(JS32,"mmm")=TEXT(JR32,"mmm"),"",TEXT(JS32,"mmm")) | JT30: =IF(TEXT(JT32,"mmm")=TEXT(JS32,"mmm"),"",TEXT(JT32,"mmm")) | KR30: =IF(TEXT(KR32,"mmm")=TEXT(KQ32,"mmm"),"",TEXT(KR32,"mmm")) | KS30: =IF(TEXT(KS32,"mmm")=TEXT(KR32,"mmm"),"",TEXT(KS32,"mmm")) | KT30: =IF(TEXT(KT32,"mmm")=TEXT(KS32,"mmm"),"",TEXT(KT32,"mmm")) | KU30: =IF(TEXT(KU32,"mmm")=TEXT(KT32,"mmm"),"",TEXT(KU32,"mmm")) -> Nov | KV30: =IF(TEXT(KV32,"mmm")=TEXT(KU32,"mmm"),"",TEXT(KV32,"mmm")) | KZ30: =IF(TEXT(KZ32,"mmm")=TEXT(KY32,"mmm"),"",TEXT(KZ32,"mmm")) | LW30: =IF(TEXT(LW32,"mmm")=TEXT(LV32,"mmm"),"",TEXT(LW32,"mmm")) | LX30: =IF(TEXT(LX32,"mmm")=TEXT(LW32,"mmm"),"",TEXT(LX32,"mmm"))
A31: U = Unavailable | B31: =TEXT(A29,"aaa") -> Mon | C31: =TEXT(C32,"aaa") -> Tue | D31: =TEXT(D32,"aaa") -> Wed | E31: =TEXT(E32,"aaa") -> Thu | F31: =TEXT(F32,"aaa") -> Fri | G31: =TEXT(G32,"aaa") -> Sat | H31: =TEXT(H32,"aaa") -> Sun | I31: =TEXT(I32,"aaa") -> Mon | J31: =TEXT(J32,"aaa") -> Tue | ... NB31: =TEXT(NB32,"aaa") -> Mon
A32: Assigned to: | B32: =A29 -> 45292 | C32: =B32+1 -> 45293 | D32: =C32+1 -> 45294 | E32: =D32+1 -> 45295 | F32: =E32+1 -> 45296 | G32: =F32+1 -> 45297 | H32: =G32+1 -> 45298 | I32: =H32+1 -> 45299 | J32: =I32+1 -> 45300 | ... NB32: =NA32+1 -> 45656
A33: P1 | ES33: M | ET33: M | EU33: M | EV33: M | EW33: M | EX33: M | EY33: M | EZ33: M | FA33: M | FB33: M | FC33: M | FD33: M | FE33: M | FF33: M | FG33: M | FH33: M | FI33: M | FJ33: M | FK33: M | FL33: M | FM33: M | FN33: M | FO33: M | FP33: M | FQ33: M | FR33: M | FS33: M | FT33: M | FU33: M | FV33: M | FW33: M | FX33: M | FY33: M | FZ33: M | GA33: M | GB33: M | GC33: M | GD33: M | GE33: M | GF33: M | GI33: U | GJ33: U | GK33: U | GL33: U | GM33: U | GN33: U | GO33: U | GP33: U | GQ33: U | GR33: U | GS33: U | GT33: U | GU33: U | GV33: U | GW33: U | GX33: U | GY33: U | GZ33: U | HA33: U | HB33: U | HC33: U | HD33: U | HE33: U | HF33: U | HG33: U | HH33: U | HI33: U | HJ33: U | HK33: U | HL33: U | HM33: U | HN33: U | HO33: U | HP33: U | HQ33: U | HR33: U | HS33: U | HT33: U | HU33: U | HV33: U | HW33: U | HX33: U | HY33: U | HZ33: U | IA33: U | IB33: U | IC33: U | ID33: U | IE33: U | IF33: U | IG33: U | IH33: U | II33: U | IJ33: U | IK33: U | IL33: U | IM33: U | IN33: U | IO33: U | IP33: U | IQ33: U | IR33: U | IS33: U | IT33: U | IU33: U | IV33: U | IW33: U | IX33: U | KJ33: U | KK33: U | KL33: U | KM33: U | KN33: U | KO33: U | KP33: U | KQ33: U | KR33: U | KS33: U | KT33: U | KU33: U | KV33: U | KW33: U | KX33: U | KY33: U | KZ33: U | LA33: U | LB33: U | LC33: U | LD33: U | LE33: U | LF33: U | LG33: U | LH33: U | LI33: U | LJ33: U | LK33: U | LL33: U | LM33: U | LN33: U | LO33: U | LP33: U | LQ33: U | LR33: U | LS33: U | LT33: U | LU33: U | LV33: U | LW33: U | NC33: YEAR END
A34: P3 | P34: H | Q34: H | R34: H | S34: H | T34: H | U34: H | V34: H | W34: H | X34: H | Y34: H | Z34: H | AA34: H | AB34: H | AC34: H | AD34: H | AE34: H | AF34: H | AG34: H | AH34: H | AI34: H | AJ34: H | AK34: H | AL34: H | AM34: H | AN34: H | AO34: H | AP34: H | AQ34: H | AR34: H | AS34: H | AT34: H | AU34: H | AV34: H | AW34: H | AX34: H | AY34: H | AZ34: H | BA34: H | BB34: H | BC34: H | BD34: H | BE34: H | BF34: H | BG34: H | BH34: H | BI34: H | BJ34: H | BK34: H | BL34: H | BM34: H | BN34: H | BO34: H | BP34: H | BQ34: H | BR34: H | BS34: H | BT34: H | BU34: H | BV34: H | BW34: H | BX34: H | BY34: H | BZ34: H | CA34: H | CB34: H | CC34: H | CD34: H | CE34: H | CF34: H | CG34: H | CH34: H | CI34: H | CJ34: H | CK34: H | CL34: H | CM34: H | CN34: H | CO34: H | CP34: H | CQ34: H | CR34: H | CS34: H | CT34: H | CU34: H | CV34: H | CW34: H | CX34: H | CY34: H | CZ34: H | DC34: M | DD34: M | DE34: M | DF34: M | DG34: M | DH34: M | DI34: M | DJ34: M | DK34: M | DL34: M | DM34: M | DN34: M | DO34: M | DP34: M | DQ34: M | DR34: M | DS34: M | DT34: M | DU34: M | DV34: M | DW34: M | DX34: M | DY34: M | DZ34: M | EA34: M | EB34: M | EC34: M | ED34: M | EE34: M | EF34: M | EG34: M | EH34: M | EI34: M | EJ34: M | EK34: M | EL34: M | EM34: M | EN34: M | EO34: M | EP34: M | HD34: U | HE34: U | HF34: U | HG34: U | HH34: U | HI34: U | HJ34: U | HK34: U | HL34: U | HM34: U | HN34: U | HO34: U | HP34: U | HQ34: U | HR34: U | HS34: U | HT34: U | HU34: U | HV34: U | HW34: U | HX34: U | HY34: U | HZ34: U | IA34: U | IB34: U | IC34: U | ID34: U | IE34: U | IF34: U | IG34: U | IH34: U | II34: U | IJ34: U | IK34: U | IL34: U | IM34: U | IN34: U | IO34: U | IP34: U | IQ34: U | NC34: YEAR END
A35: P4 | P35: M | Q35: M | R35: M | S35: M | T35: M | U35: M | V35: M | W35: M | X35: M | Y35: M | Z35: M | AA35: M | AB35: M | AC35: M | AD35: M | AE35: M | AF35: M | AG35: M | AH35: M | AI35: M | AJ35: M | AK35: M | AL35: M | AM35: M | AN35: M | AO35: M | AP35: M | AQ35: M | AR35: M | AS35: M | AT35: M | AU35: M | AV35: M | AW35: M | AX35: M | AY35: M | AZ35: M | BA35: M | BB35: M | BC35: M | BD35: M | BE35: M | BF35: M | BG35: M | BH35: M | BI35: M | BJ35: M | EE35: U | EF35: U | EG35: U | EH35: U | EI35: U | EJ35: U | EK35: U | EL35: U | EM35: U | EN35: U | EO35: U | EP35: U | EQ35: U | ER35: U | ES35: U | ET35: U | EU35: U | EV35: U | EW35: U | EX35: U | EY35: U | EZ35: U | FA35: U | FB35: U | FC35: U | FD35: U | FE35: U | FF35: U | FG35: U | FH35: U | FI35: U | FJ35: U | FK35: U | FL35: U | FM35: U | FN35: U | FO35: U | FP35: U | FQ35: U | FR35: U | FS35: U | FT35: U | FU35: U | FV35: U | FW35: U | FX35: U | FY35: U | FZ35: U | GA35: U | GB35: U | GC35: U | GD35: U | GE35: U | GF35: U | GG35: U | GH35: U | GI35: U | GJ35: U | GK35: U | GL35: U | GM35: U | GN35: U | GO35: U | GP35: U | GQ35: U | GR35: U | GS35: U | GT35: U | GU35: U | GV35: U | GW35: U | GX35: U | GY35: U | GZ35: U | HA35: U | JA35: U | JB35: U | JC35: U | JD35: U | JE35: U | JF35: U | JG35: U | JH35: U | JI35: U | JJ35: U | JK35: U | JL35: U | JM35: U | JN35: U | JO35: U | JP35: U | JQ35: U | JR35: U | JS35: U | JT35: U | JU35: U | JV35: U | JW35: U | JX35: U | JY35: U | JZ35: U | KA35: U | KB35: U | KC35: U | KD35: U | KE35: U | KF35: U | KG35: U | KH35: U | KI35: U | KJ35: U | KK35: U | KL35: U | KM35: U | KN35: U | KO35: U | KP35: U | KQ35: U | KR35: U | KS35: U | KT35: U | KU35: U | KV35: U | KW35: U | KX35: U | KY35: U | KZ35: U | LA35: U | LB35: U | LC35: U | LD35: U | LE35: U | LF35: U | LG35: U | LH35: U | LI35: U | LJ35: U | LK35: U | LL35: U | LM35: U | LN35: U | LO35: U | LP35: U | LQ35: U | LR35: U | LS35: U | LT35: U | LU35: U | LV35: U | LW35: U | NC35: YEAR END
A36: P5 | NC36: YEAR END
A38: 45658
B39: =TEXT(A38,"mmm") -> Jan | C39: =IF(TEXT(C41,"mmm")=TEXT(B41,"mmm"),"",TEXT(C41,"mmm")) | D39: =IF(TEXT(D41,"mmm")=TEXT(C41,"mmm"),"",TEXT(D41,"mmm")) | E39: =IF(TEXT(E41,"mmm")=TEXT(D41,"mmm"),"",TEXT(E41,"mmm")) | F39: =IF(TEXT(F41,"mmm")=TEXT(E41,"mmm"),"",TEXT(F41,"mmm")) | G39: =IF(TEXT(G41,"mmm")=TEXT(F41,"mmm"),"",TEXT(G41,"mmm")) | H39: =IF(TEXT(H41,"mmm")=TEXT(G41,"mmm"),"",TEXT(H41,"mmm")) | J39: =IF(TEXT(J41,"mmm")=TEXT(I41,"mmm"),"",TEXT(J41,"mmm")) | K39: =IF(TEXT(K41,"mmm")=TEXT(J41,"mmm"),"",TEXT(K41,"mmm")) | L39: =IF(TEXT(L41,"mmm")=TEXT(K41,"mmm"),"",TEXT(L41,"mmm")) | M39: =IF(TEXT(M41,"mmm")=TEXT(L41,"mmm"),"",TEXT(M41,"mmm")) | N39: =IF(TEXT(N41,"mmm")=TEXT(M41,"mmm"),"",TEXT(N41,"mmm")) | O39: =IF(TEXT(O41,"mmm")=TEXT(N41,"mmm"),"",TEXT(O41,"mmm")) | Q39: =IF(TEXT(Q41,"mmm")=TEXT(P41,"mmm"),"",TEXT(Q41,"mmm")) | R39: =IF(TEXT(R41,"mmm")=TEXT(Q41,"mmm"),"",TEXT(R41,"mmm")) | S39: =IF(TEXT(S41,"mmm")=TEXT(R41,"mmm"),"",TEXT(S41,"mmm")) | T39: =IF(TEXT(T41,"mmm")=TEXT(S41,"mmm"),"",TEXT(T41,"mmm")) | U39: =IF(TEXT(U41,"mmm")=TEXT(T41,"mmm"),"",TEXT(U41,"mmm")) | V39: =IF(TEXT(V41,"mmm")=TEXT(U41,"mmm"),"",TEXT(V41,"mmm")) | X39: =IF(TEXT(X41,"mmm")=TEXT(W41,"mmm"),"",TEXT(X41,"mmm")) | Y39: =IF(TEXT(Y41,"mmm")=TEXT(X41,"mmm"),"",TEXT(Y41,"mmm")) | Z39: =IF(TEXT(Z41,"mmm")=TEXT(Y41,"mmm"),"",TEXT(Z41,"mmm")) | AA39: =IF(TEXT(AA41,"mmm")=TEXT(Z41,"mmm"),"",TEXT(AA41,"mmm")) | AB39: =IF(TEXT(AB41,"mmm")=TEXT(AA41,"mmm"),"",TEXT(AB41,"mmm")) | AC39: =IF(TEXT(AC41,"mmm")=TEXT(AB41,"mmm"),"",TEXT(AC41,"mmm")) | AE39: =IF(TEXT(AE41,"mmm")=TEXT(AD41,"mmm"),"",TEXT(AE41,"mmm")) | AF39: =IF(TEXT(AF41,"mmm")=TEXT(AE41,"mmm"),"",TEXT(AF41,"mmm")) | AG39: =IF(TEXT(AG41,"mmm")=TEXT(AF41,"mmm"),"",TEXT(AG41,"mmm")) -> Feb | AH39: =IF(TEXT(AH41,"mmm")=TEXT(AG41,"mmm"),"",TEXT(AH41,"mmm")) | AI39: =IF(TEXT(AI41,"mmm")=TEXT(AH41,"mmm"),"",TEXT(AI41,"mmm")) | AJ39: =IF(TEXT(AJ41,"mmm")=TEXT(AI41,"mmm"),"",TEXT(AJ41,"mmm")) | AL39: =IF(TEXT(AL41,"mmm")=TEXT(AK41,"mmm"),"",TEXT(AL41,"mmm")) | AM39: =IF(TEXT(AM41,"mmm")=TEXT(AL41,"mmm"),"",TEXT(AM41,"mmm")) | AN39: =IF(TEXT(AN41,"mmm")=TEXT(AM41,"mmm"),"",TEXT(AN41,"mmm")) | AO39: =IF(TEXT(AO41,"mmm")=TEXT(AN41,"mmm"),"",TEXT(AO41,"mmm")) | AP39: =IF(TEXT(AP41,"mmm")=TEXT(AO41,"mmm"),"",TEXT(AP41,"mmm")) | AQ39: =IF(TEXT(AQ41,"mmm")=TEXT(AP41,"mmm"),"",TEXT(AQ41,"mmm")) | AS39: =IF(TEXT(AS41,"mmm")=TEXT(AR41,"mmm"),"",TEXT(AS41,"mmm")) | AT39: =IF(TEXT(AT41,"mmm")=TEXT(AS41,"mmm"),"",TEXT(AT41,"mmm")) | AU39: =IF(TEXT(AU41,"mmm")=TEXT(AT41,"mmm"),"",TEXT(AU41,"mmm")) | AV39: =IF(TEXT(AV41,"mmm")=TEXT(AU41,"mmm"),"",TEXT(AV41,"mmm")) | AW39: =IF(TEXT(AW41,"mmm")=TEXT(AV41,"mmm"),"",TEXT(AW41,"mmm")) | AX39: =IF(TEXT(AX41,"mmm")=TEXT(AW41,"mmm"),"",TEXT(AX41,"mmm")) | AZ39: =IF(TEXT(AZ41,"mmm")=TEXT(AY41,"mmm"),"",TEXT(AZ41,"mmm")) | BA39: =IF(TEXT(BA41,"mmm")=TEXT(AZ41,"mmm"),"",TEXT(BA41,"mmm")) | BB39: =IF(TEXT(BB41,"mmm")=TEXT(BA41,"mmm"),"",TEXT(BB41,"mmm")) | BC39: =IF(TEXT(BC41,"mmm")=TEXT(BB41,"mmm"),"",TEXT(BC41,"mmm")) | BD39: =IF(TEXT(BD41,"mmm")=TEXT(BC41,"mmm"),"",TEXT(BD41,"mmm")) | BE39: =IF(TEXT(BE41,"mmm")=TEXT(BD41,"mmm"),"",TEXT(BE41,"mmm")) | BG39: =IF(TEXT(BG41,"mmm")=TEXT(BF41,"mmm"),"",TEXT(BG41,"mmm")) | BH39: =IF(TEXT(BH41,"mmm")=TEXT(BG41,"mmm"),"",TEXT(BH41,"mmm")) | BI39: =IF(TEXT(BI41,"mmm")=TEXT(BH41,"mmm"),"",TEXT(BI41,"mmm")) -> Mar | BJ39: =IF(TEXT(BJ41,"mmm")=TEXT(BI41,"mmm"),"",TEXT(BJ41,"mmm")) | BK39: =IF(TEXT(BK41,"mmm")=TEXT(BJ41,"mmm"),"",TEXT(BK41,"mmm")) | CN39: =IF(TEXT(CN41,"mmm")=TEXT(CM41,"mmm"),"",TEXT(CN41,"mmm")) -> Apr | DR39: =IF(TEXT(DR41,"mmm")=TEXT(DQ41,"mmm"),"",TEXT(DR41,"mmm")) -> May | EW39: =IF(TEXT(EW41,"mmm")=TEXT(EV41,"mmm"),"",TEXT(EW41,"mmm")) -> Jun | EX39: =IF(TEXT(EX41,"mmm")=TEXT(EW41,"mmm"),"",TEXT(EX41,"mmm")) | FX39: =IF(TEXT(FX41,"mmm")=TEXT(FW41,"mmm"),"",TEXT(FX41,"mmm")) | FY39: =IF(TEXT(FY41,"mmm")=TEXT(FX41,"mmm"),"",TEXT(FY41,"mmm")) | FZ39: =IF(TEXT(FZ41,"mmm")=TEXT(FY41,"mmm"),"",TEXT(FZ41,"mmm")) | GA39: =IF(TEXT(GA41,"mmm")=TEXT(FZ41,"mmm"),"",TEXT(GA41,"mmm")) -> Jul | HF39: =IF(TEXT(HF41,"mmm")=TEXT(HE41,"mmm"),"",TEXT(HF41,"mmm")) -> Aug | HG39: =IF(TEXT(HG41,"mmm")=TEXT(HF41,"mmm"),"",TEXT(HG41,"mmm")) | HH39: =IF(TEXT(HH41,"mmm")=TEXT(HG41,"mmm"),"",TEXT(HH41,"mmm")) | HI39: =IF(TEXT(HI41,"mmm")=TEXT(HH41,"mmm"),"",TEXT(HI41,"mmm")) | IK39: =IF(TEXT(IK41,"mmm")=TEXT(IJ41,"mmm"),"",TEXT(IK41,"mmm")) -> Sep | JN39: =IF(TEXT(JN41,"mmm")=TEXT(JM41,"mmm"),"",TEXT(JN41,"mmm")) | JO39: =TEXT(JO41,"mmm") -> Oct | JP39: =IF(TEXT(JP41,"mmm")=TEXT(JO41,"mmm"),"",TEXT(JP41,"mmm")) | JQ39: =IF(TEXT(JQ41,"mmm")=TEXT(JP41,"mmm"),"",TEXT(JQ41,"mmm")) | JR39: =IF(TEXT(JR41,"mmm")=TEXT(JQ41,"mmm"),"",TEXT(JR41,"mmm")) | JS39: =IF(TEXT(JS41,"mmm")=TEXT(JR41,"mmm"),"",TEXT(JS41,"mmm")) | JT39: =IF(TEXT(JT41,"mmm")=TEXT(JS41,"mmm"),"",TEXT(JT41,"mmm")) | KR39: =IF(TEXT(KR41,"mmm")=TEXT(KQ41,"mmm"),"",TEXT(KR41,"mmm")) | KS39: =IF(TEXT(KS41,"mmm")=TEXT(KR41,"mmm"),"",TEXT(KS41,"mmm")) | KT39: =IF(TEXT(KT41,"mmm")=TEXT(KS41,"mmm"),"",TEXT(KT41,"mmm")) -> Nov | KU39: =IF(TEXT(KU41,"mmm")=TEXT(KT41,"mmm"),"",TEXT(KU41,"mmm")) | KV39: =IF(TEXT(KV41,"mmm")=TEXT(KU41,"mmm"),"",TEXT(KV41,"mmm")) | KZ39: =IF(TEXT(KZ41,"mmm")=TEXT(KY41,"mmm"),"",TEXT(KZ41,"mmm")) | LW39: =IF(TEXT(LW41,"mmm")=TEXT(LV41,"mmm"),"",TEXT(LW41,"mmm")) | LX39: =IF(TEXT(LX41,"mmm")=TEXT(LW41,"mmm"),"",TEXT(LX41,"mmm")) -> Dec
A40: U = Unavailable | B40: =TEXT(A38,"aaa") -> Wed | C40: =TEXT(C41,"aaa") -> Thu | D40: =TEXT(D41,"aaa") -> Fri | E40: =TEXT(E41,"aaa") -> Sat | F40: =TEXT(F41,"aaa") -> Sun | G40: =TEXT(G41,"aaa") -> Mon | H40: =TEXT(H41,"aaa") -> Tue | I40: =TEXT(I41,"aaa") -> Wed | J40: =TEXT(J41,"aaa") -> Thu | ... NB40: =TEXT(NB41,"aaa") -> Wed
A41: Assigned to: | B41: =A38 -> 45658 | C41: =B41+1 -> 45659 | D41: =C41+1 -> 45660 | E41: =D41+1 -> 45661 | F41: =E41+1 -> 45662 | G41: =F41+1 -> 45663 | H41: =G41+1 -> 45664 | I41: =H41+1 -> 45665 | J41: =I41+1 -> 45666 | ... NB41: =NA41+1 -> 46022
A42: P1 | BY42: M | BZ42: M | CA42: M | CB42: M | CC42: M | CD42: M | CE42: M | CF42: M | CG42: M | CH42: M | CI42: M | CJ42: M | CK42: M | CL42: M | CM42: M | CN42: M | CO42: M | CP42: M | CQ42: M | CR42: M | CS42: M | CT42: M | CU42: M | CV42: M | CW42: M | CX42: M | CY42: M | CZ42: M | DA42: M | DB42: M | DC42: M | DD42: M | DE42: M | DF42: M | DG42: M | DH42: M | DI42: M | DJ42: M | DK42: M | DL42: M | DM42: M | DN42: M | DO42: M | DP42: M | DQ42: M | DR42: M | DS42: M | DT42: M | DU42: M | DV42: M | DW42: M | DX42: M | DY42: M | DZ42: M | EA42: M | EB42: M | EC42: M | ED42: M | EE42: M | EF42: M | EG42: M | EH42: M | EI42: M | EJ42: M | EK42: M | EL42: M | EM42: M | EN42: M | EO42: M | EP42: M | EQ42: M | ER42: M | ES42: M | ET42: M | EU42: M | EV42: M | EW42: M | GN42: U | GO42: U | GP42: U | GQ42: U | GR42: U | GS42: U | GT42: U | GU42: U | GV42: U | GW42: U | GX42: U | GY42: U | GZ42: U | HA42: U | HB42: U | HC42: U | HD42: U | HE42: U | HF42: U | HG42: U | HH42: U | HI42: U | HJ42: U | HK42: U | HL42: U | HM42: U | HN42: U | HO42: U | HP42: U | HQ42: U | HR42: U | HS42: U | HT42: U | HU42: U | HV42: U | HW42: U | HX42: U | HY42: U | HZ42: U | IA42: U | IB42: U | IC42: U | ID42: H | IE42: H | IF42: H | IG42: H | IH42: H | II42: H | IJ42: H | IK42: H | IL42: H | IM42: H | IN42: H | IO42: H | IP42: H | IQ42: H | IR42: H | IS42: H | IT42: H | IU42: H | IV42: H | IW42: H | IX42: H | IY42: H | IZ42: H | JA42: H | JB42: H | JC42: H | JD42: H | JE42: H | LJ42: U | LK42: U | LL42: U | LM42: U | LN42: U | LO42: U | LP42: U | LQ42: U | LR42: U | LS42: U | LT42: U | LU42: U | LV42: U | LW42: U | LX42: U | LY42: U | LZ42: U | MA42: U | MB42: U | MC42: U | MD42: U | ME42: U | MF42: U | MG42: U | MH42: U | MI42: U | MJ42: U | MK42: U | NC42: YEAR END
A43: P3 | N43: M | O43: M | P43: M | Q43: M | R43: M | S43: M | T43: M | U43: M | V43: M | W43: M | X43: M | Y43: M | Z43: M | AA43: M | AB43: M | AC43: M | AD43: M | AE43: M | AF43: M | AG43: M | AH43: M | AI43: M | AJ43: M | AK43: M | AL43: M | AM43: M | AN43: M | AO43: M | AP43: M | AQ43: M | AR43: M | AS43: M | AT43: M | AU43: M | AV43: M | AW43: M | AX43: M | AY43: M | AZ43: M | BA43: M | BB43: M | BC43: M | BD43: M | BE43: M | BF43: M | BG43: M | BH43: M | BI43: M | BJ43: M | BK43: M | BL43: M | BM43: M | BN43: M | BO43: M | BP43: M | BQ43: M | BR43: M | BS43: M | BT43: M | BU43: M | BV43: M | BW43: M | BX43: M | KA43: U | KB43: U | KC43: U | KD43: U | KE43: U | KF43: U | KG43: U | KH43: U | KI43: U | KJ43: U | KK43: U | KL43: U | KM43: U | KN43: U | KO43: U | KP43: U | KQ43: U | KR43: U | KS43: U | KT43: U | KU43: U | KV43: U | KW43: U | KX43: U | KY43: U | KZ43: U | LA43: U | LB43: U | LC43: U | LD43: U | LE43: U | LF43: U | LG43: U | LH43: U | LI43: U | LJ43: U | LK43: U | LL43: U | LM43: U | LN43: U | LO43: U | LP43: U | NC43: YEAR END
A44: P4 | AW44: P | AX44: P | AY44: P | AZ44: P | BA44: P | BB44: P | BC44: P | BD44: P | BE44: P | BF44: P | BG44: P | BH44: P | BI44: P | BJ44: P | BK44: P | BL44: P | BM44: P | BN44: P | BO44: P | BP44: P | BQ44: P | BR44: P | BS44: P | BT44: P | BU44: P | BV44: P | BW44: P | BX44: P | BY44: P | BZ44: P | CA44: P | CB44: P | CC44: P | CD44: P | CE44: P | CF44: P | CG44: P | CH44: P | CI44: P | CJ44: P | CK44: P | CL44: P | CM44: P | CN44: P | CO44: P | CP44: P | CQ44: P | CR44: P | CS44: P | CT44: P | CU44: P | CV44: P | CW44: P | CX44: P | CY44: P | CZ44: P | DA44: P | DB44: P | DC44: P | DD44: P | DE44: P | DF44: P | DG44: P | DH44: P | DI44: P | DJ44: P | DK44: P | DL44: P | DM44: P | DN44: P | DO44: P | DP44: P | DQ44: P | DR44: P | DS44: P | DT44: P | DU44: P | DV44: P | DW44: P | DX44: P | DY44: P | DZ44: P | EA44: P | EB44: P | EC44: P | ED44: P | EE44: P | EF44: P | EG44: P | EH44: P | EI44: P | EJ44: P | EK44: P | EL44: P | EM44: P | EN44: P | EO44: P | EP44: P | EQ44: P | ER44: P | ES44: P | ET44: P | EU44: P | EV44: P | EW44: P | EX44: P | EY44: P | EZ44: P | FA44: P | FB44: P | FC44: P | FD44: P | ID44: U | IE44: U | IF44: U | IG44: U | IH44: U | II44: U | IJ44: U | IK44: U | IL44: U | IM44: U | IN44: U | IO44: U | IP44: U | IQ44: U | IR44: U | IS44: U | IT44: U | IU44: U | IV44: U | IW44: U | IX44: U | IY44: U | IZ44: U | JA44: U | JB44: U | JC44: U | JD44: U | JE44: U | JF44: U | JG44: U | JH44: U | JI44: U | JJ44: U | JK44: U | JL44: U | JM44: U | JN44: U | JO44: U | JP44: U | JQ44: U | JR44: U | JS44: U | JT44: U | JU44: U | JV44: U | JW44: U | JX44: U | JY44: U | JZ44: U | KA44: M | KB44: M | KC44: M | KD44: M | KE44: M | KF44: M | KG44: M | KH44: M | KI44: M | KJ44: M | KK44: M | KL44: M | KM44: M | KN44: M | KO44: M | KP44: M | KQ44: M | KR44: M | KS44: M | KT44: M | KU44: M | KV44: M | KW44: M | KX44: M | KY44: M | KZ44: M | LA44: M | LB44: M | LC44: M | LD44: M | LE44: M | LF44: M | LG44: M | LH44: M | LI44: M | NC44: YEAR END
A45: P5 | EC45: U | ED45: U | EE45: U | EF45: U | EG45: U | EH45: U | EI45: U | EJ45: U | EK45: U | EL45: U | EM45: U | EN45: U | EO45: U | EP45: U | EQ45: U | ER45: U | ES45: U | ET45: U | EU45: U | EV45: U | EW45: U | EX45: U | EY45: U | EZ45: U | FA45: U | FB45: U | FC45: U | FD45: U | FE45: U | FF45: U | FG45: U | FH45: U | FI45: U | FJ45: U | FK45: U | FL45: U | FM45: U | FN45: U | FO45: U | FP45: U | FQ45: U | FR45: U | FS45: U | FT45: U | FU45: U | FV45: U | FW45: U | FX45: U | FY45: U | FZ45: U | GA45: U | GB45: U | GC45: U | GD45: U | GE45: U | GF45: U | GG45: U | GH45: U | GI45: U | GJ45: U | GK45: U | GL45: U | GM45: U | GN45: U | GO45: U | GP45: U | GQ45: U | GR45: U | GS45: U | GT45: U | GU45: U | GV45: U | GW45: U | GX45: U | GY45: U | GZ45: U | HA45: U | HB45: U | HC45: U | HD45: U | HE45: U | HF45: U | HG45: U | HH45: U | HI45: U | HJ45: U | HK45: U | HL45: U | HM45: U | HN45: U | HO45: U | HP45: U | HQ45: U | HR45: U | HS45: U | HT45: U | HU45: U | HV45: U | HW45: U | HX45: U | HY45: U | HZ45: U | IA45: U | IB45: U | IC45: U | ID45: U | IE45: U | IF45: U | IG45: U | IH45: U | II45: U | IJ45: U | IK45: U | IL45: U | IM45: U | IN45: U | IO45: U | IP45: U | IQ45: U | IR45: U | IS45: U | IT45: U | IU45: U | IV45: U | IW45: U | IX45: U | IY45: U | IZ45: U | JA45: U | JB45: U | JC45: U | JD45: U | JE45: U | JF45: U | JG45: U | JH45: U | JI45: U | JJ45: U | JK45: U | JL45: U | JM45: U | JN45: U | JO45: U | JP45: U | JQ45: U | JR45: U | JS45: U | JT45: U | JU45: U | JV45: U | JW45: U | JX45: U | JY45: U | JZ45: U | KA45: U | KB45: U | KC45: U | KD45: U | KE45: U | KF45: U | KG45: U | KH45: U | KI45: U | KJ45: U | KK45: U | KL45: U | KM45: U | KN45: U | KO45: U | KP45: U | KQ45: U | KR45: U | KS45: U | KT45: U | KU45: U | KV45: U | KW45: U | KX45: U | KY45: U | KZ45: U | LA45: U | LB45: U | LC45: U | LD45: U | LE45: U | LF45: U | LG45: U | LH45: U | LI45: U | LJ45: U | LK45: U | LL45: U | LM45: U | LN45: U | LO45: U | LP45: U | LQ45: M | LR45: M | LS45: M | LT45: M | LU45: M | LV45: M | LW45: M | LX45: M | LY45: M | LZ45: M | MA45: M | MB45: M | MC45: M | MD45: M | ME45: M | MF45: M | MG45: M | MH45: M | MI45: M | MJ45: M | MK45: M | ML45: M | MM45: M | MN45: M | MO45: M | MP45: M | MQ45: M | MR45: M | MS45: M | MT45: M | MU45: M | MV45: M | MW45: M | MX45: M | MY45: M | MZ45: M | NA45: M | NB45: M | NC45: YEAR END
B48: U | C48: Typical Use
B49: M | C49: Portable Maintenance
B50: H | C50: In Use by Hydro including Newfoundland Power preparation and transport
B51: P | C51: In Use by PEI
