Workbook
Name StartDate: 'Unavailability Data'!#REF!

Sheet Summary (MAY-NOV)
A1: Days Unavailable to Hydro (Excluding Portable Maintenance)
B2: 2021 | C2: 2022 | D2: 2023 | E2: 2024 | F2: 2025 | G2: Average
A3: Portable P1 | B3: =COUNTIF('Unavailability Data'!DR6:LW6,"U") -> 170 | C3: =COUNTIF('Unavailability Data'!DR15:LW15,"U") -> 54 | D3: =COUNTIF('Unavailability Data'!DR24:LW24,"U") -> 96 | E3: =COUNTIF('Unavailability Data'!DS33:LX33,"U") -> 108 | F3: =COUNTIF('Unavailability Data'!DR42:LW42,"U") -> 56 | G3: =AVERAGE(B3:F3) -> 96.8 | K3: Average Usage | L3: 2021 | M3: 2022 | N3: 2023 | O3: 2024 | P3: 2025 | Q3: Average | W3: 4 Portable Substations + * 5 Portable 2030 - 2031
A4: Portable P3 | B4: =COUNTIF('Unavailability Data'!DR7:LW7,"U") -> 191 | C4: =COUNTIF('Unavailability Data'!DR16:LW16,"U") -> 80 | D4: =COUNTIF('Unavailability Data'!DR25:LW25,"U") -> 100 | E4: =COUNTIF('Unavailability Data'!DS34:LX34,"U") -> 40 | F4: =COUNTIF('Unavailability Data'!DR43:LW43,"U") -> 42 | G4: =AVERAGE(B4:F4) -> 90.6 | K4: Portable Maint | L4: =AVERAGE(B58:B61) -> 0 | M4: =AVERAGE(C58:C61) -> 0.015186916 | N4: =AVERAGE(D58:D61) -> 0.046728972 | O4: =AVERAGE(E58:E61) -> 0.074766355 | P4: =AVERAGE(F58:F61) -> 0.086448598 | Q4: =AVERAGE(L4:P4) -> 0.044626168 | W4: Year | X4: Typical Usage | Y4: Transformer Replacement | Z4: Emergency Standby Spare | AA4: Max Capacity
A5: Portable P4 | B5: =COUNTIF('Unavailability Data'!DR8:LW8,"U") -> 196 | C5: =COUNTIF('Unavailability Data'!DR17:LW17,"U") -> 95 | D5: =COUNTIF('Unavailability Data'!DR26:LW26,"U") -> 141 | E5: =COUNTIF('Unavailability Data'!DS35:LX35,"U") -> 150 | F5: =COUNTIF('Unavailability Data'!DR44:LW44,"U") -> 49 | G5: =AVERAGE(B5:F5) -> 126.2 | K5: Capital | L5: =AVERAGE(B10:B13)-L7 -> 0.64252336 | M5: =AVERAGE(C10:C13)-M7 -> 0.3364486 | N5: =AVERAGE(D10:D13)-N7 -> 0.4228972 | O5: =AVERAGE(E10:E13)-O7 -> 0.20911215 | P5: =AVERAGE(F10:F13)-P7 -> 0.17990654 | Q5: =AVERAGE(L5:P5) -> 0.35817757 | W5: 2021 | X5: =SUM(L4:L7) -> 0.66121495 | Y5: 0 | Z5: 0.25 | AA5: 1
A6: Portable P5 | B6: =COUNTIF('Unavailability Data'!DR9:LW9,"U") -> 0 | C6: =COUNTIF('Unavailability Data'!DR18:LW18,"U") -> 136 | D6: =COUNTIF('Unavailability Data'!DR27:LW27,"U") -> 214 | E6: =COUNTIF('Unavailability Data'!DS36:LX36,"U") -> 0 | F6: =COUNTIF('Unavailability Data'!DR45:LW45,"U") -> 196 | G6: =AVERAGE(B6:F6) -> 109.2 | K6: Others | L6: =AVERAGE(COUNTIF('Unavailability Data'!DR6:LW6,"H")/214,COUNTIF('Unavailability Data'!DR7:LW7,"H")/214,COUNTIF('Unavailability Data'!DR8:LW8,"H")/214,COUNTIF('Unavailability Data'!DR9:LW9,"H")/214) -> 0.010514019 | M6: =AVERAGE(COUNTIF('Unavailability Data'!DR15:LW15,"H")/214,COUNTIF('Unavailability Data'!DR16:LW16,"H")/214,COUNTIF('Unavailability Data'!DR17:LW17,"H")/214,COUNTIF('Unavailability Data'!DR18:LW18,"H")/214) -> 0.11214953 | N6: =AVERAGE(COUNTIF('Unavailability Data'!DR24:LW24,"H")/214,COUNTIF('Unavailability Data'!DR25:LW25,"H")/214,COUNTIF('Unavailability Data'!DR26:LW26,"H")/214,COUNTIF('Unavailability Data'!DR27:LW27,"H")/214) -> 0.030373832 | O6: =AVERAGE(COUNTIF('Unavailability Data'!DR33:LW33,"H")/214,COUNTIF('Unavailability Data'!DR34:LW34,"H")/214,COUNTIF('Unavailability Data'!DR35:LW35,"H")/214,COUNTIF('Unavailability Data'!DR36:LW36,"H")/214) -> 0 | P6: =AVERAGE((COUNTIF('Unavailability Data'!DR42:LW42,"H")/214),COUNTIF('Unavailability Data'!DR43:LW43,"H")/214,((COUNTIF('Unavailability Data'!DR44:LW44,"H")/214) + (COUNTIF('Unavailability Data'!DR44:LW44,"P")/214)),COUNTIF('Unavailability Data'!DR45:LW45,"H")/214) -> 0.078271028 | Q6: =AVERAGE(L6:P6) -> 0.046261682 | W6: 2022 | X6: =SUM(M4:M7) -> 0.55373832 | Y6: 0 | Z6: 0.25 | AA6: 1
A7: Total | B7: =SUM(B3:B6) -> 557 | C7: =SUM(C3:C6) -> 365 | D7: =SUM(D3:D6) -> 551 | E7: =SUM(E3:E6) -> 298 | F7: =SUM(F3:F6) -> 343 | G7: =AVERAGE(B7:F7) -> 422.8 | K7: Txfmr Maint | L7: ='Usage Type Data (MAY-NOV)'!BJ8/((214/7)*4) -> 0.0081775701 | M7: ='Usage Type Data (MAY-NOV)'!BJ7/((214/7)*4) -> 0.089953271 | N7: ='Usage Type Data (MAY-NOV)'!BJ6/((214/7)*4) -> 0.22079439 | O7: ='Usage Type Data (MAY-NOV)'!BJ5/((214/7)*4) -> 0.13901869 | P7: ='Usage Type Data (MAY-NOV)'!BJ4/((214/7)*4) -> 0.22079439 | Q7: =AVERAGE(L7:P7) -> 0.13574766 | W7: 2023 | X7: =SUM(N4:N7) -> 0.72079439 | Y7: 0 | Z7: 0.25 | AA7: 1
A8: Percentage Unavailable | L8: =SUM(L4:L7) -> 0.66121495 | M8: =SUM(M4:M7) -> 0.55373832 | N8: =SUM(N4:N7) -> 0.72079439 | O8: =SUM(O4:O7) -> 0.4228972 | P8: =SUM(P4:P7) -> 0.56542056 | W8: 2024 | X8: =SUM(O4:O7) -> 0.4228972 | Y8: 0 | Z8: 0.25 | AA8: 1
B9: 2021 | C9: 2022 | D9: 2023 | E9: 2024 | F9: 2025 | G9: Average | K9: 5-Year Average - Typical Substation Utilization | P9: =AVERAGE(B86:F86) -> 0.58481308 | W9: 2025 | X9: =SUM(P4:P7) -> 0.56542056 | Y9: 0 | Z9: 0.25 | AA9: 1
A10: P1 | B10: =B3/214 -> 0.79439252 | C10: =C3/214 -> 0.25233645 | D10: =D3/214 -> 0.44859813 | E10: =E3/214 -> 0.5046729 | F10: =F3/214 -> 0.26168224 | G10: =AVERAGE(B10:F10) -> 0.45233645 | W10: 2026F | X10: =AVERAGE(L4:P4)+(0.1225)+'Forecasted Portable Usage (MAY)'!J28+AVERAGE(L6:P6)+AVERAGE(L7:P7) -> 0.43091121 | Y10: ='Forecasted Portable Usage (MAY)'!J51 -> 0 | Z10: 0.25 | AA10: 1
A11: P3 | B11: =B4/214 -> 0.89252336 | C11: =C4/214 -> 0.37383178 | D11: =D4/214 -> 0.46728972 | E11: =E4/214 -> 0.18691589 | F11: =F4/214 -> 0.19626168 | G11: =AVERAGE(B11:F11) -> 0.42336449 | V11: added 15 weeks (12.25%) to account for P4 maintenance | W11: 2027F | X11: =AVERAGE(L4:P4)+'Forecasted Portable Usage (MAY)'!K28+AVERAGE(L6:P6)+AVERAGE(L7:P7) -> 0.43107477 | Y11: ='Forecasted Portable Usage (MAY)'!K51 -> 0.081775701 | Z11: 0.25 | AA11: 1
A12: P4 | B12: =B5/214 -> 0.91588785 | C12: =C5/214 -> 0.44392523 | D12: =D5/214 -> 0.6588785 | E12: =E5/214 -> 0.70093458 | F12: =F5/214 -> 0.22897196 | G12: =AVERAGE(B12:F12) -> 0.58971963 | W12: 2028F | X12: =AVERAGE(L4:P4)+'Forecasted Portable Usage (MAY)'!L28+AVERAGE(L6:P6)+AVERAGE(L7:P7) -> 0.68457944 | Y12: ='Forecasted Portable Usage (MAY)'!L51 -> 0.081775701 | Z12: 0.25 | AA12: 1
A13: P5 | B13: =B6/214 -> 0 | C13: =C6/214 -> 0.63551402 | D13: =D6/214 -> 1 | E13: =E6/214 -> 0 | F13: =F6/214 -> 0.91588785 | G13: =AVERAGE(B13:F13) -> 0.51028037 | K13: Calculations | W13: 2029F | X13: =AVERAGE(L4:P4)+'Forecasted Portable Usage (MAY)'!M28+AVERAGE(L6:P6)+AVERAGE(L7:P7) -> 0.47196262 | Y13: ='Forecasted Portable Usage (MAY)'!M51 -> 0.1635514 | Z13: 0.25 | AA13: 1
A14: Notes: The values above do not include NP's annual portable substation maintenance (all portables for three to five weeks each). It was assumed that portables were available if there was no record of them being installed. | K14: Assume 10 weeks for each portable installation for the 3 transformer replacement. | W14: 2030F | X14: =AVERAGE(L4:P4)+'Forecasted Portable Usage (MAY)'!N28+AVERAGE(L6:P6)+AVERAGE(L7:P7) -> 0.71728972 | Y14: ='Forecasted Portable Usage (MAY)'!N51 -> 0.2453271 | Z14: 0.25 | AA14: 1
K15: 4 Portable Substations | W15: 2030F* | X15: =X14*4/5 -> 0.57383178 | Y15: ='Forecasted Portable Usage (MAY)'!V51 -> 0.19626168 | Z15: 0.2 | AA15: 1
L16: 3 Txfmr Replacements | O16: 30 weeks | P16: 30 | Q16: = | R16: =P16/P17 -> 0.24590164 | S16: increase | W16: 2031F | X16: =AVERAGE(L4:P4)+'Forecasted Portable Usage (MAY)'!O28+AVERAGE(L6:P6)+AVERAGE(L7:P7) -> 0.71728972 | Y16: ='Forecasted Portable Usage (MAY)'!O51 -> 0.2453271 | Z16: 0.25 | AA16: 1
L17: Total Portable Capacity | O17: (214/7) * 4 | P17: =ROUND((214/7)*4,0) -> 122 | W17: 2031F* | X17: =X16*4/5 -> 0.57383178 | Y17: ='Forecasted Portable Usage (MAY)'!W51 -> 0.19626168 | Z17: 0.2 | AA17: 1
A25: Total Days in Use (Excluding Portable Maintenance) | K25: Notes (Condensed Typical Usage Category - 4 Portables)
B26: 2021 | C26: 2022 | D26: 2023 | E26: 2024 | F26: 2025 | G26: Average | K26: Typical Usage includes Portable Maintenance, Capital, Others and transformer Maintenance
A27: Portable P1 | B27: =B3+COUNTIF('Unavailability Data'!DR6:LW6,"H") -> 179 | C27: =C3+COUNTIF('Unavailability Data'!DR15:LW15,"H") -> 150 | D27: =D3+COUNTIF('Unavailability Data'!DR24:LW24,"H") -> 122 | E27: =E3+COUNTIF('Unavailability Data'!DS33:LX33,"H") -> 108 | F27: =F3+COUNTIF('Unavailability Data'!DR42:LW42,"H")+COUNTIF('Unavailability Data'!DR42:LW42,"P") -> 84 | G27: =AVERAGE(B27:F27) -> 128.6 | K27: Forecasted Capital based on 5 year plan
A28: Portable P3 | B28: =B4+COUNTIF('Unavailability Data'!DR7:LW7,"H") -> 191 | C28: =C4+COUNTIF('Unavailability Data'!DR16:LW16,"H") -> 80 | D28: =D4+COUNTIF('Unavailability Data'!DR25:LW25,"H") -> 100 | E28: =E4+COUNTIF('Unavailability Data'!DS34:LX34,"H") -> 40 | F28: =F4+COUNTIF('Unavailability Data'!DR43:LW43,"H")+COUNTIF('Unavailability Data'!DR43:LW43,"P") -> 42 | G28: =AVERAGE(B28:F28) -> 90.6 | K28: Others (NLH and MECL) based on 5-year historical
A29: Portable P4 | B29: =B5+COUNTIF('Unavailability Data'!DR8:LW8,"H") -> 196 | C29: =C5+COUNTIF('Unavailability Data'!DR17:LW17,"H") -> 95 | D29: =D5+COUNTIF('Unavailability Data'!DR26:LW26,"H") -> 141 | E29: =E5+COUNTIF('Unavailability Data'!DS35:LX35,"H") -> 150 | F29: =F5+COUNTIF('Unavailability Data'!DR44:LW44,"H")+COUNTIF('Unavailability Data'!DR44:LW44,"P") -> 88 | G29: =AVERAGE(B29:F29) -> 134 | K29: Transformer Maintenance based on 5-year historical
A30: Portable P5 | B30: =B6+COUNTIF('Unavailability Data'!DR9:LW9,"H") -> 0 | C30: =C6+COUNTIF('Unavailability Data'!DR18:LW18,"H") -> 136 | D30: =D6+COUNTIF('Unavailability Data'!DR27:LW27,"H") -> 214 | E30: =E6+COUNTIF('Unavailability Data'!DS36:LX36,"H") -> 0 | F30: =F6+COUNTIF('Unavailability Data'!DR45:LW45,"H")+COUNTIF('Unavailability Data'!DR45:LW45,"P") -> 196 | G30: =AVERAGE(B30:F30) -> 109.2 | K30: Transformer Replacements based on proposed projects 2026-2029 & forecasted averages for 2030 & 2031
A31: Total | B31: =SUM(B27:B30) -> 566 | C31: =SUM(C27:C30) -> 461 | D31: =SUM(D27:D30) -> 577 | E31: =SUM(E27:E30) -> 298 | F31: =SUM(F27:F30) -> 410 | G31: =AVERAGE(B31:F31) -> 462.4 | K31: Emergency Standby Spare is based on keeping one of four portables available for
A32: Percentage Unavailable
B33: 2021 | C33: 2022 | D33: 2023 | E33: 2024 | F33: 2025 | G33: Average
A34: P1 | B34: =B27/214 -> 0.8364486 | C34: =C27/214 -> 0.70093458 | D34: =D27/214 -> 0.57009346 | E34: =E27/214 -> 0.5046729 | F34: =F27/214 -> 0.39252336 | G34: =AVERAGE(B34:E34) -> 0.65303738
A35: P3 | B35: =B28/214 -> 0.89252336 | C35: =C28/214 -> 0.37383178 | D35: =D28/214 -> 0.46728972 | E35: =E28/214 -> 0.18691589 | F35: =F28/214 -> 0.19626168 | G35: =AVERAGE(B35:E35) -> 0.48014019
A36: P4 | B36: =B29/214 -> 0.91588785 | C36: =C29/214 -> 0.44392523 | D36: =D29/214 -> 0.6588785 | E36: =E29/214 -> 0.70093458 | F36: =F29/214 -> 0.41121495 | G36: =AVERAGE(B36:E36) -> 0.67990654
A37: P5 | B37: =B30/214 -> 0 | C37: =C30/214 -> 0.63551402 | D37: =D30/214 -> 1 | E37: =E30/214 -> 0 | F37: =F30/214 -> 0.91588785 | G37: =AVERAGE(B37:E37) -> 0.4088785
A38: Notes: The values above do not include NP's annual portable substation maintenance (all portables for three to five weeks each). It was assumed that portables were available if there was no record of them being installed.
A49: DAYS Portables are in MAINTENANCE
B50: 2021 | C50: 2022 | D50: 2023 | E50: 2024 | F50: 2025 | G50: Average
A51: Portable P1 | B51: =COUNTIF('Unavailability Data'!DR6:LW6,"M") -> 0 | C51: =COUNTIF('Unavailability Data'!DR15:LW15,"M") -> 0 | D51: =COUNTIF('Unavailability Data'!DR24:LW24,"M") -> 40 | E51: =COUNTIF('Unavailability Data'!DS33:LX33,"M") -> 40 | F51: =COUNTIF('Unavailability Data'!DR42:LW42,"M") -> 32 | G51: =AVERAGE(B51:F51) -> 22.4
A52: Portable P3 | B52: =COUNTIF('Unavailability Data'!DR7:LW7,"M") -> 0 | C52: =COUNTIF('Unavailability Data'!DR16:LW16,"M") -> 13 | D52: =COUNTIF('Unavailability Data'!DR25:LW25,"M") -> 0 | E52: =COUNTIF('Unavailability Data'!DS34:LX34,"M") -> 24 | F52: =COUNTIF('Unavailability Data'!DR43:LW43,"M") -> 0 | G52: =AVERAGE(B52:F52) -> 7.4
A53: Portable P4 | B53: =COUNTIF('Unavailability Data'!DR8:LW8,"M") -> 0 | C53: =COUNTIF('Unavailability Data'!DR17:LW17,"M") -> 0 | D53: =COUNTIF('Unavailability Data'!DR26:LW26,"M") -> 0 | E53: =COUNTIF('Unavailability Data'!DS35:LX35,"M") -> 0 | F53: =COUNTIF('Unavailability Data'!DR44:LW44,"M") -> 35 | G53: =AVERAGE(B53:F53) -> 7
A54: Portable P5 | B54: =COUNTIF('Unavailability Data'!DR9:LW9,"M") -> 0 | C54: =COUNTIF('Unavailability Data'!DR18:LW18,"M") -> 0 | D54: =COUNTIF('Unavailability Data'!DR27:LW27,"M") -> 0 | E54: =COUNTIF('Unavailability Data'!DS36:LX36,"M") -> 0 | F54: =COUNTIF('Unavailability Data'!DR45:LW45,"M") -> 7 | G54: =AVERAGE(B54:F54) -> 1.4
A55: Total | B55: =SUM(B51:B54) -> 0 | C55: =SUM(C51:C54) -> 13 | D55: =SUM(D51:D54) -> 40 | E55: =SUM(E51:E54) -> 64 | F55: =SUM(F51:F54) -> 74 | G55: =AVERAGE(B55:F55) -> 38.2
A56: Percentage Unavailable
B57: 2021 | C57: 2022 | D57: 2023 | E57: 2024 | F57: 2025 | G57: Average
...

Sheet Forecasted Portable Usage (MAY)
B2: Weeks | I2: Percentage of fleet (4 Portables) | Q2: Percentage of fleet (5 Portables)
A3: Site | B3: 2026 | C3: 2027 | D3: 2028 | E3: 2029 | F3: 2030 | G3: 2031 | I3: Site | J3: 2026 | K3: 2027 | L3: 2028 | M3: 2029 | N3: 2030 | O3: 2031 | Q3: =A3 -> Site | R3: =B3 -> 2026 | S3: =C3 -> 2027 | T3: =D3 -> 2028 | U3: =E3 -> 2029 | V3: =F3 -> 2030 | W3: =G3 -> 2031
A4: R&M 1 | B4: 0 | I4: R&M 1 | J4: =B4/((214/7)*4) -> 0 | K4: =C4/((214/7)*4) -> 0 | L4: =D4/((214/7)*4) -> 0 | M4: =E4/((214/7)*4) -> 0 | N4: =F4/((214/7)*4) -> 0 | O4: =G4/((214/7)*4) -> 0 | Q4: =I4 -> R&M 1 | R4: =J4 -> 0 | S4: =K4 -> 0 | T4: =L4 -> 0 | U4: =M4 -> 0 | V4: =F4/((214/7)*5) -> 0 | W4: =G4/((214/7)*5) -> 0
A5: R&M 2 | B5: 10 | I5: R&M 2 | J5: =B5/((214/7)*4) -> 0.081775701 | K5: =C5/((214/7)*4) -> 0 | L5: =D5/((214/7)*4) -> 0 | M5: =E5/((214/7)*4) -> 0 | N5: =F5/((214/7)*4) -> 0 | O5: =G5/((214/7)*4) -> 0 | Q5: =I5 -> R&M 2 | R5: =J5 -> 0.081775701 | S5: =K5 -> 0 | T5: =L5 -> 0 | U5: =M5 -> 0 | V5: =F5/((214/7)*5) -> 0 | W5: =G5/((214/7)*5) -> 0
A6: R&M 3 | C6: 0 | I6: R&M 3 | J6: =B6/((214/7)*4) -> 0 | K6: =C6/((214/7)*4) -> 0 | L6: =D6/((214/7)*4) -> 0 | M6: =E6/((214/7)*4) -> 0 | N6: =F6/((214/7)*4) -> 0 | O6: =G6/((214/7)*4) -> 0 | Q6: =I6 -> R&M 3 | R6: =J6 -> 0 | S6: =K6 -> 0 | T6: =L6 -> 0 | U6: =M6 -> 0 | V6: =F6/((214/7)*5) -> 0 | W6: =G6/((214/7)*5) -> 0
A7: R&M 4 | C7: 10 | I7: R&M 4 | J7: =B7/((214/7)*4) -> 0 | K7: =C7/((214/7)*4) -> 0.081775701 | L7: =D7/((214/7)*4) -> 0 | M7: =E7/((214/7)*4) -> 0 | N7: =F7/((214/7)*4) -> 0 | O7: =G7/((214/7)*4) -> 0 | Q7: =I7 -> R&M 4 | R7: =J7 -> 0 | S7: =K7 -> 0.081775701 | T7: =L7 -> 0 | U7: =M7 -> 0 | V7: =F7/((214/7)*5) -> 0 | W7: =G7/((214/7)*5) -> 0
A8: R&M 5 | C8: 15 | I8: R&M 5 | J8: =B8/((214/7)*4) -> 0 | K8: =C8/((214/7)*4) -> 0.12266355 | L8: =D8/((214/7)*4) -> 0 | M8: =E8/((214/7)*4) -> 0 | N8: =F8/((214/7)*4) -> 0 | O8: =G8/((214/7)*4) -> 0 | Q8: =I8 -> R&M 5 | R8: =J8 -> 0 | S8: =K8 -> 0.12266355 | T8: =L8 -> 0 | U8: =M8 -> 0 | V8: =F8/((214/7)*5) -> 0 | W8: =G8/((214/7)*5) -> 0
A9: R&M 6 | C9: 0 | I9: R&M 6 | J9: =B9/((214/7)*4) -> 0 | K9: =C9/((214/7)*4) -> 0 | L9: =D9/((214/7)*4) -> 0 | M9: =E9/((214/7)*4) -> 0 | N9: =F9/((214/7)*4) -> 0 | O9: =G9/((214/7)*4) -> 0 | Q9: =I9 -> R&M 6 | R9: =J9 -> 0 | S9: =K9 -> 0 | T9: =L9 -> 0 | U9: =M9 -> 0 | V9: =F9/((214/7)*5) -> 0 | W9: =G9/((214/7)*5) -> 0
A10: R&M 7 | D10: 0 | I10: R&M 7 | J10: =B10/((214/7)*4) -> 0 | K10: =C10/((214/7)*4) -> 0 | L10: =D10/((214/7)*4) -> 0 | M10: =E10/((214/7)*4) -> 0 | N10: =F10/((214/7)*4) -> 0 | O10: =G10/((214/7)*4) -> 0 | Q10: =I10 -> R&M 7 | R10: =J10 -> 0 | S10: =K10 -> 0 | T10: =L10 -> 0 | U10: =M10 -> 0 | V10: =F10/((214/7)*5) -> 0 | W10: =G10/((214/7)*5) -> 0
A11: R&M 8 | D11: 28 | I11: R&M 8 | J11: =B11/((214/7)*4) -> 0 | K11: =C11/((214/7)*4) -> 0 | L11: =D11/((214/7)*4) -> 0.22897196 | M11: =E11/((214/7)*4) -> 0 | N11: =F11/((214/7)*4) -> 0 | O11: =G11/((214/7)*4) -> 0 | Q11: =I11 -> R&M 8 | R11: =J11 -> 0 | S11: =K11 -> 0 | T11: =L11 -> 0.22897196 | U11: =M11 -> 0 | V11: =F11/((214/7)*5) -> 0 | W11: =G11/((214/7)*5) -> 0
A12: R&M 9 | D12: 20 | I12: R&M 9 | J12: =B12/((214/7)*4) -> 0 | K12: =C12/((214/7)*4) -> 0 | L12: =D12/((214/7)*4) -> 0.1635514 | M12: =E12/((214/7)*4) -> 0 | N12: =F12/((214/7)*4) -> 0 | O12: =G12/((214/7)*4) -> 0 | Q12: =I12 -> R&M 9 | R12: =J12 -> 0 | S12: =K12 -> 0 | T12: =L12 -> 0.1635514 | U12: =M12 -> 0 | V12: =F12/((214/7)*5) -> 0 | W12: =G12/((214/7)*5) -> 0
A13: R&M 10 | D13: 8 | I13: R&M 10 | J13: =B13/((214/7)*4) -> 0 | K13: =C13/((214/7)*4) -> 0 | L13: =D13/((214/7)*4) -> 0.065420561 | M13: =E13/((214/7)*4) -> 0 | N13: =F13/((214/7)*4) -> 0 | O13: =G13/((214/7)*4) -> 0 | Q13: =I13 -> R&M 10 | R13: =J13 -> 0 | S13: =K13 -> 0 | T13: =L13 -> 0.065420561 | U13: =M13 -> 0 | V13: =F13/((214/7)*5) -> 0 | W13: =G13/((214/7)*5) -> 0
A14: R&M 11 | E14: 10 | I14: R&M 11 | J14: =B14/((214/7)*4) -> 0 | K14: =C14/((214/7)*4) -> 0 | L14: =D14/((214/7)*4) -> 0 | M14: =E14/((214/7)*4) -> 0.081775701 | N14: =F14/((214/7)*4) -> 0 | O14: =G14/((214/7)*4) -> 0 | Q14: =I14 -> R&M 11 | R14: =J14 -> 0 | S14: =K14 -> 0 | T14: =L14 -> 0 | U14: =M14 -> 0.081775701 | V14: =F14/((214/7)*5) -> 0 | W14: =G14/((214/7)*5) -> 0
A15: R&M 12 | E15: 0 | I15: R&M 12 | J15: =B15/((214/7)*4) -> 0 | K15: =C15/((214/7)*4) -> 0 | L15: =D15/((214/7)*4) -> 0 | M15: =E15/((214/7)*4) -> 0 | N15: =F15/((214/7)*4) -> 0 | O15: =G15/((214/7)*4) -> 0 | Q15: =I15 -> R&M 12 | R15: =J15 -> 0 | S15: =K15 -> 0 | T15: =L15 -> 0 | U15: =M15 -> 0 | V15: =F15/((214/7)*5) -> 0 | W15: =G15/((214/7)*5) -> 0
A16: R&M 13 | E16: 20 | I16: R&M 13 | J16: =B16/((214/7)*4) -> 0 | K16: =C16/((214/7)*4) -> 0 | L16: =D16/((214/7)*4) -> 0 | M16: =E16/((214/7)*4) -> 0.1635514 | N16: =F16/((214/7)*4) -> 0 | O16: =G16/((214/7)*4) -> 0 | Q16: =I16 -> R&M 13 | R16: =J16 -> 0 | S16: =K16 -> 0 | T16: =L16 -> 0 | U16: =M16 -> 0.1635514 | V16: =F16/((214/7)*5) -> 0 | W16: =G16/((214/7)*5) -> 0
A17: R&M 14 | E17: 0 | I17: R&M 14 | J17: =B17/((214/7)*4) -> 0 | K17: =C17/((214/7)*4) -> 0 | L17: =D17/((214/7)*4) -> 0 | M17: =E17/((214/7)*4) -> 0 | N17: =F17/((214/7)*4) -> 0 | O17: =G17/((214/7)*4) -> 0 | Q17: =I17 -> R&M 14 | R17: =J17 -> 0 | S17: =K17 -> 0 | T17: =L17 -> 0 | U17: =M17 -> 0 | V17: =F17/((214/7)*5) -> 0 | W17: =G17/((214/7)*5) -> 0
A18: R&M 15 | F18: 30 | I18: R&M 15 | J18: =B18/((214/7)*4) -> 0 | K18: =C18/((214/7)*4) -> 0 | L18: =D18/((214/7)*4) -> 0 | M18: =E18/((214/7)*4) -> 0 | N18: =F18/((214/7)*4) -> 0.2453271 | O18: =G18/((214/7)*4) -> 0 | Q18: =I18 -> R&M 15 | R18: =J18 -> 0 | S18: =K18 -> 0 | T18: =L18 -> 0 | U18: =M18 -> 0 | V18: =F18/((214/7)*5) -> 0.19626168 | W18: =G18/((214/7)*5) -> 0
A19: R&M 16 | F19: 0 | I19: R&M 16 | J19: =B19/((214/7)*4) -> 0 | K19: =C19/((214/7)*4) -> 0 | L19: =D19/((214/7)*4) -> 0 | M19: =E19/((214/7)*4) -> 0 | N19: =F19/((214/7)*4) -> 0 | O19: =G19/((214/7)*4) -> 0 | Q19: =I19 -> R&M 16 | R19: =J19 -> 0 | S19: =K19 -> 0 | T19: =L19 -> 0 | U19: =M19 -> 0 | V19: =F19/((214/7)*5) -> 0 | W19: =G19/((214/7)*5) -> 0
A20: R&M 17 | F20: 30 | I20: R&M 17 | J20: =B20/((214/7)*4) -> 0 | K20: =C20/((214/7)*4) -> 0 | L20: =D20/((214/7)*4) -> 0 | M20: =E20/((214/7)*4) -> 0 | N20: =F20/((214/7)*4) -> 0.2453271 | O20: =G20/((214/7)*4) -> 0 | Q20: =I20 -> R&M 17 | R20: =J20 -> 0 | S20: =K20 -> 0 | T20: =L20 -> 0 | U20: =M20 -> 0 | V20: =F20/((214/7)*5) -> 0.19626168 | W20: =G20/((214/7)*5) -> 0
A21: R&M 18 | F21: 0 | I21: R&M 18 | J21: =B21/((214/7)*4) -> 0 | K21: =C21/((214/7)*4) -> 0 | L21: =D21/((214/7)*4) -> 0 | M21: =E21/((214/7)*4) -> 0 | N21: =F21/((214/7)*4) -> 0 | O21: =G21/((214/7)*4) -> 0 | Q21: =I21 -> R&M 18 | R21: =J21 -> 0 | S21: =K21 -> 0 | T21: =L21 -> 0 | U21: =M21 -> 0 | V21: =F21/((214/7)*5) -> 0 | W21: =G21/((214/7)*5) -> 0
A22: R&M 19 | F22: 0 | I22: R&M 19 | J22: =B22/((214/7)*4) -> 0 | K22: =C22/((214/7)*4) -> 0 | L22: =D22/((214/7)*4) -> 0 | M22: =E22/((214/7)*4) -> 0 | N22: =F22/((214/7)*4) -> 0 | O22: =G22/((214/7)*4) -> 0 | Q22: =I22 -> R&M 19 | R22: =J22 -> 0 | S22: =K22 -> 0 | T22: =L22 -> 0 | U22: =M22 -> 0 | V22: =F22/((214/7)*5) -> 0 | W22: =G22/((214/7)*5) -> 0
A23: R&M 20 | G23: 30 | I23: R&M 20 | J23: =B23/((214/7)*4) -> 0 | K23: =C23/((214/7)*4) -> 0 | L23: =D23/((214/7)*4) -> 0 | M23: =E23/((214/7)*4) -> 0 | N23: =F23/((214/7)*4) -> 0 | O23: =G23/((214/7)*4) -> 0.2453271 | Q23: =I23 -> R&M 20 | R23: =J23 -> 0 | S23: =K23 -> 0 | T23: =L23 -> 0 | U23: =M23 -> 0 | V23: =F23/((214/7)*5) -> 0 | W23: =G23/((214/7)*5) -> 0.19626168
A24: R&M 21 | G24: 0 | I24: R&M 21 | J24: =B24/((214/7)*4) -> 0 | K24: =C24/((214/7)*4) -> 0 | L24: =D24/((214/7)*4) -> 0 | M24: =E24/((214/7)*4) -> 0 | N24: =F24/((214/7)*4) -> 0 | O24: =G24/((214/7)*4) -> 0 | Q24: =I24 -> R&M 21 | R24: =J24 -> 0 | S24: =K24 -> 0 | T24: =L24 -> 0 | U24: =M24 -> 0 | V24: =F24/((214/7)*5) -> 0 | W24: =G24/((214/7)*5) -> 0
A25: R&M 22 | G25: 0 | I25: R&M 22 | J25: =B25/((214/7)*4) -> 0 | K25: =C25/((214/7)*4) -> 0 | L25: =D25/((214/7)*4) -> 0 | M25: =E25/((214/7)*4) -> 0 | N25: =F25/((214/7)*4) -> 0 | O25: =G25/((214/7)*4) -> 0 | Q25: =I25 -> R&M 22 | R25: =J25 -> 0 | S25: =K25 -> 0 | T25: =L25 -> 0 | U25: =M25 -> 0 | V25: =F25/((214/7)*5) -> 0 | W25: =G25/((214/7)*5) -> 0
A26: R&M 23 | G26: 0 | I26: R&M 23 | J26: =B26/((214/7)*4) -> 0 | K26: =C26/((214/7)*4) -> 0 | L26: =D26/((214/7)*4) -> 0 | M26: =E26/((214/7)*4) -> 0 | N26: =F26/((214/7)*4) -> 0 | O26: =G26/((214/7)*4) -> 0 | Q26: =I26 -> R&M 23 | R26: =J26 -> 0 | S26: =K26 -> 0 | T26: =L26 -> 0 | U26: =M26 -> 0 | V26: =F26/((214/7)*5) -> 0 | W26: =G26/((214/7)*5) -> 0
A27: R&M 24 | G27: 30 | I27: R&M 24 | J27: =B27/((214/7)*4) -> 0 | K27: =C27/((214/7)*4) -> 0 | L27: =D27/((214/7)*4) -> 0 | M27: =E27/((214/7)*4) -> 0 | N27: =F27/((214/7)*4) -> 0 | O27: =G27/((214/7)*4) -> 0.2453271 | Q27: =I27 -> R&M 24 | R27: =J27 -> 0 | S27: =K27 -> 0 | T27: =L27 -> 0 | U27: =M27 -> 0 | V27: =F27/((214/7)*5) -> 0 | W27: =G27/((214/7)*5) -> 0.19626168
I28: Total | J28: =SUM(J4:J27) -> 0.081775701 | K28: =SUM(K4:K27) -> 0.20443925 | L28: =SUM(L4:L27) -> 0.45794393 | M28: =SUM(M4:M27) -> 0.2453271 | N28: =SUM(N4:N27) -> 0.49065421 | O28: =SUM(O4:O27) -> 0.49065421 | Q28: Total | R28: =SUM(R4:R27) -> 0.081775701 | S28: =SUM(S4:S27) -> 0.20443925 | T28: =SUM(T4:T27) -> 0.45794393 | U28: =SUM(U4:U27) -> 0.2453271 | V28: =SUM(V4:V27) -> 0.39252336 | W28: =SUM(W4:W27) -> 0.39252336
B32: Weeks | I32: Percentage of fleet | Q32: Percentage of fleet
A33: Site | B33: 2026 | C33: 2027 | D33: 2028 | E33: 2029 | F33: 2030 | G33: 2031 | I33: Site | J33: 2026 | K33: 2027 | L33: 2028 | M33: 2029 | N33: 2030 | O33: 2031 | Q33: Site | R33: 2026 | S33: 2027 | T33: 2028 | U33: 2029 | V33: 2030 | W33: 2031
A34: Transformer Replacement 1 | C34: 0 | I34: =A34 -> Transformer Replacement 1 | J34: =B34/((214/7)*4) -> 0 | K34: =C34/((214/7)*4) -> 0 | L34: =D34/((214/7)*4) -> 0 | M34: =E34/((214/7)*4) -> 0 | N34: =F34/((214/7)*4) -> 0 | O34: =G34/((214/7)*4) -> 0 | Q34: =I34 -> Transformer Replacement 1 | R34: =J34 -> 0 | S34: =K34 -> 0 | T34: =L34 -> 0 | U34: =M34 -> 0 | V34: =F34/((214/7)*5) -> 0 | W34: =G34/((214/7)*5) -> 0
A35: Transformer Replacement 2 | C35: 10 | I35: =A35 -> Transformer Replacement 2 | J35: =B35/((214/7)*4) -> 0 | K35: =C35/((214/7)*4) -> 0.081775701 | L35: =D35/((214/7)*4) -> 0 | M35: =E35/((214/7)*4) -> 0 | N35: =F35/((214/7)*4) -> 0 | O35: =G35/((214/7)*4) -> 0 | Q35: =I35 -> Transformer Replacement 2 | R35: =J35 -> 0 | S35: =K35 -> 0.081775701 | T35: =L35 -> 0 | U35: =M35 -> 0 | V35: =F35/((214/7)*5) -> 0 | W35: =G35/((214/7)*5) -> 0
A36: Transformer Replacement 3 | D36: 0 | I36: =A36 -> Transformer Replacement 3 | J36: =B36/((214/7)*4) -> 0 | K36: =C36/((214/7)*4) -> 0 | L36: =D36/((214/7)*4) -> 0 | M36: =E36/((214/7)*4) -> 0 | N36: =F36/((214/7)*4) -> 0 | O36: =G36/((214/7)*4) -> 0 | Q36: =I36 -> Transformer Replacement 3 | R36: =J36 -> 0 | S36: =K36 -> 0 | T36: =L36 -> 0 | U36: =M36 -> 0 | V36: =F36/((214/7)*5) -> 0 | W36: =G36/((214/7)*5) -> 0
A37: Transformer Replacement 4 | D37: 0 | I37: =A37 -> Transformer Replacement 4 | J37: =B37/((214/7)*4) -> 0 | K37: =C37/((214/7)*4) -> 0 | L37: =D37/((214/7)*4) -> 0 | M37: =E37/((214/7)*4) -> 0 | N37: =F37/((214/7)*4) -> 0 | O37: =G37/((214/7)*4) -> 0 | Q37: =I37 -> Transformer Replacement 4 | R37: =J37 -> 0 | S37: =K37 -> 0 | T37: =L37 -> 0 | U37: =M37 -> 0 | V37: =F37/((214/7)*5) -> 0 | W37: =G37/((214/7)*5) -> 0
A38: Transformer Replacement 5 | D38: 10 | I38: =A38 -> Transformer Replacement 5 | J38: =B38/((214/7)*4) -> 0 | K38: =C38/((214/7)*4) -> 0 | L38: =D38/((214/7)*4) -> 0.081775701 | M38: =E38/((214/7)*4) -> 0 | N38: =F38/((214/7)*4) -> 0 | O38: =G38/((214/7)*4) -> 0 | Q38: =I38 -> Transformer Replacement 5 | R38: =J38 -> 0 | S38: =K38 -> 0 | T38: =L38 -> 0.081775701 | U38: =M38 -> 0 | V38: =F38/((214/7)*5) -> 0 | W38: =G38/((214/7)*5) -> 0
A39: Transformer Replacement 6 | E39: 0 | I39: =A39 -> Transformer Replacement 6 | J39: =B39/((214/7)*4) -> 0 | K39: =C39/((214/7)*4) -> 0 | L39: =D39/((214/7)*4) -> 0 | M39: =E39/((214/7)*4) -> 0 | N39: =F39/((214/7)*4) -> 0 | O39: =G39/((214/7)*4) -> 0 | Q39: =I39 -> Transformer Replacement 6 | R39: =J39 -> 0 | S39: =K39 -> 0 | T39: =L39 -> 0 | U39: =M39 -> 0 | V39: =F39/((214/7)*5) -> 0 | W39: =G39/((214/7)*5) -> 0
A40: Transformer Replacement 7 | E40: 10 | I40: =A40 -> Transformer Replacement 7 | J40: =B40/((214/7)*4) -> 0 | K40: =C40/((214/7)*4) -> 0 | L40: =D40/((214/7)*4) -> 0 | M40: =E40/((214/7)*4) -> 0.081775701 | N40: =F40/((214/7)*4) -> 0 | O40: =G40/((214/7)*4) -> 0 | Q40: =I40 -> Transformer Replacement 7 | R40: =J40 -> 0 | S40: =K40 -> 0 | T40: =L40 -> 0 | U40: =M40 -> 0.081775701 | V40: =F40/((214/7)*5) -> 0 | W40: =G40/((214/7)*5) -> 0
A41: Transformer Replacement 8 | E41: 10 | I41: =A41 -> Transformer Replacement 8 | J41: =B41/(52*4) -> 0 | K41: =C41/(52*4) -> 0 | L41: =D41/(52*4) -> 0 | M41: =E41/((214/7)*4) -> 0.081775701 | N41: =F41/((214/7)*4) -> 0 | O41: =G41/((214/7)*4) -> 0 | Q41: =I41 -> Transformer Replacement 8 | R41: =J41 -> 0 | S41: =K41 -> 0 | T41: =L41 -> 0 | U41: =M41 -> 0.081775701 | V41: =F41/((214/7)*5) -> 0 | W41: =G41/((214/7)*5) -> 0
A42: Transformer Replacement 9 | F42: 10 | I42: =A42 -> Transformer Replacement 9 | J42: =B42/(52*4) -> 0 | K42: =C42/(52*4) -> 0 | L42: =D42/(52*4) -> 0 | M42: =E42/((214/7)*4) -> 0 | N42: =F42/((214/7)*4) -> 0.081775701 | O42: =G42/((214/7)*4) -> 0 | Q42: =I42 -> Transformer Replacement 9 | R42: =J42 -> 0 | S42: =K42 -> 0 | T42: =L42 -> 0 | U42: =M42 -> 0 | V42: =F42/((214/7)*5) -> 0.065420561 | W42: =G42/((214/7)*5) -> 0
A43: Transformer Replacement 10 | F43: 10 | I43: =A43 -> Transformer Replacement 10 | J43: =B43/(52*4) -> 0 | K43: =C43/(52*4) -> 0 | L43: =D43/(52*4) -> 0 | M43: =E43/((214/7)*4) -> 0 | N43: =F43/((214/7)*4) -> 0.081775701 | O43: =G43/((214/7)*4) -> 0 | Q43: =I43 -> Transformer Replacement 10 | R43: =J43 -> 0 | S43: =K43 -> 0 | T43: =L43 -> 0 | U43: =M43 -> 0 | V43: =F43/((214/7)*5) -> 0.065420561 | W43: =G43/((214/7)*5) -> 0
A44: Transformer Replacement 11 | F44: 10 | I44: =A44 -> Transformer Replacement 11 | J44: =B44/(52*4) -> 0 | K44: =C44/(52*4) -> 0 | L44: =D44/(52*4) -> 0 | M44: =E44/((214/7)*4) -> 0 | N44: =F44/((214/7)*4) -> 0.081775701 | O44: =G44/((214/7)*4) -> 0 | Q44: =I44 -> Transformer Replacement 11 | R44: =J44 -> 0 | S44: =K44 -> 0 | T44: =L44 -> 0 | U44: =M44 -> 0 | V44: =F44/((214/7)*5) -> 0.065420561 | W44: =G44/((214/7)*5) -> 0
...

Sheet Usage Type Data (MAY-NOV)
C1: January | G1: February | K1: March | P1: April | T1: May | X1: June | AC1: July | AG1: August | AK1: September | AP1: October | AT1: November | AX1: December
C2: 6 | D2: 13 | E2: 20 | F2: 27 | G2: 3 | H2: 10 | I2: 17 | J2: 24 | K2: 3 | L2: 10 | M2: 17 | N2: 24 | O2: 31 | P2: 7 | Q2: 14 | R2: 21 | S2: 28 | T2: 5 | U2: 12 | V2: 19 | W2: 26 | X2: 2 | Y2: 9 | Z2: 17 | AA2: 24 | AB2: 1 | AC2: 8 | AD2: 15 | AE2: 22 | AF2: 29 | AG2: 5 | AH2: 12 | AI2: 19 | AJ2: 26 | AK2: 2 | AL2: 9 | AM2: 16 | AN2: 23 | AO2: 30 | AP2: 7 | AQ2: 14 | AR2: 21 | AS2: 28 | AT2: 4 | AU2: 11 | AV2: 18 | AW2: 25 | AX2: 2 | AY2: 9 | AZ2: 16 | BA2: 23 | BB2: 30 | BG2: WEEKS
A3: 2025 Project Schedule | BF3: Year | BG3: Spare (S) | BH3: Portable Maintenance (M) | BI3: Portable Substation Repairs (R) | BJ3: Transformer Maintenance (T) | BK3: Capital (C) | BL3: Others (O) | BM3: Emergency (E) | BN3: Multipurpose (T/C) | BO3: Sum Excluding maintenance and spare
BF4: 2025 | BG4: =COUNTIF($S$5:$AW$8,"S") -> 51 | BH4: =COUNTIF($S$5:$AW$8,"M") -> 12 | BI4: =COUNTIF($S$5:$AW$8,"R") -> 0 | BJ4: =COUNTIF($S$5:$AW$8,"T") -> 27 | BK4: =COUNTIF($S$5:$AW$8,"C") -> 24 | BL4: =COUNTIF($S$5:$AW$8,"O") -> 10 | BM4: =COUNTIF($S$5:$AW$8,"E") -> 0 | BN4: =COUNTIF($S$5:$AW$8,"T/C") -> 0 | BO4: =SUM(BJ4:BN4) -> 61 | BP4: =BO4/(214/7*4) -> 0.49883178
A5: Portable Schedule | B5: P1 | C5: S | D5: S | E5: S | F5: S | G5: S | H5: S | I5: S | J5: S | K5: S | L5: S | M5: M | N5: M | O5: M | P5: M | Q5: M | R5: M | S5: M | T5: M | U5: M | V5: M | W5: M | X5: S | Y5: S | Z5: S | AA5: S | AB5: S | AC5: S | AD5: T | AE5: T | AF5: T | AG5: T | AH5: T | AI5: T | AJ5: O | AK5: O | AL5: O | AM5: O | AN5: S | AO5: S | AP5: S | AQ5: S | AR5: S | AS5: S | AT5: S | AU5: S | AV5: T | AW5: T | AX5: T | AY5: T | AZ5: S | BA5: S | BB5: S | BF5: 2024 | BG5: =COUNTIF($S$13:$AW$16,"S") -> 71 | BH5: =COUNTIF($S$13:$AW$16,"M") -> 11 | BI5: =COUNTIF($S$13:$AW$16,"R") -> 0 | BJ5: =COUNTIF($S$13:$AW$16,"T") -> 17 | BK5: =COUNTIF($S$13:$AW$16,"C") -> 19 | BL5: =COUNTIF($S$13:$AW$16,"O") -> 0 | BM5: =COUNTIF($S$13:$AW$16,"E") -> 6 | BN5: =COUNTIF($S$13:$AW$16,"T/C") -> 0 | BO5: =SUM(BJ5:BN5) -> 42 | BP5: =BO5/(214/7*4) -> 0.34345794
B6: P3 | C6: S | D6: M | E6: M | F6: M | G6: M | H6: M | I6: M | J6: M | K6: M | L6: M | M6: S | N6: S | O6: S | P6: S | Q6: S | R6: S | S6: T | T6: T | U6: T | V6: T | W6: T | X6: T | Y6: S | Z6: S | AA6: S | AB6: S | AC6: S | AD6: S | AE6: S | AF6: S | AG6: S | AH6: S | AI6: S | AJ6: S | AK6: S | AL6: S | AM6: S | AN6: S | AO6: S | AP6: S | AQ6: T | AR6: T | AS6: T | AT6: T | AU6: T | AV6: T | AW6: S | AX6: S | AY6: S | AZ6: S | BA6: S | BB6: S | BF6: 2023 | BG6: =COUNTIF($S$23:$AW$26,"S") -> 35 | BH6: =COUNTIF($S$23:$AW$26,"M") -> 6 | BI6: =COUNTIF($S$23:$AW$26,"R") -> 0 | BJ6: =COUNTIF($S$23:$AW$26,"T") -> 27 | BK6: =COUNTIF($S$23:$AW$26,"C") -> 53 | BL6: =COUNTIF($S$23:$AW$26,"O") -> 3 | BM6: =COUNTIF($S$23:$AW$26,"E") -> 0 | BN6: =COUNTIF($S$23:$AW$26,"T/C") -> 0 | BO6: =SUM(BJ6:BN6) -> 83 | BP6: =BO6/(214/7*4) -> 0.67873832
B7: P4 | C7: S | D7: S | E7: S | F7: S | G7: S | H7: S | I7: O | J7: O | K7: O | L7: O | M7: O | N7: O | O7: O | P7: O | Q7: O | R7: O | S7: O | T7: O | U7: O | V7: O | W7: O | X7: O | Y7: S | Z7: S | AA7: S | AB7: S | AC7: S | AD7: S | AE7: S | AF7: S | AG7: S | AH7: S | AI7: S | AJ7: T | AK7: T | AL7: T | AM7: T | AN7: T | AO7: T | AP7: T | AQ7: M | AR7: M | AS7: M | AT7: M | AU7: M | AV7: M | AW7: S | AX7: S | AY7: S | AZ7: S | BA7: S | BB7: S | BF7: 2022 | BG7: =COUNTIF($S$33:$AW$36,"S") -> 53 | BH7: =COUNTIF($S$33:$AW$36,"M") -> 3 | BI7: =COUNTIF($S$33:$AW$36,"R") -> 0 | BJ7: =COUNTIF($S$33:$AW$36,"T") -> 11 | BK7: =COUNTIF($S$33:$AW$36,"C") -> 31 | BL7: =COUNTIF($S$33:$AW$36,"O") -> 14 | BM7: =COUNTIF($S$33:$AW$36,"E") -> 0 | BN7: =COUNTIF($S$33:$AW$36,"T/C") -> 12 | BO7: =SUM(BJ7:BN7) -> 68 | BP7: =BO7/(214/7*4) -> 0.55607477
B8: P5 | C8: S | D8: S | E8: S | F8: S | G8: S | H8: S | I8: S | J8: S | K8: S | L8: S | M8: S | N8: S | O8: S | P8: S | Q8: S | R8: S | S8: S | T8: S | U8: C | V8: C | W8: C | X8: C | Y8: C | Z8: C | AA8: C | AB8: C | AC8: C | AD8: C | AE8: C | AF8: C | AG8: C | AH8: C | AI8: C | AJ8: C | AK8: C | AL8: C | AM8: C | AN8: C | AO8: C | AP8: C | AQ8: C | AR8: C | AS8: S | AT8: S | AU8: S | AV8: S | AW8: M | AX8: M | AY8: M | AZ8: M | BA8: M | BB8: M | BF8: 2021 | BG8: =COUNTIF($S$43:$AW$46,"S") -> 42 | BH8: =COUNTIF($S$43:$AW$46,"M") -> 29 | BI8: =COUNTIF($S$43:$AW$46,"R") -> 13 | BJ8: =COUNTIF($S$43:$AW$46,"T") -> 1 | BK8: =COUNTIF($S$43:$AW$46,"C") -> 25 | BL8: =COUNTIF($S$43:$AW$46,"O") -> 1 | BM8: =COUNTIF($S$43:$AW$46,"E") -> 0 | BN8: =COUNTIF($S$43:$AW$46,"T/C") -> 13 | BO8: =SUM(BJ8:BN8) -> 40 | BP8: =BO8/(214/7*4) -> 0.3271028
BF9: Total | BG9: =SUM(BG4:BG8) -> 252 | BH9: =SUM(BH4:BH8) -> 61 | BI9: =SUM(BI4:BI8) -> 13 | BJ9: =SUM(BJ4:BJ8) -> 83 | BK9: =SUM(BK4:BK8) -> 152 | BL9: =SUM(BL4:BL8) -> 28 | BM9: =SUM(BM4:BM8) -> 6 | BN9: =SUM(BN4:BN8) -> 25 | BO9: =SUM(BJ4:BN8) -> 294
BF10: Percentage | BJ10: =BJ9/$BO$9 -> 0.28231293 | BK10: =BK9/$BO$9 -> 0.5170068 | BL10: =BL9/$BO$9 -> 0.095238095 | BM10: =BM9/$BO$9 -> 0.020408163 | BN10: =BN9/$BO$9 -> 0.085034014
A11: 2024 Project Schedule
A13: Portable Schedule | B13: P1 | C13: S | D13: S | E13: S | F13: S | G13: S | H13: S | I13: S | J13: S | K13: S | L13: S | M13: S | N13: S | O13: S | P13: S | Q13: S | R13: S | S13: S | T13: S | U13: S | V13: S | W13: S | X13: M | Y13: M | Z13: M | AA13: M | AB13: M | AC13: M | AD13: T | AE13: T | AF13: T | AG13: T | AH13: E | AI13: E | AJ13: E | AK13: E | AL13: E | AM13: E | AN13: S | AO13: S | AP13: S | AQ13: S | AR13: S | AS13: C | AT13: C | AU13: C | AV13: C | AW13: C | AX13: C | AY13: S | AZ13: S | BA13: S | BB13: S
B14: P3 | C14: S | D14: S | E14: O | F14: O | G14: O | H14: O | I14: O | J14: O | K14: O | L14: O | M14: O | N14: O | O14: O | P14: O | Q14: O | R14: M | S14: M | T14: M | U14: M | V14: M | W14: M | X14: S | Y14: S | Z14: S | AA14: S | AB14: S | AC14: S | AD14: S | AE14: S | AF14: S | AG14: T | AH14: T | AI14: T | AJ14: T | AK14: T | AL14: T | AM14: S | AN14: S | AO14: S | AP14: S | AQ14: S | AR14: S | AS14: S | AT14: S | AU14: S | AV14: S | AW14: S | AX14: S | AY14: S | AZ14: S | BA14: S | BB14: S | BF14: =BF3 -> Year | BG14: =BG3 -> Spare (S) | BH14: =BH3 -> Portable Maintenance (M) | BI14: =BI3 -> Portable Substation Repairs (R) | BJ14: =BJ3 -> Transformer Maintenance (T) | BK14: =BK3 -> Capital (C) | BL14: =BL3 -> Others (O) | BM14: =BM3 -> Emergency (E) | ... BO14: =BO3 -> Sum Excluding maintenance and spare
B15: P4 | C15: S | D15: S | E15: M | F15: M | G15: M | H15: M | I15: M | J15: M | K15: M | L15: S | M15: S | N15: S | O15: S | P15: S | Q15: S | R15: S | S15: S | T15: S | U15: S | V15: T | W15: T | X15: T | Y15: T | Z15: T | AA15: T | AB15: T | AC15: C | AD15: C | AE15: C | AF15: C | AG15: S | AH15: S | AI15: S | AJ15: S | AK15: S | AL15: S | AM15: S | AN15: C | AO15: C | AP15: C | AQ15: C | AR15: C | AS15: C | AT15: C | AU15: C | AV15: C | AW15: C | AX15: C | AY15: S | AZ15: S | BA15: S | BB15: S | BF15: =BF4 -> 2025 | BG15: =BG4/(214/7*4) -> 0.41705607 | BH15: =BH4/(214/7*4) -> 0.098130841 | BI15: =BI4/(214/7*4) -> 0 | BJ15: =BJ4/(214/7*4) -> 0.22079439 | BK15: =BK4/(214/7*4) -> 0.19626168 | BL15: =BL4/(214/7*4) -> 0.081775701 | BM15: =BM4/(214/7*4) -> 0 | BN15: =BN4/(214/7*4) -> 0 | BO15: =BO4/(214/7*4) -> 0.49883178
B16: P5 | C16: C | D16: C | E16: C | F16: C | G16: C | H16: C | I16: C | J16: C | K16: C | L16: C | M16: C | N16: C | O16: C | P16: C | Q16: C | R16: S | S16: S | T16: S | U16: S | V16: S | W16: S | X16: S | Y16: S | Z16: S | AA16: S | AB16: S | AC16: S | AD16: S | AE16: S | AF16: S | AG16: S | AH16: S | AI16: S | AJ16: S | AK16: S | AL16: S | AM16: S | AN16: S | AO16: S | AP16: S | AQ16: S | AR16: S | AS16: S | AT16: S | AU16: S | AV16: S | AW16: S | AX16: S | AY16: S | AZ16: S | BA16: S | BB16: S | BF16: =BF5 -> 2024 | BG16: =BG5/(214/7*4) -> 0.58060748 | BH16: =BH5/(214/7*4) -> 0.089953271 | BI16: =BI5/(214/7*4) -> 0 | BJ16: =BJ5/(214/7*4) -> 0.13901869 | BK16: =BK5/(214/7*4) -> 0.15537383 | BL16: =BL5/(214/7*4) -> 0 | BM16: =BM5/(214/7*4) -> 0.049065421 | BN16: =BN5/(214/7*4) -> 0 | BO16: =BO5/(214/7*4) -> 0.34345794
BF17: =BF6 -> 2023 | BG17: =BG6/(214/7*4) -> 0.28621495 | BH17: =BH6/(214/7*4) -> 0.049065421 | BI17: =BI6/(214/7*4) -> 0 | BJ17: =BJ6/(214/7*4) -> 0.22079439 | BK17: =BK6/(214/7*4) -> 0.43341121 | BL17: =BL6/(214/7*4) -> 0.02453271 | BM17: =BM6/(214/7*4) -> 0 | BN17: =BN6/(214/7*4) -> 0 | BO17: =BO6/(214/7*4) -> 0.67873832
BF18: =BF7 -> 2022 | BG18: =BG7/(214/7*4) -> 0.43341121 | BH18: =BH7/(214/7*4) -> 0.02453271 | BI18: =BI7/(214/7*4) -> 0 | BJ18: =BJ7/(214/7*4) -> 0.089953271 | BK18: =BK7/(214/7*4) -> 0.25350467 | BL18: =BL7/(214/7*4) -> 0.11448598 | BM18: =BM7/(214/7*4) -> 0 | BN18: =BN7/(214/7*4) -> 0.098130841 | BO18: =BO7/(214/7*4) -> 0.55607477
BF19: =BF8 -> 2021 | BG19: =BG8/(214/7*4) -> 0.34345794 | BH19: =BH8/(214/7*4) -> 0.23714953 | BI19: =BI8/(214/7*4) -> 0.10630841 | BJ19: =BJ8/(214/7*4) -> 0.0081775701 | BK19: =BK8/(214/7*4) -> 0.20443925 | BL19: =BL8/(214/7*4) -> 0.0081775701 | BM19: =BM8/(214/7*4) -> 0 | BN19: =BN8/(214/7*4) -> 0.10630841 | BO19: =BO8/(214/7*4) -> 0.3271028
BF20: =BF9 -> Total | BG20: =BG9 -> 252 | BH20: =BH9 -> 61 | BI20: =BI9 -> 13 | BJ20: =BJ9 -> 83 | BK20: =BK9 -> 152 | BL20: =BL9 -> 28 | BM20: =BM9 -> 6 | ... BO20: =BO9 -> 294
A21: 2023 Project Schedule
A23: Portable Schedule | B23: P1 | C23: S | D23: S | E23: S | F23: S | G23: S | H23: S | I23: S | J23: S | K23: C | L23: C | M23: C | N23: C | O23: C | P23: C | Q23: C | R23: C | S23: S | T23: S | U23: S | V23: T | W23: T | X23: T | Y23: T | Z23: T | AA23: T | AB23: T | AC23: T | AD23: T | AE23: T | AF23: T | AG23: T | AH23: T | AI23: T | AJ23: S | AK23: S | AL23: S | AM23: S | AN23: M | AO23: M | AP23: M | AQ23: M | AR23: M | AS23: M | AT23: O | AU23: O | AV23: O | AW23: S | AX23: S | AY23: S | AZ23: S | BA23: S | BB23: S
B24: P3 | C24: S | D24: S | E24: S | F24: S | G24: S | H24: S | I24: S | J24: E | K24: E | L24: E | M24: E | N24: E | O24: E | P24: E | Q24: E | R24: E | S24: S | T24: S | U24: S | V24: S | W24: S | X24: S | Y24: T | Z24: T | AA24: T | AB24: T | AC24: T | AD24: T | AE24: T | AF24: C | AG24: C | AH24: C | AI24: C | AJ24: C | AK24: S | AL24: S | AM24: S | AN24: S | AO24: S | AP24: S | AQ24: S | AR24: S | AS24: S | AT24: S | AU24: S | AV24: S | AW24: C | AX24: C | AY24: C | AZ24: C | BA24: C | BB24: S
B25: P4 | C25: M | D25: M | E25: M | F25: M | G25: M | H25: M | I25: M | J25: M | K25: M | L25: S | M25: S | N25: S | O25: S | P25: S | Q25: S | R25: T | S25: T | T25: T | U25: T | V25: T | W25: T | X25: T | Y25: S | Z25: S | AA25: S | AB25: S | AC25: S | AD25: S | AE25: S | AF25: C | AG25: C | AH25: C | AI25: C | AJ25: C | AK25: C | AL25: C | AM25: C | AN25: C | AO25: C | AP25: C | AQ25: C | AR25: C | AS25: S | AT25: S | AU25: C | AV25: C | AW25: C | AX25: S | AY25: S | AZ25: S | BA25: S | BB25: S
B26: P5 | C26: S | D26: S | E26: S | F26: S | G26: S | H26: S | I26: S | J26: S | K26: M | L26: M | M26: M | N26: M | O26: M | P26: M | Q26: S | R26: S | S26: C | T26: C | U26: C | V26: C | W26: C | X26: C | Y26: C | Z26: C | AA26: C | AB26: C | AC26: C | AD26: C | AE26: C | AF26: C | AG26: C | AH26: C | AI26: C | AJ26: C | AK26: C | AL26: C | AM26: C | AN26: C | AO26: C | AP26: C | AQ26: C | AR26: C | AS26: C | AT26: C | AU26: C | AV26: C | AW26: C | AX26: C | AY26: C | AZ26: C | BA26: C | BB26: C
A31: 2022 Project Schedule
A33: Portable Schedule | B33: P1 | C33: S | D33: S | E33: S | F33: S | G33: S | H33: M | I33: M | J33: M | K33: M | L33: M | M33: M | N33: S | O33: S | P33: S | Q33: S | R33: S | S33: S | T33: T | U33: T | V33: T | W33: T | X33: T | Y33: O | Z33: O | AA33: O | AB33: O | AC33: O | AD33: O | AE33: O | AF33: O | AG33: O | AH33: S | AI33: S | AJ33: S | AK33: S | AL33: C | AM33: C | AN33: C | AO33: S | AP33: S | AQ33: S | AR33: O | AS33: O | AT33: O | AU33: O | AV33: O | AW33: S | AX33: S | AY33: S | AZ33: S | BA33: S | BB33: S
B34: P3 | C34: O | D34: O | E34: O | F34: O | G34: O | H34: O | I34: O | J34: O | K34: O | L34: O | M34: O | N34: O | O34: O | P34: M | Q34: M | R34: M | S34: M | T34: M | U34: M | V34: S | W34: S | X34: S | Y34: S | Z34: S | AA34: T/C | AB34: T/C | AC34: T/C | AD34: T/C | AE34: T/C | AF34: T/C | AG34: S | AH34: S | AI34: T | AJ34: T | AK34: T | AL34: T | AM34: T | AN34: T | AO34: S | AP34: S | AQ34: S | AR34: S | AS34: S | AT34: S | AU34: S | AV34: S | AW34: S | AX34: S | AY34: S | AZ34: S | BA34: S | BB34: S
B35: P4 | C35: M | D35: M | E35: M | F35: M | G35: M | H35: S | I35: S | J35: S | K35: S | L35: S | M35: S | N35: S | O35: S | P35: S | Q35: S | R35: S | S35: C | T35: C | U35: C | V35: C | W35: C | X35: C | Y35: C | Z35: C | AA35: C | AB35: S | AC35: S | AD35: S | AE35: S | AF35: S | AG35: S | AH35: S | AI35: S | AJ35: S | AK35: S | AL35: S | AM35: S | AN35: S | AO35: S | AP35: T/C | AQ35: T/C | AR35: T/C | AS35: T/C | AT35: T/C | AU35: T/C | AV35: S | AW35: S | AX35: S | AY35: S | AZ35: S | BA35: S | BB35: S
B36: P5 | C36: S | D36: S | E36: S | F36: S | G36: S | H36: S | I36: S | J36: M | K36: M | L36: M | M36: M | N36: M | O36: M | P36: S | Q36: S | R36: S | S36: S | T36: S | U36: S | V36: S | W36: S | X36: S | Y36: S | Z36: S | AA36: S | AB36: S | AC36: S | AD36: S | AE36: C | AF36: C | AG36: C | AH36: C | AI36: C | AJ36: C | AK36: C | AL36: C | AM36: C | AN36: C | AO36: C | AP36: C | AQ36: C | AR36: C | AS36: C | AT36: C | AU36: C | AV36: C | AW36: C | AX36: C | AY36: C | AZ36: C | BA36: C | BB36: C
A41: 2021 Project Schedule
A43: Portable Schedule | B43: P1 | C43: S | D43: S | E43: S | F43: S | G43: S | H43: S | I43: S | J43: S | K43: S | L43: S | M43: M | N43: M | O43: M | P43: M | Q43: M | R43: M | S43: S | T43: C | U43: C | V43: C | W43: C | X43: C | Y43: C | Z43: C | AA43: C | AB43: C | AC43: C | AD43: S | AE43: S | AF43: S | AG43: S | AH43: C | AI43: C | AJ43: C | AK43: C | AL43: C | AM43: C | AN43: C | AO43: C | AP43: C | AQ43: C | AR43: C | AS43: C | AT43: C | AU43: C | AV43: C | AW43: O | AX43: O | AY43: O | AZ43: O | BA43: S | BB43: S
B44: P3 | C44: O | D44: O | E44: S | F44: S | G44: S | H44: S | I44: S | J44: S | K44: S | L44: S | M44: S | N44: S | O44: S | P44: S | Q44: S | R44: S | S44: S | T44: S | U44: S | V44: S | W44: T/C | X44: T/C | Y44: T/C | Z44: T/C | AA44: T/C | AB44: T/C | AC44: T/C | AD44: T/C | AE44: T/C | AF44: T/C | AG44: T/C | AH44: T/C | AI44: T/C | AJ44: R | AK44: R | AL44: R | AM44: R | AN44: R | AO44: R | AP44: R | AQ44: R | AR44: R | AS44: R | AT44: R | AU44: R | AV44: R | AW44: T | AX44: T | AY44: T | AZ44: T | BA44: S | BB44: S
B45: P4 | C45: S | D45: S | E45: M | F45: M | G45: M | H45: M | I45: M | J45: S | K45: S | L45: S | M45: S | N45: M | O45: M | P45: M | Q45: M | R45: M | S45: M | T45: M | U45: M | V45: M | W45: M | X45: M | Y45: M | Z45: M | AA45: M | AB45: M | AC45: M | AD45: M | AE45: M | AF45: M | AG45: M | AH45: M | AI45: M | AJ45: M | AK45: M | AL45: M | AM45: M | AN45: M | AO45: M | AP45: M | AQ45: M | AR45: M | AS45: M | AT45: M | AU45: M | AV45: S | AW45: S | AX45: S | AY45: S | AZ45: S | BA45: S | BB45: S
B46: P5 | C46: S | D46: S | E46: S | F46: S | G46: S | H46: S | I46: S | J46: M | K46: M | L46: M | M46: M | N46: M | O46: S | P46: S | Q46: S | R46: S | S46: S | T46: S | U46: S | V46: S | W46: S | X46: S | Y46: S | Z46: S | AA46: S | AB46: S | AC46: S | AD46: S | AE46: S | AF46: S | AG46: S | AH46: S | AI46: S | AJ46: S | AK46: S | AL46: S | AM46: S | AN46: S | AO46: S | AP46: S | AQ46: S | AR46: S | AS46: S | AT46: S | AU46: S | AV46: S | AW46: S | AX46: S | AY46: S | AZ46: S | BA46: S | BB46: S

Sheet Unavailability Data
A1: *DATA PULLED FROM USAGE TYPE DATA (MAY-NOV) SHEET
A2: 44197
B3: =TEXT(A2,"mmm") -> Jan | C3: =IF(TEXT(C5,"mmm")=TEXT(B5,"mmm"),"",TEXT(C5,"mmm")) | D3: =IF(TEXT(D5,"mmm")=TEXT(C5,"mmm"),"",TEXT(D5,"mmm")) | E3: =IF(TEXT(E5,"mmm")=TEXT(D5,"mmm"),"",TEXT(E5,"mmm")) | F3: =IF(TEXT(F5,"mmm")=TEXT(E5,"mmm"),"",TEXT(F5,"mmm")) | G3: =IF(TEXT(G5,"mmm")=TEXT(F5,"mmm"),"",TEXT(G5,"mmm")) | H3: =IF(TEXT(H5,"mmm")=TEXT(G5,"mmm"),"",TEXT(H5,"mmm")) | J3: =IF(TEXT(J5,"mmm")=TEXT(I5,"mmm"),"",TEXT(J5,"mmm")) | K3: =IF(TEXT(K5,"mmm")=TEXT(J5,"mmm"),"",TEXT(K5,"mmm")) | L3: =IF(TEXT(L5,"mmm")=TEXT(K5,"mmm"),"",TEXT(L5,"mmm")) | M3: =IF(TEXT(M5,"mmm")=TEXT(L5,"mmm"),"",TEXT(M5,"mmm")) | N3: =IF(TEXT(N5,"mmm")=TEXT(M5,"mmm"),"",TEXT(N5,"mmm")) | O3: =IF(TEXT(O5,"mmm")=TEXT(N5,"mmm"),"",TEXT(O5,"mmm")) | Q3: =IF(TEXT(Q5,"mmm")=TEXT(P5,"mmm"),"",TEXT(Q5,"mmm")) | R3: =IF(TEXT(R5,"mmm")=TEXT(Q5,"mmm"),"",TEXT(R5,"mmm")) | S3: =IF(TEXT(S5,"mmm")=TEXT(R5,"mmm"),"",TEXT(S5,"mmm")) | T3: =IF(TEXT(T5,"mmm")=TEXT(S5,"mmm"),"",TEXT(T5,"mmm")) | U3: =IF(TEXT(U5,"mmm")=TEXT(T5,"mmm"),"",TEXT(U5,"mmm")) | V3: =IF(TEXT(V5,"mmm")=TEXT(U5,"mmm"),"",TEXT(V5,"mmm")) | X3: =IF(TEXT(X5,"mmm")=TEXT(W5,"mmm"),"",TEXT(X5,"mmm")) | Y3: =IF(TEXT(Y5,"mmm")=TEXT(X5,"mmm"),"",TEXT(Y5,"mmm")) | Z3: =IF(TEXT(Z5,"mmm")=TEXT(Y5,"mmm"),"",TEXT(Z5,"mmm")) | AA3: =IF(TEXT(AA5,"mmm")=TEXT(Z5,"mmm"),"",TEXT(AA5,"mmm")) | AB3: =IF(TEXT(AB5,"mmm")=TEXT(AA5,"mmm"),"",TEXT(AB5,"mmm")) | AC3: =IF(TEXT(AC5,"mmm")=TEXT(AB5,"mmm"),"",TEXT(AC5,"mmm")) | AE3: =IF(TEXT(AE5,"mmm")=TEXT(AD5,"mmm"),"",TEXT(AE5,"mmm")) | AF3: =IF(TEXT(AF5,"mmm")=TEXT(AE5,"mmm"),"",TEXT(AF5,"mmm")) | AG3: =IF(TEXT(AG5,"mmm")=TEXT(AF5,"mmm"),"",TEXT(AG5,"mmm")) -> Feb | AH3: =IF(TEXT(AH5,"mmm")=TEXT(AG5,"mmm"),"",TEXT(AH5,"mmm")) | AI3: =IF(TEXT(AI5,"mmm")=TEXT(AH5,"mmm"),"",TEXT(AI5,"mmm")) | AJ3: =IF(TEXT(AJ5,"mmm")=TEXT(AI5,"mmm"),"",TEXT(AJ5,"mmm")) | AL3: =IF(TEXT(AL5,"mmm")=TEXT(AK5,"mmm"),"",TEXT(AL5,"mmm")) | AM3: =IF(TEXT(AM5,"mmm")=TEXT(AL5,"mmm"),"",TEXT(AM5,"mmm")) | AN3: =IF(TEXT(AN5,"mmm")=TEXT(AM5,"mmm"),"",TEXT(AN5,"mmm")) | AO3: =IF(TEXT(AO5,"mmm")=TEXT(AN5,"mmm"),"",TEXT(AO5,"mmm")) | AP3: =IF(TEXT(AP5,"mmm")=TEXT(AO5,"mmm"),"",TEXT(AP5,"mmm")) | AQ3: =IF(TEXT(AQ5,"mmm")=TEXT(AP5,"mmm"),"",TEXT(AQ5,"mmm")) | AS3: =IF(TEXT(AS5,"mmm")=TEXT(AR5,"mmm"),"",TEXT(AS5,"mmm")) | AT3: =IF(TEXT(AT5,"mmm")=TEXT(AS5,"mmm"),"",TEXT(AT5,"mmm")) | AU3: =IF(TEXT(AU5,"mmm")=TEXT(AT5,"mmm"),"",TEXT(AU5,"mmm")) | AV3: =IF(TEXT(AV5,"mmm")=TEXT(AU5,"mmm"),"",TEXT(AV5,"mmm")) | AW3: =IF(TEXT(AW5,"mmm")=TEXT(AV5,"mmm"),"",TEXT(AW5,"mmm")) | AX3: =IF(TEXT(AX5,"mmm")=TEXT(AW5,"mmm"),"",TEXT(AX5,"mmm")) | AZ3: =IF(TEXT(AZ5,"mmm")=TEXT(AY5,"mmm"),"",TEXT(AZ5,"mmm")) | BA3: =IF(TEXT(BA5,"mmm")=TEXT(AZ5,"mmm"),"",TEXT(BA5,"mmm")) | BB3: =IF(TEXT(BB5,"mmm")=TEXT(BA5,"mmm"),"",TEXT(BB5,"mmm")) | BC3: =IF(TEXT(BC5,"mmm")=TEXT(BB5,"mmm"),"",TEXT(BC5,"mmm")) | BD3: =IF(TEXT(BD5,"mmm")=TEXT(BC5,"mmm"),"",TEXT(BD5,"mmm")) | BE3: =IF(TEXT(BE5,"mmm")=TEXT(BD5,"mmm"),"",TEXT(BE5,"mmm")) | BG3: =IF(TEXT(BG5,"mmm")=TEXT(BF5,"mmm"),"",TEXT(BG5,"mmm")) | BH3: =IF(TEXT(BH5,"mmm")=TEXT(BG5,"mmm"),"",TEXT(BH5,"mmm")) | BI3: =IF(TEXT(BI5,"mmm")=TEXT(BH5,"mmm"),"",TEXT(BI5,"mmm")) -> Mar | BJ3: =IF(TEXT(BJ5,"mmm")=TEXT(BI5,"mmm"),"",TEXT(BJ5,"mmm")) | BK3: =IF(TEXT(BK5,"mmm")=TEXT(BJ5,"mmm"),"",TEXT(BK5,"mmm")) | CN3: =IF(TEXT(CN5,"mmm")=TEXT(CM5,"mmm"),"",TEXT(CN5,"mmm")) -> Apr | DR3: =IF(TEXT(DR5,"mmm")=TEXT(DQ5,"mmm"),"",TEXT(DR5,"mmm")) -> May | EW3: =IF(TEXT(EW5,"mmm")=TEXT(EV5,"mmm"),"",TEXT(EW5,"mmm")) -> Jun | EX3: =IF(TEXT(EX5,"mmm")=TEXT(EW5,"mmm"),"",TEXT(EX5,"mmm")) | FX3: =IF(TEXT(FX5,"mmm")=TEXT(FW5,"mmm"),"",TEXT(FX5,"mmm")) | FY3: =IF(TEXT(FY5,"mmm")=TEXT(FX5,"mmm"),"",TEXT(FY5,"mmm")) | FZ3: =IF(TEXT(FZ5,"mmm")=TEXT(FY5,"mmm"),"",TEXT(FZ5,"mmm")) | GA3: =IF(TEXT(GA5,"mmm")=TEXT(FZ5,"mmm"),"",TEXT(GA5,"mmm")) -> Jul | HF3: =IF(TEXT(HF5,"mmm")=TEXT(HE5,"mmm"),"",TEXT(HF5,"mmm")) -> Aug | HG3: =IF(TEXT(HG5,"mmm")=TEXT(HF5,"mmm"),"",TEXT(HG5,"mmm")) | HH3: =IF(TEXT(HH5,"mmm")=TEXT(HG5,"mmm"),"",TEXT(HH5,"mmm")) | HI3: =IF(TEXT(HI5,"mmm")=TEXT(HH5,"mmm"),"",TEXT(HI5,"mmm")) | IK3: =IF(TEXT(IK5,"mmm")=TEXT(IJ5,"mmm"),"",TEXT(IK5,"mmm")) -> Sep | JN3: =IF(TEXT(JN5,"mmm")=TEXT(JM5,"mmm"),"",TEXT(JN5,"mmm")) | JO3: =TEXT(JO5,"mmm") -> Oct | JP3: =IF(TEXT(JP5,"mmm")=TEXT(JO5,"mmm"),"",TEXT(JP5,"mmm")) | JQ3: =IF(TEXT(JQ5,"mmm")=TEXT(JP5,"mmm"),"",TEXT(JQ5,"mmm")) | JR3: =IF(TEXT(JR5,"mmm")=TEXT(JQ5,"mmm"),"",TEXT(JR5,"mmm")) | JS3: =IF(TEXT(JS5,"mmm")=TEXT(JR5,"mmm"),"",TEXT(JS5,"mmm")) | JT3: =IF(TEXT(JT5,"mmm")=TEXT(JS5,"mmm"),"",TEXT(JT5,"mmm")) | KR3: =IF(TEXT(KR5,"mmm")=TEXT(KQ5,"mmm"),"",TEXT(KR5,"mmm")) | KS3: =IF(TEXT(KS5,"mmm")=TEXT(KR5,"mmm"),"",TEXT(KS5,"mmm")) | KT3: =IF(TEXT(KT5,"mmm")=TEXT(KS5,"mmm"),"",TEXT(KT5,"mmm")) -> Nov | KU3: =IF(TEXT(KU5,"mmm")=TEXT(KT5,"mmm"),"",TEXT(KU5,"mmm")) | KV3: =IF(TEXT(KV5,"mmm")=TEXT(KU5,"mmm"),"",TEXT(KV5,"mmm")) | KZ3: =IF(TEXT(KZ5,"mmm")=TEXT(KY5,"mmm"),"",TEXT(KZ5,"mmm")) | LW3: =IF(TEXT(LW5,"mmm")=TEXT(LV5,"mmm"),"",TEXT(LW5,"mmm")) | LX3: =IF(TEXT(LX5,"mmm")=TEXT(LW5,"mmm"),"",TEXT(LX5,"mmm")) -> Dec
A4: U = Unavailable | B4: =TEXT(A2,"aaa") -> Fri | C4: =TEXT(C5,"aaa") -> Sat | D4: =TEXT(D5,"aaa") -> Sun | E4: =TEXT(E5,"aaa") -> Mon | F4: =TEXT(F5,"aaa") -> Tue | G4: =TEXT(G5,"aaa") -> Wed | H4: =TEXT(H5,"aaa") -> Thu | I4: =TEXT(I5,"aaa") -> Fri | J4: =TEXT(J5,"aaa") -> Sat | ... NB4: =TEXT(NB5,"aaa") -> Fri
A5: Assigned to: | B5: =A2 -> 44197 | C5: =B5+1 -> 44198 | D5: =C5+1 -> 44199 | E5: =D5+1 -> 44200 | F5: =E5+1 -> 44201 | G5: =F5+1 -> 44202 | H5: =G5+1 -> 44203 | I5: =H5+1 -> 44204 | J5: =I5+1 -> 44205 | ... NB5: =NA5+1 -> 44561
A6: P1 | BW6: M | BX6: M | BY6: M | BZ6: M | CA6: M | CB6: M | CC6: M | CD6: M | CE6: M | CF6: M | CG6: M | CH6: M | CI6: M | CJ6: M | CK6: M | CL6: M | CM6: M | CN6: M | CO6: M | CP6: M | CQ6: M | CR6: M | CS6: M | CT6: M | CU6: M | CV6: M | CW6: M | CX6: M | CY6: M | CZ6: M | DA6: M | DB6: M | DC6: M | DD6: M | DE6: M | DF6: M | DG6: M | DH6: M | DI6: M | DJ6: M | DT6: U | DU6: U | DV6: U | DW6: U | DX6: U | DY6: U | DZ6: U | EA6: U | EB6: U | EC6: U | ED6: U | EE6: U | EF6: U | EG6: U | EH6: U | EI6: U | EJ6: U | EK6: U | EL6: U | EM6: U | EN6: U | EO6: U | EP6: U | EQ6: U | ER6: U | ES6: U | ET6: U | EU6: U | EV6: U | EW6: U | EX6: U | EY6: U | EZ6: U | FA6: U | FB6: U | FC6: U | FD6: U | FE6: U | FF6: U | FG6: U | FH6: U | FI6: U | FJ6: U | FK6: U | FL6: U | FM6: U | FN6: U | FO6: U | FP6: U | FQ6: U | FR6: U | FS6: U | FT6: U | FU6: U | FV6: U | FW6: U | FX6: U | FY6: U | FZ6: U | GA6: U | GB6: U | GC6: U | GD6: U | GE6: U | GF6: U | GG6: U | GH6: U | HN6: U | HO6: U | HP6: U | HQ6: U | HR6: U | HS6: U | HT6: U | HU6: U | HV6: U | HW6: U | HX6: U | HY6: U | HZ6: U | IA6: U | IB6: U | IC6: U | ID6: U | IE6: U | IF6: U | IG6: U | IH6: U | II6: U | IJ6: U | IK6: U | IL6: U | IM6: U | IN6: U | IO6: U | IP6: U | IQ6: U | IR6: U | IS6: U | IT6: U | IU6: U | IV6: U | IW6: U | IX6: U | IY6: U | IZ6: U | JA6: U | JB6: U | JC6: U | JD6: U | JE6: U | JF6: U | JG6: U | JH6: U | JI6: U | JJ6: U | JK6: U | JL6: U | JM6: U | JN6: U | JO6: U | JP6: U | JQ6: U | JR6: U | JS6: U | JT6: U | JU6: U | JV6: U | JW6: U | JX6: U | JY6: U | JZ6: U | KA6: U | KB6: U | KC6: U | KD6: U | KE6: U | KF6: U | KG6: U | KH6: U | KI6: U | KJ6: U | KK6: U | KL6: U | KM6: U | KN6: U | KO6: U | KP6: U | KQ6: U | KR6: U | KS6: U | KT6: U | KU6: U | KV6: U | KW6: U | KX6: U | KY6: U | KZ6: U | LA6: U | LB6: U | LC6: U | LD6: U | LE6: U | LF6: U | LG6: U | LH6: U | LI6: U | LJ6: U | LK6: U | LL6: U | LO6: H | LP6: H | LQ6: H | LR6: H | LS6: H | LT6: H | LU6: H | LV6: H | LW6: H | LX6: H | LY6: H | LZ6: H | MA6: H | MB6: H | MC6: H | MD6: H | ME6: H | MF6: H | MG6: H | MH6: H | MI6: H | MJ6: H | MK6: H | ML6: H | MM6: H | MN6: H | NC6: YEAR END
A7: P3 | E7: H | F7: H | G7: H | H7: H | I7: H | J7: H | K7: H | L7: H | M7: H | N7: H | O7: H | P7: H | Q7: H | R7: H | S7: H | T7: H | U7: H | V7: H | W7: H | X7: H | Y7: H | Z7: H | AA7: H | AB7: H | AC7: H | AD7: H | AE7: H | AF7: H | AG7: H | AH7: H | AI7: H | AJ7: H | AK7: H | AL7: H | AM7: H | AN7: H | AO7: H | AP7: H | AQ7: H | AR7: H | AS7: H | AT7: H | AU7: H | AV7: H | AW7: H | AX7: H | AY7: H | AZ7: H | BA7: H | BB7: H | BC7: H | BD7: H | BE7: H | BF7: H | BG7: H | BH7: H | BI7: H | BJ7: H | BK7: H | BL7: H | BM7: H | BN7: H | BO7: H | BP7: H | BQ7: H | BR7: H | BS7: H | BT7: H | BU7: H | BV7: H | BW7: H | BX7: H | BY7: H | BZ7: H | CA7: H | CB7: H | CC7: H | CD7: H | CE7: H | CF7: H | CG7: H | CH7: H | CI7: H | CJ7: H | CK7: H | CL7: H | CM7: H | EO7: U | EP7: U | EQ7: U | ER7: U | ES7: U | ET7: U | EU7: U | EV7: U | EW7: U | EX7: U | EY7: U | EZ7: U | FA7: U | FB7: U | FC7: U | FD7: U | FE7: U | FF7: U | FG7: U | FH7: U | FI7: U | FJ7: U | FK7: U | FL7: U | FM7: U | FN7: U | FO7: U | FP7: U | FQ7: U | FR7: U | FS7: U | FT7: U | FU7: U | FV7: U | FW7: U | FX7: U | FY7: U | FZ7: U | GA7: U | GB7: U | GC7: U | GD7: U | GE7: U | GF7: U | GG7: U | GH7: U | GI7: U | GJ7: U | GK7: U | GL7: U | GM7: U | GN7: U | GO7: U | GP7: U | GQ7: U | GR7: U | GS7: U | GT7: U | GU7: U | GV7: U | GW7: U | GX7: U | GY7: U | GZ7: U | HA7: U | HB7: U | HC7: U | HD7: U | HE7: U | HF7: U | HG7: U | HH7: U | HI7: U | HJ7: U | HK7: U | HL7: U | HM7: U | HN7: U | HO7: U | HP7: U | HQ7: U | HR7: U | HS7: U | HT7: U | HU7: U | HV7: U | HW7: U | HX7: U | HY7: U | HZ7: U | IA7: U | IB7: U | IC7: U | ID7: U | IE7: U | IF7: U | IG7: U | IH7: U | II7: U | IJ7: U | IK7: U | IL7: U | IM7: U | IN7: U | IO7: U | IP7: U | IQ7: U | IR7: U | IS7: U | IT7: U | IU7: U | IV7: U | IW7: U | IX7: U | IY7: U | IZ7: U | JA7: U | JB7: U | JC7: U | JD7: U | JE7: U | JF7: U | JG7: U | JH7: U | JI7: U | JJ7: U | JK7: U | JL7: U | JM7: U | JN7: U | JO7: U | JP7: U | JQ7: U | JR7: U | JS7: U | JT7: U | JU7: U | JV7: U | JW7: U | JX7: U | JY7: U | JZ7: U | KA7: U | KB7: U | KC7: U | KD7: U | KE7: U | KF7: U | KG7: U | KH7: U | KI7: U | KJ7: U | KK7: U | KL7: U | KM7: U | KN7: U | KO7: U | KP7: U | KQ7: U | KR7: U | KS7: U | KT7: U | KU7: U | KV7: U | KW7: U | KX7: U | KY7: U | KZ7: U | LA7: U | LB7: U | LC7: U | LD7: U | LE7: U | LF7: U | LG7: U | LH7: U | LI7: U | LJ7: U | LK7: U | LL7: U | LM7: U | LN7: U | LO7: U | LP7: U | LQ7: U | LR7: U | LS7: U | LT7: U | LU7: U | LV7: U | LW7: U | LX7: U | LY7: U | LZ7: U | MA7: U | MB7: U | MC7: U | MD7: U | ME7: U | MF7: U | MG7: U | MH7: U | MI7: U | MJ7: U | MK7: U | ML7: U | MM7: U | MN7: U | NC7: YEAR END
A8: P4 | S8: M | T8: M | U8: M | V8: M | W8: M | X8: M | Y8: M | Z8: M | AA8: M | AB8: M | AC8: M | AD8: M | AE8: M | AF8: M | AG8: M | AH8: M | AI8: M | AJ8: M | AK8: M | AL8: M | AM8: M | AN8: M | AO8: M | AP8: M | AQ8: M | AR8: M | AS8: M | AT8: M | AU8: M | AV8: M | AW8: M | AX8: M | AY8: M | CD8: U | CE8: U | CF8: U | CG8: U | CH8: U | CI8: U | CJ8: U | CK8: U | CL8: U | CM8: U | CN8: U | CO8: U | CP8: U | CQ8: U | CR8: U | CS8: U | CT8: U | CU8: U | CV8: U | CW8: U | CX8: U | CY8: U | CZ8: U | DA8: U | DB8: U | DC8: U | DD8: U | DE8: U | DF8: U | DG8: U | DH8: U | DI8: U | DJ8: U | DK8: U | DL8: U | DM8: U | DN8: U | DO8: U | DP8: U | DQ8: U | DR8: U | DS8: U | DT8: U | DU8: U | DV8: U | DW8: U | DX8: U | DY8: U | DZ8: U | EA8: U | EB8: U | EC8: U | ED8: U | EE8: U | EF8: U | EG8: U | EH8: U | EI8: U | EJ8: U | EK8: U | EL8: U | EM8: U | EN8: U | EO8: U | EP8: U | EQ8: U | ER8: U | ES8: U | ET8: U | EU8: U | EV8: U | EW8: U | EX8: U | EY8: U | EZ8: U | FA8: U | FB8: U | FC8: U | FD8: U | FE8: U | FF8: U | FG8: U | FH8: U | FI8: U | FJ8: U | FK8: U | FL8: U | FM8: U | FN8: U | FO8: U | FP8: U | FQ8: U | FR8: U | FS8: U | FT8: U | FU8: U | FV8: U | FW8: U | FX8: U | FY8: U | FZ8: U | GA8: U | GB8: U | GC8: U | GD8: U | GE8: U | GF8: U | GG8: U | GH8: U | GI8: U | GJ8: U | GK8: U | GL8: U | GM8: U | GN8: U | GO8: U | GP8: U | GQ8: U | GR8: U | GS8: U | GT8: U | GU8: U | GV8: U | GW8: U | GX8: U | GY8: U | GZ8: U | HA8: U | HB8: U | HC8: U | HD8: U | HE8: U | HF8: U | HG8: U | HH8: U | HI8: U | HJ8: U | HK8: U | HL8: U | HM8: U | HN8: U | HO8: U | HP8: U | HQ8: U | HR8: U | HS8: U | HT8: U | HU8: U | HV8: U | HW8: U | HX8: U | HY8: U | HZ8: U | IA8: U | IB8: U | IC8: U | ID8: U | IE8: U | IF8: U | IG8: U | IH8: U | II8: U | IJ8: U | IK8: U | IL8: U | IM8: U | IN8: U | IO8: U | IP8: U | IQ8: U | IR8: U | IS8: U | IT8: U | IU8: U | IV8: U | IW8: U | IX8: U | IY8: U | IZ8: U | JA8: U | JB8: U | JC8: U | JD8: U | JE8: U | JF8: U | JG8: U | JH8: U | JI8: U | JJ8: U | JK8: U | JL8: U | JM8: U | JN8: U | JO8: U | JP8: U | JQ8: U | JR8: U | JS8: U | JT8: U | JU8: U | JV8: U | JW8: U | JX8: U | JY8: U | JZ8: U | KA8: U | KB8: U | KC8: U | KD8: U | KE8: U | KF8: U | KG8: U | KH8: U | KI8: U | KJ8: U | KK8: U | KL8: U | KM8: U | KN8: U | KO8: U | KP8: U | KQ8: U | KR8: U | KS8: U | KT8: U | KU8: U | KV8: U | KW8: U | KX8: U | KY8: U | KZ8: U | LA8: U | LB8: U | LC8: U | LD8: U | LE8: U | NC8: YEAR END
A9: P5 | BB9: M | BC9: M | BD9: M | BE9: M | BF9: M | BG9: M | BH9: M | BI9: M | BJ9: M | BK9: M | BL9: M | BM9: M | BN9: M | BO9: M | BP9: M | BQ9: M | BR9: M | BS9: M | BT9: M | BU9: M | BV9: M | BW9: M | BX9: M | BY9: M | BZ9: M | CA9: M | CB9: M | CC9: M | CD9: M | CE9: M | CF9: M | CG9: M | CH9: M | NC9: YEAR END
A11: 44562
